BEGIN:VCALENDAR
VERSION:2.0
PRODID:-//https://techplay.jp//JP
CALSCALE:GREGORIAN
METHOD:PUBLISH
X-WR-CALDESC:未だ止まらないPPAP廃止を検討する声。PPAP受信
 時に潜むサイバー攻撃の脅威とは！
X-WR-CALNAME:未だ止まらないPPAP廃止を検討する声。PPAP受信
 時に潜むサイバー攻撃の脅威とは！
X-WR-TIMEZONE:Asia/Tokyo
BEGIN:VTIMEZONE
TZID:Asia/Tokyo
BEGIN:STANDARD
DTSTART:19700101T000000
TZOFFSETFROM:+0900
TZOFFSETTO:+0900
TZNAME:JST
END:STANDARD
END:VTIMEZONE
BEGIN:VEVENT
UID:871056@techplay.jp
SUMMARY:未だ止まらないPPAP廃止を検討する声。PPAP受信時
 に潜むサイバー攻撃の脅威とは！
DTSTART;TZID=Asia/Tokyo:20220906T110000
DTEND;TZID=Asia/Tokyo:20220906T113000
DTSTAMP:20260420T205043Z
CREATED:20220825T013150Z
DESCRIPTION:イベント詳細はこちら\nhttps://techplay.jp/event/87105
 6?utm_medium=referral&utm_source=ics&utm_campaign=ics\n\n未だ止まら
 ないPPAP廃止を検討する声\nPPAP受信時に潜むサイバー攻
 撃の脅威とは！\n\n概要\n昨今、多くの企業様でPPAPの受
 信拒否が相次いで報告されております。今後、さらに
 受信拒否をされる企業様が増えてくることを予想し、
 送信の代替策を検討されている企業様が多くいますが
 、受信時のPPAP対策はすでに実施しているのでしょうか
 ？ 意外と見落としがちな部分であり、昨今話題のEMOTET
 感染の起因は、パスワード付きZipファイル、 いわゆる
 PPAPの手法を使った新たな感染が多数報告されておりま
 す。\n今回のセミナーでは、受信時の危険性・被害事
 例等も加え、 100円からできる送信も受信も安全にファ
 イルを授受するためのPPAP対策をご紹介いたします。\n
 セミナープログラム\n受信時の危険性・被害事例等も
 加え、 100円からできる送信も受信も安全にファイルを
 授受するためのPPAP対策をご紹介いたします\n\n昨今のPP
 AP利用状況・EMOTETの動向\n新たなEMOTET感染経路と被害事
 例\n多くの企業がPPAPを廃止する理由\n見逃しがちな受
 信PPAP対策\n安全で簡単な送受信方法\n弊社ソリューシ
 ョンのご案内\n質疑応答\n\nこんな方におすすめ！\n\nPPA
 Pを受信拒否された経験がある方\n業務上PPAPをご利用中
 の方\nこれからPPAP廃止をご検討中の方\n受信時のPPAP対
 策が未着手の方\nEMOTET対策をご検討中の方\n社内情報シ
 ステム・セキュリティご担当者様\n\n参加費\n無料\n注
 意事項\n\n競合他社様、参加対象以外の企業様からのお
 申し込みは、お断りさせていただく場合がございます
 。\nリクルーティング、勧誘など、採用目的でのイベ
 ント参加はお断りしております。\n無断キャンセルや
 欠席が続く場合、次回以降の参加をお断りさせていた
 だく場合がございます。\n
LOCATION:ビデオウェビナー「Zoom」
URL:https://techplay.jp/event/871056?utm_medium=referral&utm_source=ics&utm
 _campaign=ics
END:VEVENT
END:VCALENDAR
