BEGIN:VCALENDAR
VERSION:2.0
PRODID:-//https://techplay.jp//JP
CALSCALE:GREGORIAN
METHOD:PUBLISH
X-WR-CALDESC:Excelで学ぶデータ集計～PowerQuery～
X-WR-CALNAME:Excelで学ぶデータ集計～PowerQuery～
X-WR-TIMEZONE:Asia/Tokyo
BEGIN:VTIMEZONE
TZID:Asia/Tokyo
BEGIN:STANDARD
DTSTART:19700101T000000
TZOFFSETFROM:+0900
TZOFFSETTO:+0900
TZNAME:JST
END:STANDARD
END:VTIMEZONE
BEGIN:VEVENT
UID:871102@techplay.jp
SUMMARY:Excelで学ぶデータ集計～PowerQuery～
DTSTART;TZID=Asia/Tokyo:20220922T190000
DTEND;TZID=Asia/Tokyo:20220922T200000
DTSTAMP:20260420T142533Z
CREATED:20220825T061118Z
DESCRIPTION:イベント詳細はこちら\nhttps://techplay.jp/event/87110
 2?utm_medium=referral&utm_source=ics&utm_campaign=ics\n\nExcelで学ぶ
 データ集計～PowerQuery～\nクリーク･アンド･リバー社
 （C&R社）は、9月22日（木） に、日常的にExcelを使用し
 多くのデータを扱っている方を対象に、「Excelで学ぶ
 データ集計～PowerQuery～」を開催します。\nExcelでデー
 タの加工、集計、データ分析など、これまで必要に応
 じてご自身で調べたり、先輩から習ったりしながら必
 要に応じて知識・技術の習得をされてきた方が多いの
 ではないでしょうか。\n基礎的な操作や関数について
 は特に問題なく使用することができ、ピボットやマク
 ロも活用しながらデータを扱っている中で、・作業工
 程をもっと簡略化してスピードアップできないか・エ
 ラーを未然に防げないか・自分の使いかた（使用方法
 ）が正しいのか不安だという方々に向け、「Excelで学
 ぶデータ集計」ウェビナーを実施していきます。\n今
 回のウェビナーでは、外部データの取込み・変換・整
 形・加工ができるExcelの機能である“PowerQuery”につい
 て、ハンズオン形式で学んでいきます。\n今後も、Excel
 の関数・ピボット・マクロなどについて、ハンズオン
 形式のオンライン講座を順次開催予定です。データ集
 計に必要なExcel技術を習得するために、是非継続して
 ご参加ください。\nこんなことをお話します！\n\nPowerQu
 eryとは\nPowerQueryの使いかた（外部データとの接続・デ
 ータを変換する・データを整形する）\n\nこんな方にオ
 ススメ！\n\n普段Excelを使っている中級者\nExcelでデータ
 集計をされている方\nPowerQueryについて再度学びなおし
 をしたい方\n\nタイムスケジュール\n\n\n\n時間\n内容\nspe
 aker\n\n\n\n\n19：00～19：05\nオープニング\nC&R社\n\n\n19：05
 ～19：50\n講演\n古澤登志美 氏\n\n\n19：50～20：00\n質疑
 応答\n\n\n\n20：00～\nクロージング\n\n\n\n\n※ 当日予告な
 く時間配分・内容が変更になる可能性がございます。\
 n登壇者\n古澤　登志美（ふるさわ・としみ）氏\n株式
 会社ワンズ・ワン代表取締役。2001年、パソコン出張サ
 ポート業を起ち上げ、同時にＩＴ系セミナー講師とし
 ても活動を開始。Excelを始めとしたOfficeアプリの他、
 ホームページ作成や画像処理など、全く初めて触れる
 受講者にもわかりやすく伝えることを得意とする。現
 在はＩＴ活用支援を中心とした、中小機企業向け経営
 コンサルティングを主な事業としている。2017年、中小
 企業診断士登録。2021年ＩＴコーディネータ認定。\n\n
 参加対象\n・Excel中級者の方・データ領域に業務の幅を
 広げたいとお考えの方・マーケティング部門/販促部門
 /営業/プランナーの方で、普段データを扱っている方
 ・事務職からのキャリアアップをご検討中の方\n参加
 費\n無料\n当ウェビナーについて\n\n\nこちらのサイト 
 からもお申込みいただくことができます。\n
LOCATION:オンライン
URL:https://techplay.jp/event/871102?utm_medium=referral&utm_source=ics&utm
 _campaign=ics
END:VEVENT
END:VCALENDAR
