BEGIN:VCALENDAR
VERSION:2.0
PRODID:-//https://techplay.jp//JP
CALSCALE:GREGORIAN
METHOD:PUBLISH
X-WR-CALDESC:PHPerのための「PHPカンファレンス2022」を語り
 合うPHP TechCafe
X-WR-CALNAME:PHPerのための「PHPカンファレンス2022」を語り
 合うPHP TechCafe
X-WR-TIMEZONE:Asia/Tokyo
BEGIN:VTIMEZONE
TZID:Asia/Tokyo
BEGIN:STANDARD
DTSTART:19700101T000000
TZOFFSETFROM:+0900
TZOFFSETTO:+0900
TZNAME:JST
END:STANDARD
END:VTIMEZONE
BEGIN:VEVENT
UID:871506@techplay.jp
SUMMARY:PHPerのための「PHPカンファレンス2022」を語り合うP
 HP TechCafe
DTSTART;TZID=Asia/Tokyo:20220927T190000
DTEND;TZID=Asia/Tokyo:20220927T210000
DTSTAMP:20260423T132120Z
CREATED:20220829T030942Z
DESCRIPTION:イベント詳細はこちら\nhttps://techplay.jp/event/87150
 6?utm_medium=referral&utm_source=ics&utm_campaign=ics\n\n今回のTechCaf
 eテーマ\nPHPer's NEWS !!\nPHPやWeb技術関連の最新情報・記
 事など、PHPerが聞きたいニュースをピックアップして
 紹介します！！\n"一緒に語り合う枠" の方はもちろん
 、"聞き専枠" の方も、チャットを使って意見交換・情
 報交換をしましょう！\n特集：「PHPカンファレンス2022
 」を語り合う\n09/24（土） - 25（日） に開催される『PHP
 カンファレンス2022』の発表内容を勝手に振り返ります
 ！公開されている発表資料をみながら、みなさんでワ
 イワイ喋って振り返りましょう！！\nPHPカンファレン
 ス2022について\n\n開催：2022年09月24日（土）～ 25日（日
 ）\n主催：日本PHPユーザ会\n公式サイト：https://phpcon.php
 .gr.jp/2022/\n参加申込み：https://phpcon.connpass.com/event/255324/
 \n\nShowNote\n== 作成中 ==※内容が変更になる場合があり
 ますので、ご了承ください。\n過去の議題一覧\n2022年
 度\n\n8月開催：「PHPerのための「PHP8.2の新機能」を語り
 合う」\n7月開催：「PHPerのための「PHPDoc相談会」」\n6
 月開催：「PHPerのための「Composer」を語り合う」ShowNote\
 n\n5月開催：「PHPerのための「静的解析」を語り合う」 
 ShowNote\n\n4月開催：「PHPer Kaigi 2022 を振り返る」 ShowNote\
 n\n3月開催：「Laravel 9 について語る」 ShowNote\n\n2月開催
 ：「PHPerのための「Xdebugの活用方法」を語る」 ShowNote\n
 \n1月開催：「2021年のPHP/Laravel振り返り＋2022年」を語る
 」ShowNote\n\n\n2021年度\n\n12月開催：「PHPerのためのPHP8.1
 をもっと語り合う」 ShowNote 内容書き起こし\n\n11月開催
 ：「PHP カンファレンス 2021を振り返る」 ShowNote\n\n10月
 開催：「Laravel 入門を語り合う」 ShowNote\n\n9月開催：「
 PHPUnit の始め方について語りあう」 ShowNote 内容書き起
 こし\n\n8月開催：「PHP8.1 の新機能について語り合う」 
 ShowNote 内容書き起こし1 内容書き起こし2\n\n7月開催：
 「PHPerの今とその先を語り合うフォーラム2021」 ShowNote 
 内容書き起こし\n\n6月開催：「PHPUnit について語り合う
 」 ShowNote\n\n5月開催：「PHPDocについて語り合う」 ShowNot
 e\n\n4月開催：「PHP標準コーディングルール（PSR）につ
 いて語り合う」 ShowNote\n\n1月開催：「2020年のPHP/Laravel
 振り返り＋2021年」 ShowNote\n\n\n2020年度\n\n12月開催：「La
 ravel/PHP8/Dockerで開発環境作りを語り合う」 ShowNote\n\n11
 月開催：「Laravel8を中心に語り合う」 ShowNote\n\n10月開
 催：「PHPのニュースや記事を語り合う」 ShowNote\n\n9月
 開催：「『PHP8』のニュースや記事を語り合う」 ShowNote
 \n\n8月開催：「PHPのニュースや記事を語り合う」 ShowNot
 e\n\n7月開催：「PHPのニュースや記事を語り合う」 ShowNo
 te\n\n6月開催：「PHPのニュースや記事を語り合う」 ShowN
 ote\n\n\n◆2021年度のPHPTechCafeまとめ記事毎月開催してい
 るPHPerのための学習コミュニティ、PHPTechCafe【21年度 ま
 とめ】\n過去のイベント風景はこちら（Facebookへのアル
 バムへのリンクです）\nhttps://business.facebook.com/RAKUS.pr/ph
 otos/a.2704257409863130/2704257419863129/?type=3&theaterhttps://business.
 facebook.com/RAKUS.pr/photos/a.2704257409863130/2704257529863118/?type=3&
 theater\n主催出演者の紹介\n\n\nY-Kanoh\n\n\n2016年新卒でラ
 クスへ入社。入社後、配配メール開発チームへ参画し
 、現在はメールディーラーの開発チームに所属。入社
 と同時にPHPを扱い始め、趣味でLaravelやDocker、Vue.jsを触
 っています。キーボードはHHKB。参加者の皆さんととも
 に、自分もPHPerとしてレベルアップできればと思いま
 す！\n\n\nMasaKu\n\n\n2017年新卒でラクスへ入社。配配メー
 ルの開発を担当しています。個人でWebサービスを作成
 したり、興味のある技術をあれこれ試すのが趣味です
 。PHPのように、良いものを取り入れ続けるエンジニア
 になることが目標です！\nTechCafeについて\n「TechCafe」
 は、PHPを軸としてエンジニアと技術が交差する憩いの
 場（カフェ）になることを目指し、WebやPHPに関わるIT
 エンジニアがスキルアップのために開発や勉強、LTや
 情報共有などを行うコミュニティです。普段は、弊社
 オフィスに来社頂き、特定のテーマについてディスカ
 ッションや、もくもく自習などを行って頂いています
 。\n弊社の社員も参加します。エンジニア同士が楽し
 みながら学習するためのコミュニティです。お気軽に
 ご参加ください。\nよろしければ弊社の 開発者ブログ 
 もご覧ください。興味を持たれましたらぜひご参加く
 ださい。\n対象者\nPHPを入門後の初級エンジニア～シニ
 アエンジニア\n\nエンジニア同士の学び・情報共有の場
 をつくり、エキスパートまでの自己成長を支援する\n
 学びの場を一緒に支援して頂けるエキスパート以上の
 かたの参加も大歓迎\n\n※入門者向けのスクール系の領
 域はコミュニティとしては対象外としています\n投書
 箱\nイベントで取り上げて欲しいテーマや、イベント
 の感想、その他ご意見等を募集します！お気軽に投稿
 してください！\n投稿は**こちら**\nSlack\n本コミュニテ
 ィ用のSlackチャンネルにご参加頂ければ幸いです。\nこ
 ちらからご参加ください\n#開催概要\n【日時】2022/9/27(
 火) 19:00～20:30　※10分前から入室可能です！\n【会場】
 オンライン（Zoom）　※Connpassのメッセージ機能、およ
 びイベントページ中の「参加者への情報」欄にて開催
 前にURLを通知いたします。\n【参加費】無料\n【主催】
 ラクス\n一緒に語り合う枠\nPHPやWeb開発に関連するニュ
 ースや記事をピックアップしてディスカッションしま
 す。「一言くらいはしゃべるかも」程度でお気軽にご
 参加ください。可能な方のみで結構ですので、「顔出
 し」して頂けると幸いです！\nまた、冒頭で簡単にお
 名前（orニックネーム）と「今こんなことに興味があ
 るよ」を共有して頂きます。\n\n\n\n\n語り合う方\n\n\n\n\
 n1\nY-Kanohさん\n\n\n2\nMasaKuさん\n\n\n3\n募集中\n\n\n4\n募集
 中\n\n\n5\n募集中\n\n\n6\n募集中\n\n\n7\n募集中\n\n\n\nLT枠（
 5分）\n発表テーマはPHPに関する内容であれば何でも構
 いません。※「PHPに関する」は厳密な縛りではありま
 せんので、ご自由に拡大解釈頂いて結構です。\n\nご自
 身の学習内容\n個人で開発したサービス\n開発のノウハ
 ウ\n\nなど、知識やノウハウを参加者同士で共有し合い
 ましょう。\n※なお、発表者は先着順とさせていただ
 きますので、ご容赦ください。\n\n\n\n\n発表テーマ\n発
 表者\n\n\n\n\n1\nカンファレンストークの裏側（仮）\nyume
 chiさん\n\n\n2\n比較演算子を壊してみる\nKeisuke Nakayamaさ
 ん\n\n\n3\n募集中\n募集中\n\n\n\n※確定次第、更新します
 \n注意事項\n\n発表練習はありませんので、ご自身の発
 表時間前にはZoomへご入室をお願いします。\n事前の資
 料共有は不要です。当日に向けてご準備をお願いしま
 す！\n\n聞き専枠\n文字通り、聞くのみのご参加です。
 マイク・カメラOFFでご参加ください。（ホスト側でも
 コントロールします）\n#タイムテーブル（途中参加OK
 ）\n\n19:00 開始・ご挨拶など\n19:10～ 自己紹介\n19:15～ LT
 会パート ※エントリーがあった場合、先着順で発表し
 て頂きます\n19:30ごろ～ ディスカッション開始\n20:20 ア
 ンケートのお願い、締めのご挨拶\n20:30 終了\n\n登壇者
 情報 詳細\n一緒に語り合う枠\n後程記載します。\nLT枠\
 nNo1. yumechiさん\n人材系のサービスをやっているエンジ
 ニアとか、スクラムマスターとかやってます。結構カ
 ンファレンスが好きで、過去にはスタッフや登壇もし
 てます。実はPHPあんまり詳しくありません。\nNo2. Keisuk
 e Nakayamaさん／GMOペパボ株式会社\n2021年4月に新卒でGMO
 ペパボ株式会社に入社。Webアプリケーションエンジニ
 ア。\nPHP Conference Japan 2022において「17年つづくWebサー
 ビスを改善する 〜新卒2年目からみるカラーミーショ
 ップ〜」にて登壇。\nラクスの利用技術スタック（一
 部）\n\n開発\n\n使用言語：Java、PHP、Swift、Kotlin\nMW：Post
 greSQL、Postfix、Apache\nFW・ライブラリ：Spring Boot、Laravel
 、Vue.js、jQuery\n開発ツール：eclipse、GitLab、IntelliJ IDEA、
 Xcode、Android Studio、Flyway、Redmine\nCI・テスト：Selenide、Gr
 adle、JMeter、jUnit、Jenkins\n\n\nインフラ\n\n言語：Python\, PH
 P\nプラットフォーム：オンプレミス\, AWS（EC2、ECS、EKS
 、RDS、S3、Lambda etc）\n仮想化基盤： VMWare\, Nutanix\nIaC： 
 Terraform\, Ansible\n運用・監視：Zabbix、Grafana、Prometheus、El
 asticStack\nその他ツール：Git、Jenkins、Selenium、Rundeck、Ser
 verspec\n\n\n\n\nエンジニア中途採用サイト\nラクスでは、
 エンジニア・デザイナーの中途採用を積極的に行って
 おります！ご興味ありましたら是非ご確認をお願いし
 ます。https://career-recruit.rakus.co.jp/career_engineer/\nカジュ
 アル面談\nどの職種に応募すれば良いかわからないと
 いう方は、カジュアル面談も随時行っております。以
 下フォームよりお申込みください！https://rakus.hubspotpage
 builder.com/visit_engineer/
LOCATION:オンライン
URL:https://techplay.jp/event/871506?utm_medium=referral&utm_source=ics&utm
 _campaign=ics
END:VEVENT
END:VCALENDAR
