BEGIN:VCALENDAR
VERSION:2.0
PRODID:-//https://techplay.jp//JP
CALSCALE:GREGORIAN
METHOD:PUBLISH
X-WR-CALDESC:Introduction to React.js - Online Workshop
X-WR-CALNAME:Introduction to React.js - Online Workshop
X-WR-TIMEZONE:Asia/Tokyo
BEGIN:VTIMEZONE
TZID:Asia/Tokyo
BEGIN:STANDARD
DTSTART:19700101T000000
TZOFFSETFROM:+0900
TZOFFSETTO:+0900
TZNAME:JST
END:STANDARD
END:VTIMEZONE
BEGIN:VEVENT
UID:871785@techplay.jp
SUMMARY:Introduction to React.js - Online Workshop
DTSTART;TZID=Asia/Tokyo:20220907T190000
DTEND;TZID=Asia/Tokyo:20220907T210000
DTSTAMP:20260422T215911Z
CREATED:20220830T140019Z
DESCRIPTION:イベント詳細はこちら\nhttps://techplay.jp/event/87178
 5?utm_medium=referral&utm_source=ics&utm_campaign=ics\n\n⚠️ IMPORTANT
 : You will need to be comfortable with JavaScript ES6 to join this worksh
 op.\n\nReact has been getting tremendous popularity within startups but c
 an still seem intimidating for new developers. Its environment is rich\, 
 offers new syntaxes and is constantly being updated.\nIn this beginner-fr
 iendly session\, we're proposing a first dive into the world of React\, a
 nd you'll go home with your very first React app!\n\n📎 Overview\n• I
 ntroduction to React\n• Create your first React app\n• Discover the J
 SX Syntax\n• What are Properties\, State and Events\nWe'll be introduci
 ng these notions while making a simple and interactive page using the Gip
 hy API.\n\n📎 Pre-requisite\n• This is a 100% online workshop!\n• I
 nstall Zoom (https://zoom.us/download))\n• Be comfortable with JavaScri
 pt ES6\n• Install Node.js (https://nodejs.org/en/download/)\, Yarn (htt
 ps://classic.yarnpkg.com/en/docs/install/) and webpack (https://webpack.j
 s.org/guides/installation/)\n\n\n\n🚀About Le Wagon Tokyo 🚀\n\nLe Wa
 gon Tokyo (https://www.lewagon.com/tokyo) is a top ranked coding school f
 or startups\, creative people and tech entrepreneurs.\nOur Web Developmen
 t and Data Science bootcamps are designed for individuals who want to cha
 nge their career\, become freelancer\, or launch their own venture!\n\nOu
 r next bootcamps will start:\n🏃‍♀️ Oct 3rd for our 9-week full-t
 ime Web Development and Data Science programs\n🚶‍♂️ Sep 24th for
  our 24-week part-time Web Development and Data Science programs\n\nAppli
 cations are already open!\nCheckout enrollment details\, curriculum\, Car
 eer Week support and more 👉 https://www.lewagon.com/tokyo
LOCATION:Impact Hub Tokyo 東京都目黒区目黒２丁目１１−３
URL:https://techplay.jp/event/871785?utm_medium=referral&utm_source=ics&utm
 _campaign=ics
END:VEVENT
END:VCALENDAR
