BEGIN:VCALENDAR
VERSION:2.0
PRODID:-//https://techplay.jp//JP
CALSCALE:GREGORIAN
METHOD:PUBLISH
X-WR-CALDESC:ツールだけじゃない！成果に直結するフォー
 ム改善（EFO）講座
X-WR-CALNAME:ツールだけじゃない！成果に直結するフォー
 ム改善（EFO）講座
X-WR-TIMEZONE:Asia/Tokyo
BEGIN:VTIMEZONE
TZID:Asia/Tokyo
BEGIN:STANDARD
DTSTART:19700101T000000
TZOFFSETFROM:+0900
TZOFFSETTO:+0900
TZNAME:JST
END:STANDARD
END:VTIMEZONE
BEGIN:VEVENT
UID:871840@techplay.jp
SUMMARY:ツールだけじゃない！成果に直結するフォーム改
 善（EFO）講座
DTSTART;TZID=Asia/Tokyo:20220915T130000
DTEND;TZID=Asia/Tokyo:20220915T140000
DTSTAMP:20260419T183924Z
CREATED:20220831T041236Z
DESCRIPTION:イベント詳細はこちら\nhttps://techplay.jp/event/87184
 0?utm_medium=referral&utm_source=ics&utm_campaign=ics\n\nツールだけ
 じゃない！成果に直結するフォーム改善（EFO）講座\n\n
 セミナー概要（当ウェビナーで得られること）\nお問
 い合わせや購入はWEBサイトにおける一つのゴールであ
 ると言えます。知っていますか？ゴール直前であるエ
 ントリーフォームでも離脱率が平均約60％もあります
 ！このエントリーフォームを改善することで、お問い
 合わせや購入数の増加に直結することが可能です！\nEF
 O（エントリーフォーム最適化）ツールの導入がよくあ
 る施策ですが、このEFOツール導入前に自社でできる改
 善点が多数あります。\n当ウェビナーにご参加いただ
 くと、\n・EFOの考え方・成果を出すために最適なエン
 トリーフォームについて・現状のエントリーフォーム
 から成果に結びつけるための改善例\nなどがわかりま
 す。\n今回、弊社取締役・上級WEB解析士であるシニア
 コンサルタントが過去17年以上のコンサルティングの
 経験を基に、貴社のビジネスの成果に繋げるために対
 策可能なエントリーフォームの最適化についてお伝え
 します。\n「流入数はあるのに離脱率が高い」「効率
 的にリードを獲得していきたい」「フォームの改善方
 法がわからない」\nとお悩みのご担当者さまにおすす
 めです。\n※本ウェビナーは過去に録画した動画を使
 用しております。講義中の質問等はチャットにて回答
 致します。\nこんな方におすすめ\nWEB担当者を任された
 けど...\n・SEO対策や広告の出稿はしたものの、なかな
 かお問い合わせや購入数が増加しない・WEBサイトを見
 直そうにも、どこから手を付けて良いのかわからない
 ・自社のWEBサイトへの流入数はあるのに離脱率が高い
 ・エントリーフォームを変えたいが、どのように変え
 たら良いのかわからない\n目次\n・EFOとは？\n・EFOの重
 要性\n・EFOの種類\n・EFOのチェックポイント\n・実際の
 フォーム改善例\n・よくある質問\n・ポイントのおさら
 い\nセンタードについて\nセンタードは、WEBコンサルタ
 ントが専門知見を持って、『ビジネスを成功に導く』
 サポートをします。また、制作からプロモーションま
 で『一気通貫』で対応します。\n施策ロードマップに
 則り、各戦術を実行・検証・改善立案し、継続的にWEB
 サイト改善（LP含む）や流入施策最適化を図り続けま
 す。WEBの売上の作り方に関してお困りのことがござい
 ましたら、お気軽にご相談くださいませ。
LOCATION:オンライン（ZOOM）
URL:https://techplay.jp/event/871840?utm_medium=referral&utm_source=ics&utm
 _campaign=ics
END:VEVENT
END:VCALENDAR
