BEGIN:VCALENDAR
VERSION:2.0
PRODID:-//https://techplay.jp//JP
CALSCALE:GREGORIAN
METHOD:PUBLISH
X-WR-CALDESC:Siv3D 勉強会 in 大阪電気通信大学 (2022\, オンラ
 イン)
X-WR-CALNAME:Siv3D 勉強会 in 大阪電気通信大学 (2022\, オンラ
 イン)
X-WR-TIMEZONE:Asia/Tokyo
BEGIN:VTIMEZONE
TZID:Asia/Tokyo
BEGIN:STANDARD
DTSTART:19700101T000000
TZOFFSETFROM:+0900
TZOFFSETTO:+0900
TZNAME:JST
END:STANDARD
END:VTIMEZONE
BEGIN:VEVENT
UID:872485@techplay.jp
SUMMARY:Siv3D 勉強会 in 大阪電気通信大学 (2022\, オンライン
 )
DTSTART;TZID=Asia/Tokyo:20220909T170000
DTEND;TZID=Asia/Tokyo:20220909T190000
DTSTAMP:20260422T084233Z
CREATED:20220904T142214Z
DESCRIPTION:イベント詳細はこちら\nhttps://techplay.jp/event/87248
 5?utm_medium=referral&utm_source=ics&utm_campaign=ics\n\nイベントに
 ついて\n数行～数十行のコードでゲームやメディアア
 ートを作れる C++ フレームワーク「Siv3D」の 開発者 に
 よる C++ / Siv3D プログラミング講座を開催します。  \n
 参加して得られること\n音や画像を使った楽しいプロ
 グラミングを体験しながら、ゲームやアプリの開発に
 役立つ基本的な Siv3D の知識が得られます。Siv3D の開発
 者に直接意見を伝えたり、質問を聞ける機会でもあり
 ます。\n日時と場所\n2022 年 9 月 9 日（金）17:00-19:00 (16:
 45 開場）\nオンライン\n参加費\n無料\n対象者\n大阪電気
 通信大学に在籍する学生または教職員で、C++ / Siv3D で
 のゲーム・アプリ開発に興味のある方。\nテキストプ
 ログラミングの経験があれば、C++ 未経験者でも大丈夫
 です。\n当日の参加 URL についてはイベント管理者まで
 お問い合わせください。  \n形式\n講義形式: スライド
 や参加者向けの資料を見ながら Siv3D プログラミングの
 楽しみ方を学びます。  \n準備するもの\n\nC++ 開発環境
 と Siv3D をインストールした PC (Windows / macOS / Linux)\nLT 
 をする人はスライドと PC を用意\nM1 / M2 Mac は未対応で
 す（近い将来のアップデートで対応する予定です）\n
 プログラミングはせず、視聴するだけでも OK です\n\nSi
 v3D 開発環境のインストール手順\n\nSiv3D Web サイト をご
 覧ください \n当日は OpenSiv3D バージョン v0.6.5 を使う予
 定です\n開発環境として Windows の場合は Visual Studio 2022 
 17.3\, macOS (Intel) は Xcode 11.3 以降が必要です\n\n参加者へ
 の連絡\n\n現時点では特になし\n
LOCATION:オンライン オンライン
URL:https://techplay.jp/event/872485?utm_medium=referral&utm_source=ics&utm
 _campaign=ics
END:VEVENT
END:VCALENDAR
