BEGIN:VCALENDAR
VERSION:2.0
PRODID:-//https://techplay.jp//JP
CALSCALE:GREGORIAN
METHOD:PUBLISH
X-WR-CALDESC:アルネッツ・シーメンス共催 『９０分で基礎
 から覚えるローコード開発』
X-WR-CALNAME:アルネッツ・シーメンス共催 『９０分で基礎
 から覚えるローコード開発』
X-WR-TIMEZONE:Asia/Tokyo
BEGIN:VTIMEZONE
TZID:Asia/Tokyo
BEGIN:STANDARD
DTSTART:19700101T000000
TZOFFSETFROM:+0900
TZOFFSETTO:+0900
TZNAME:JST
END:STANDARD
END:VTIMEZONE
BEGIN:VEVENT
UID:873261@techplay.jp
SUMMARY:アルネッツ・シーメンス共催 『９０分で基礎から
 覚えるローコード開発』
DTSTART;TZID=Asia/Tokyo:20220921T130000
DTEND;TZID=Asia/Tokyo:20220921T143000
DTSTAMP:20260420T153656Z
CREATED:20220909T111953Z
DESCRIPTION:イベント詳細はこちら\nhttps://techplay.jp/event/87326
 1?utm_medium=referral&utm_source=ics&utm_campaign=ics\n\nシーメンス
 株式会社Mendixイベント担当の東田です。常日頃大変お
 世話になっております。さて、以前からご要望の多か
 ったローコード開発プラットフォームのMendixの基礎を
 短時間で学べるイベントの開催が、アルネッツ様のご
 協力により決定いたしました。\n■お申込みサイト：ht
 tps://mendix.seminarone.com/alnetz20220921/event\nローコードの将
 来性、重要性は理解したので、まず最初の一歩を踏み
 出したい方に、９０分のハンズオン形式でアルネッツ
 様よりご紹介いただきます。\n■イベント概要：サン
 プルアプリ『タスク管理App』をベースにMendixアプリケ
 ーションの構成とMendix Studio Proの使い方（作り方）を
 ハンズオンスタイルで体験するセミナーです。■開催
 方式：オンライン (MS Teamsウェビナー）■開催日時： 20
 22年9月21日（水）13時～14時30分（10分前から入場可能）
 ■アジェンダ・Mendixの基本構成（ドメインモデル・ペ
 ージ・マイクロフロー）・サンプルアプリ『タスク管
 理App』の紹介　・MendixStudio Proの使い方　　　- Mendix Stu
 dio Proの見方　　- ワンクリック展開（Run Locally）　　- 
 ドメインモデル（Entity\, Attribute\, Association）　　- ペー
 ジ（Page\, Widget\, Toolbox\, Connecter）　　- マイクロフロー
 （Start/End event\, Siquence flow\, Object）\n■お申込みサイト
 ：https://mendix.seminarone.com/alnetz20220921/event
LOCATION:オンライン
URL:https://techplay.jp/event/873261?utm_medium=referral&utm_source=ics&utm
 _campaign=ics
END:VEVENT
END:VCALENDAR
