BEGIN:VCALENDAR
VERSION:2.0
PRODID:-//https://techplay.jp//JP
CALSCALE:GREGORIAN
METHOD:PUBLISH
X-WR-CALDESC:24～26新卒向け未経験エンジニアイベント-未経
 験からでもエンジニアになれる！Rubyの生みの親Matzさ
 んと文系エンジニア社員から極意を学ぶ-
X-WR-CALNAME:24～26新卒向け未経験エンジニアイベント-未経
 験からでもエンジニアになれる！Rubyの生みの親Matzさ
 んと文系エンジニア社員から極意を学ぶ-
X-WR-TIMEZONE:Asia/Tokyo
BEGIN:VTIMEZONE
TZID:Asia/Tokyo
BEGIN:STANDARD
DTSTART:19700101T000000
TZOFFSETFROM:+0900
TZOFFSETTO:+0900
TZNAME:JST
END:STANDARD
END:VTIMEZONE
BEGIN:VEVENT
UID:873450@techplay.jp
SUMMARY:24～26新卒向け未経験エンジニアイベント-未経験
 からでもエンジニアになれる！Rubyの生みの親Matzさん
 と文系エンジニア社員から極意を学ぶ-
DTSTART;TZID=Asia/Tokyo:20220927T180000
DTEND;TZID=Asia/Tokyo:20220927T200000
DTSTAMP:20260422T134713Z
CREATED:20220911T062956Z
DESCRIPTION:イベント詳細はこちら\nhttps://techplay.jp/event/87345
 0?utm_medium=referral&utm_source=ics&utm_campaign=ics\n\n24～26新卒向
 け未経験エンジニアイベント\n未経験からでもエンジ
 ニアになれる！Rubyの生みの親Matzさんと文系エンジニ
 ア社員から極意を学ぶ\n概要\n本イベントは、エンジニ
 アに興味がある！未経験でもエンジニアに挑戦したい
 ！という学生向けのイベントです。\n■こんな人にオ
 ススメのイベントです\n・エンジニアってどんな仕事
 をしているのか知りたい・未経験からでもエンジニア
 になれるのかが不安・エンジニアの勉強をし始めたけ
 ど、なんかうまくいかない・どういう人がエンジニア
 に多いのか知りたい・エンジニアの市場価値が高いっ
 てホント！？に興味がある人・ビジネスもエンジニア
 リングもどちらも経験したいと思っている人\n■未経
 験からエンジニアになってみて\n文系大学出身で未経
 験でエンジニアとなった「KEN☆YAMAGUCHI」と「RYOBAL」が\
 n・未経験でも本当に一人前のエンジニアになれるのか
 ・エンジニアになって良かったと思うこと・エンジニ
 アとして働くうえで勉強しておいた方が良いこと\nな
 ど、これからエンジニアを目指す人はもちろん、すで
 に勉強を始めている人にとってもより効率的なキャリ
 アアップ方法をお伝えします！\n■エンジニア界の大
 先輩からの教え\nRubyの生みの親であり、クルーズ株式
 会社の技術PR顧問でもある『まつもとゆきひろ氏』を
 お招きし、 エンジニアを目指す上で必要なこと、キャ
 リアなど様々なお話をしてくださいます。\n登壇者に
 質問するコーナーもあります！質問はこちらのフォー
 ムから事前に募集しております！\n※イベント内で、
 エンジニアってどんなことをするの？を体験してもら
 うコーナーもありますのでPCからのご参加をお勧めし
 ます。\nタイムスケジュール\n\n\n\n時間\n内容\n\n\n\n\n17:
 50〜\n受付開始\n\n\n18:30〜18:10\nオープニング\n\n\n18:10〜1
 8:40\nパネルディスカッション未経験からでもエンジニ
 アになるためには＜登壇者＞文系エンジニア 『RYOBAL』
 『KEN☆YAMAGUCHI』 Rubyの生みの親 まつもと ゆきひろ　氏
 \n\n\n18:40〜19:00\n質問コーナー\n\n\n19:00〜19:30\nエンジニ
 ア体験ワークショップ\n\n\n19:30~19:40\nエンディング＆ア
 ンケート回答\n\n\n\n\n\n\n\n\n\n\n※ 当日予告なく時間配
 分・内容が変更になる可能性がございます。\n\n\n\n\n\n\
 n\n\n登壇者\n\nまつもと ゆきひろ　@yukihiro_matz\nRubyのぱ
 ぱ\nプログラミング言語Rubyの生みの親。 株式会社ネッ
 トワーク応用通信研究所フェロー、Rubyアソシエーショ
 ン理事長、株式会社ZOZO技術顧問、Linkers株式会社技術
 顧問。Ruby開発の功績から島根県松江市名誉市民にも選
 出される。 1995年株式会社トヨタケーラム（現：トヨ
 タシステムズ）在籍時にオブジェクト指向スクリプト
 言語Rubyを公開し、その後2004年に発表されたRuby on Rails
 の流行に伴い日本国外にも普及した。\n\n\n\n山口 顕二
 （KEN☆YAMAGUCHI）@s-flo【CROOZ SHOPLIST株式会社】\nCROOZ SHOPLI
 ST株式会社21新卒\n1998年生まれ。2021年4月にCROOZ SHOPLIST
 株式会社に入社。\n入社後3か月間の開発研修を終え、
 サーバーサイドエンジニアとして配属。\n\n\n館山 遼（
 RYOBAL） 氏 @s-flo【CROOZ SHOPLIST株式会社】\nCROOZ SHOPLIST株
 式会社21新卒\n1997年生まれ。2021年4月にCROOZ SHOPLIST株式
 会社に入社。\n入社後3か月間の開発研修を終え、サー
 バーサイドエンジニアとして配属。2022年3月よりマー
 ケティング部署に異動。\n\n参加対象\n\nエンジニアに
 興味がある24～26卒の学生\n未経験からのエンジニアを
 考えている社会人\n\n参加費\n無料\n注意事項\n\nリクル
 ーティング、勧誘など、採用目的でのイベント参加は
 お断りしております。\nキャンセル待ち・補欠・落選
 の方はご参加いただくことが出来ませんのでご了承く
 ださい。\n欠席される場合は、お手数ですが速やかに
 キャンセル処理をお願い致します。\n無断キャンセル
 や欠席が続く場合、次回以降の参加をお断りさせてい
 ただく場合がございます。\n
LOCATION:オンライン
URL:https://techplay.jp/event/873450?utm_medium=referral&utm_source=ics&utm
 _campaign=ics
END:VEVENT
END:VCALENDAR
