BEGIN:VCALENDAR
VERSION:2.0
PRODID:-//https://techplay.jp//JP
CALSCALE:GREGORIAN
METHOD:PUBLISH
X-WR-CALDESC:【0からはじめるWEBデザイン】配色とレイアウ
 ト
X-WR-CALNAME:【0からはじめるWEBデザイン】配色とレイアウ
 ト
X-WR-TIMEZONE:Asia/Tokyo
BEGIN:VTIMEZONE
TZID:Asia/Tokyo
BEGIN:STANDARD
DTSTART:19700101T000000
TZOFFSETFROM:+0900
TZOFFSETTO:+0900
TZNAME:JST
END:STANDARD
END:VTIMEZONE
BEGIN:VEVENT
UID:873451@techplay.jp
SUMMARY:【0からはじめるWEBデザイン】配色とレイアウト
DTSTART;TZID=Asia/Tokyo:20220929T203000
DTEND;TZID=Asia/Tokyo:20220929T213000
DTSTAMP:20260422T045114Z
CREATED:20220911T103258Z
DESCRIPTION:イベント詳細はこちら\nhttps://techplay.jp/event/87345
 1?utm_medium=referral&utm_source=ics&utm_campaign=ics\n\n誰もがWEBデ
 ザイナーになれる時代へ\nデザインには「センスが必
 要」と言われたりしますが、最新のツールを駆使する
 ことでハードルを下げることができます。「0からはじ
 めるWEBデザイン」は、最新ツールを駆使して、誰でも
 最短で本格オリジナルなサイトの作り方を学ぶ勉強会
 です。ここでは、WEBサイトの作り方の概要と、雛形と
 なる「プロトタイプ」の作り方を扱って行きます。別
 途「0からはじめるWordpress」と合わせて、WEBサイトのデ
 ザインから、コーディングして完成までを習得するこ
 とができます。\n配色とレイアウト\nこれまでの「0か
 らはじめるWEBデザイン」で、参加者からご要望で最も
 大きかった、配色とレイアウトについて取り上げます
 。\nなかなか、言葉にしてお伝えするのは難しいテー
 マですが、まずは基礎知識を共有させていただき、実
 例をみながら、そして実際に手を動かしながら、学べ
 たらと思います。\nぜひ、PCで、Figmaにログインした状
 態でご参加いただければと思います。\n・WEBデザイン
 にはじめて触れてみたい方・新しい分野に触れてみた
 い方・スキルアップしてみたい方など、ご興味ある方
 はどなたでもお気軽にご参加ください！\nシンラボと
 は\n『テクノロジーで社会課題を解決する』をビジョ
 ンに、エンジニア、デザイナー、ライター、イべンテ
 ーターなど、様々な人が活躍するテックコミュニティ
 です。アプリ開発、Webサイト制作からコミュニティ作
 り、イベント企画まで、様々なプロジェクトが創出さ
 れています。\nシンラボHPhttps://sinlab.future-tech-association.
 org/シンラボYoutubeチャンネルhttps://www.youtube.com/channel/UCh
 s5SSU2BoJBTRxJm1lXe5A/videos\n開催概要\n【日時】2022年9月29日
 （木） 20:30~21:30【参加費】無料\n主催者：KURO\n\nシンラ
 ボ　広報チームリーダー1993年生まれ。法政大学デザイ
 ン工学研究科都市環境デザイン工学科卒業。地図制作
 会社、ゲーム会社のデザイナーに就職した後、会社を
 辞めて独学でWEBデザインを勉強し、現在WEBデザイナー
 。シンラボでは、HP制作から、ブランディング、イベ
 ント企画などを担当。Wordpressを使って、コーポレート
 サイトからオウンドメディア、社内システムまで制作
 実績あり。\nタイムスケジュール\n\n\n\n時間\n内容\n\n\n\
 n\n20:30〜20:40\n質問コーナー（事前アンケートや、前回
 のイベントから）\n\n\n20:40〜21:20\n講義\n\n\n21:20〜21:30\n
 トークタイム（今回のイベントでの質問・ご感想など
 ）\n\n\n\n※ 当日予告なく時間配分・内容が変更になる
 可能性がございます。\n注意事項\n\nリクルーティング
 、勧誘など、採用目的でのイベント参加はお断りして
 おります。\nキャンセル待ち・補欠・落選の方はご参
 加いただくことが出来ませんのでご了承ください。\n
 欠席される場合は、お手数ですが速やかにキャンセル
 処理をお願い致します。\n無断キャンセルや欠席が続
 く場合、次回以降の参加をお断りさせていただく場合
 がございます。\n
LOCATION:オンライン
URL:https://techplay.jp/event/873451?utm_medium=referral&utm_source=ics&utm
 _campaign=ics
END:VEVENT
END:VCALENDAR
