BEGIN:VCALENDAR
VERSION:2.0
PRODID:-//https://techplay.jp//JP
CALSCALE:GREGORIAN
METHOD:PUBLISH
X-WR-CALDESC:【Qlik ヘルスケア勉強会】令和3年度の病床機
 能報告公表データの利用
X-WR-CALNAME:【Qlik ヘルスケア勉強会】令和3年度の病床機
 能報告公表データの利用
X-WR-TIMEZONE:Asia/Tokyo
BEGIN:VTIMEZONE
TZID:Asia/Tokyo
BEGIN:STANDARD
DTSTART:19700101T000000
TZOFFSETFROM:+0900
TZOFFSETTO:+0900
TZNAME:JST
END:STANDARD
END:VTIMEZONE
BEGIN:VEVENT
UID:873701@techplay.jp
SUMMARY:【Qlik ヘルスケア勉強会】令和3年度の病床機能報
 告公表データの利用
DTSTART;TZID=Asia/Tokyo:20220921T180000
DTEND;TZID=Asia/Tokyo:20220921T190000
DTSTAMP:20260425T125802Z
CREATED:20220912T075423Z
DESCRIPTION:イベント詳細はこちら\nhttps://techplay.jp/event/87370
 1?utm_medium=referral&utm_source=ics&utm_campaign=ics\n\n【Qlik ヘル
 スケア勉強会】令和3年度の病床機能報告公表データの
 利用\n概要\n★18時開始となっています。ご注意くださ
 い。\n第18回目のヘルスケア勉強会では、令和3年度の
 病床機能報告公表データを取り上げます。公表された
 データの概観、過去の公表データとの違いを確認し、
 今回の公表データをQlik Senseに取り込んでなにが見える
 のかをご一緒に考えていきましょう。\n令和３年度病
 床機能報告の報告結果について－施設票－様式１_病棟
 票https://www.mhlw.go.jp/stf/seisakunitsuite/bunya/open_data_00008.html\
 nフィードバックコーナーでは、以下の３つを取り上げ
 る予定です。・クリニカルパスに関する質問（院内の
 パス適用患者全体の傾向、Ⅱ期間以内割合など）・平
 均在院日数の求め方（施設基準と院内管理）・Qlik Sense
 でのデータ共有方法\n\n出来合いの分析では物足りない
 、あんなこと、こんなこといろいろとアイデアを出し
 合って試してみましょう！事前にQlik Japan Healthcare Commu
 nityにテーマに沿った質問をにあげていただいたり、個
 別にご質問をいただければ、フィードバックコーナー
 で取り上げ、こういうデータの分析をしたいに応えるQ
 lik Senseでのアプローチをご紹介します。ご質問、ご要
 望、どんどんお願いします！\nこれまでの勉強会はこ
 ちらからご覧いただけます。Qlik ヘルスケア勉強会\nア
 ジェンダ：\n1.Qlik Senseの概要2.フィードバックコーナー
 3.前回の復習4.令和３年度病床機能報告をひも解く5.Q&A6
 .次回取り上げるテーマ\nファシリテーター\n\n村田　太
 郎\nクリックテック・ジャパン株式会社営業本部 Japan S
 ales Team Lead\nQlikに入社して5年、公共・ヘルスケア分野
 を中心に営業活動を実施。Communityサイトに、Qlik Healthca
 re Japanグループを立ち上げ、業界に役立つ情報を発信
 しています。自分でQlikアプリも作成してしまうクール
 な知性派。Awesome City Clubをこよなく愛するもんじゃの
 街の住人。\n参加対象\n医療関係者でデータ活用にご興
 味がある方、またQlik をご利用いただいている方、ど
 なたでもご参加いただけます。お気軽にご参加くださ
 い。事前に下記よりQlik Sense 入門ハンズオンWebセミナ
 ーをご利用いただいてご体験頂くと、さらに当セミナ
 ーの内容をご活用いただけます。Qlik Sense Business 入門 
 ハンズオン Web セミナー\n事前準備\nZoom（Web会議ツール
 ）を使用します。あらかじめご利用のPCやタブレット
 、スマートフォンにインストールをお願いします。当
 セミナーのURLはお申込みいただいた方に、セミナー開
 催日前日までにお知らせいたします。お申し込み後は
 当ページからもご参加いただけます。\n参加費\n無料
LOCATION:オンライン
URL:https://techplay.jp/event/873701?utm_medium=referral&utm_source=ics&utm
 _campaign=ics
END:VEVENT
END:VCALENDAR
