BEGIN:VCALENDAR
VERSION:2.0
PRODID:-//https://techplay.jp//JP
CALSCALE:GREGORIAN
METHOD:PUBLISH
X-WR-CALDESC:10/12(水) 17:00- デジタル時代に製造業で求めら
 れる人材の育成～デジタルで考えるデータを読み書き
 する力（リテラシー）～
X-WR-CALNAME:10/12(水) 17:00- デジタル時代に製造業で求めら
 れる人材の育成～デジタルで考えるデータを読み書き
 する力（リテラシー）～
X-WR-TIMEZONE:Asia/Tokyo
BEGIN:VTIMEZONE
TZID:Asia/Tokyo
BEGIN:STANDARD
DTSTART:19700101T000000
TZOFFSETFROM:+0900
TZOFFSETTO:+0900
TZNAME:JST
END:STANDARD
END:VTIMEZONE
BEGIN:VEVENT
UID:873782@techplay.jp
SUMMARY:10/12(水) 17:00- デジタル時代に製造業で求められる
 人材の育成～デジタルで考えるデータを読み書きする
 力（リテラシー）～
DTSTART;TZID=Asia/Tokyo:20221012T170000
DTEND;TZID=Asia/Tokyo:20221012T180000
DTSTAMP:20260421T002915Z
CREATED:20220913T021810Z
DESCRIPTION:イベント詳細はこちら\nhttps://techplay.jp/event/87378
 2?utm_medium=referral&utm_source=ics&utm_campaign=ics\n\nプログラム
 概要\nDXをはじめデジタル化、AIを活動の中に組み込み
 推進していく取り組みが多くの企業や自治体などの組
 織で始まっている。\n実はこれらの言葉と流行はクラ
 ウド、ビッグデータ、IT/IoT、人工知能という言葉で１
 ０年前から続いているものであり、よく寄せられる相
 談に「データを利用してみたいが何のデータをデジタ
 ル化すればいいかわからない」という声がある。\n問
 題の本質はデータへの向き合い方・志向とスキル・能
 力のバラつきである、との仮定から、データを読み書
 きするための技術としてデータサイエンス（科学）を
 デジタル化の中でどうやって実践していくか、実践で
 きる人材を育てるための村田製作所の取り組みについ
 て紹介する。\nタイムスケジュール\n17:00-17:05　冒頭挨
 拶\n17:05-17:35　講演\n17:35-17:45　パネルディスカッショ
 ン\n17:45-17:55　質疑応答\n17:55-18:00　告知、アンケート\n
 スピーカー\nメインスピーカー：株式会社村田製作所 
 情報システム統括部デジタル推進部 データサイエンス
 課 / 山田 一郎氏2004年、京都大学理学部化学専攻修了
 。その後、化成メーカー、総合電機メーカー、輸送機
 器部品メーカーなどを経験。R&D～設計開発、品質管理
 の領域でSQC(統計品質管理)をきっかけに、統計・機械
 学習を用いた企業活動の強化と教育に従事。2018年から
 現職。\nパネリスト：ダイハツ工業株式会社 東京LABOデ
 ータサイエンスグループ グループ長 / 太古 無限氏2007
 年ダイハツ工業入社。パワートレイン制御開発部ユニ
 ット制御開発室にて小型車用エンジンの制御開発を経
 て、2020年から東京LABOデータサイエンスグループ長と
 して、全社AI活用を推進する業務を従事。その他に、
 滋賀大学データサイエンス部インダストリーアドバイ
 ザーとして、社外におけるAI活用の普及活動にも努め
 る。経営学修士。\nモデレーター：スキルアップAI株式
 会社 代表取締役 / 田原 眞一東京大学大学院新領域創
 成科学研究科修了。新卒でエンジニアとプロジェクト
 マネジャーを経験後、リクルートにて数多くのAI案件
 に携わる。2017年に『スキルアップAI』を開始し、企業
 へのAI教育サービスの提供、コンサルティングを実施
 。著書に「徹底攻略 ディープラーニングG検定 ジェネ
 ラリスト問題集」。JDLAの人材育成委員も務める。\n日
 時\n2022年10月12日 (水)　17:00-18:00   ( 参加費：無料 )\n
 開催場所\nZoom         ※ご参加者には開催前日に、
 参加URLをご連絡します。\n※開催前日にZoomURLをお申込
 みいただきましたメールアドレスへご連絡させていた
 だきます。メールが届かない方は、当日12時迄に info@s
 killupai.com へお問い合わせください。\n注意事項\n※本
 セミナーは企業様限定のセミナーとなります。\n※本
 セミナーの途中入退室は自由です。\n※一部プログラ
 ムに変更が生じる場合がございます。\n※競合他社様
 のご参加は、ご遠慮いただいておりますので、ご了承
 ください。\n【ご協力のお願い】\n・申込後のキャンセ
 ルについては、前日までにご連絡ください。\n個人情
 報の取扱いについて\n申し込み時にご提供いただいた
 情報は、イベント受付管理や各種ご案内（サービス・
 イベント等）に利用させていただきます。プライバシ
 ーポリシーhttps://www.skillupai.com/privacy/\nご入力いただい
 た個人情報等を当社が業務提携・業務委託する一般社
 団法人 日本デイープラーニング協会に開示し、これを
 共同利用する場合があります。共同利用する場合の個
 人情報等の利用目的は、当該提携業務・委託業務を円
 滑に遂行するためであり、同利用に際して当該第三者
 に提供する個人情報等の範囲は、同業務遂行に必要な
 範囲とさせていただきます。共同利用される個人情報
 等に関しましても、弊社プライバシーポリシー第14条1
 項に規定される個人情報管理責任者において責任を持
 って管理させていただくのと共に、お問い合わせにつ
 きましては、同条第2項に規定する 連絡先宛にいただ
 きますようお願い致します。\n一般社団法人 日本デイ
 ープラーニング協会プライバシーポリシーはこちら\n
 運営団体\nスキルアップAI\nhttps://www.skillupai.com/
LOCATION:Zoom
URL:https://techplay.jp/event/873782?utm_medium=referral&utm_source=ics&utm
 _campaign=ics
END:VEVENT
END:VCALENDAR
