BEGIN:VCALENDAR
VERSION:2.0
PRODID:-//https://techplay.jp//JP
CALSCALE:GREGORIAN
METHOD:PUBLISH
X-WR-CALDESC:カインズのDX戦略と内製組織の作り方
X-WR-CALNAME:カインズのDX戦略と内製組織の作り方
X-WR-TIMEZONE:Asia/Tokyo
BEGIN:VTIMEZONE
TZID:Asia/Tokyo
BEGIN:STANDARD
DTSTART:19700101T000000
TZOFFSETFROM:+0900
TZOFFSETTO:+0900
TZNAME:JST
END:STANDARD
END:VTIMEZONE
BEGIN:VEVENT
UID:873915@techplay.jp
SUMMARY:カインズのDX戦略と内製組織の作り方
DTSTART;TZID=Asia/Tokyo:20221006T120000
DTEND;TZID=Asia/Tokyo:20221006T130000
DTSTAMP:20260420T062302Z
CREATED:20220914T031514Z
DESCRIPTION:イベント詳細はこちら\nhttps://techplay.jp/event/87391
 5?utm_medium=referral&utm_source=ics&utm_campaign=ics\n\nカインズのD
 X戦略と内製組織の作り方\n▼内容\n「現場にDXの熱が伝
 わらない・・・」　「PoC倒れでDXが進まない」　「DXに
 向けた壁が多すぎる・・・」　昨今、DXを経営方針に
 掲げている企業が増えていますが、成果を上げている
 企業は限定的です。\n本セミナーでは、「カインズ DX
 化の仕掛け人」である株式会社カインズ 執行役員デ
 ジタル戦略本部本部長の池照 直樹様をお迎えし、カ
 インズ様のDX戦略から具体の推進方法を踏まえ、推進
 していく上でキードライバーとなっている「DX人材の
 内製化」について解説いただきます。\n後半のパネル
 ディスカッションでは、大手企業のCDOとのディスカッ
 ションを年間100件以上おこなう、エクサウィザーズ取
 締役の大植から、カインズ様のDX推進手法・成功事例
 ・失敗事例について深掘りを行います。\n▼こんな方
 におすすめ\n・DX推進担当役員/責任者・DX組織構築・DX
 人材育成に携わる人事役員/責任者\n▼プログラム\n・12
 :00-　オープニング・12:05-　カインズのDX戦略と内製組
 織の作り方　　　　　池照 直樹 様・12:35-　パネルデ
 ィスカッション/質疑応答　　　　　大植 択真・12:55-
 　ご案内\n▼プロフィール\n池照 直樹 様株式会社カイ
 ンズ 執行役員最高イノベーション責任者 兼 最高デジ
 タル責任者 兼 デジタル戦略本部長\n日本コカ・コーラ
 、日本オラクルを経てケイ・ピー・アイ・ファクトリ
 ーを設立。Dynamics CRMのISVベンダーとしてソリューショ
 ンを提供する。 のちにマイクロソフトに入社し、Dynami
 cs CRMの開発チームの一員として、新機能の企画やロー
 ルアウト、大型案件のプロジェクトサポートを行う。 
 エノテカにおいて最新のテクノロジーを利用したOne-to-
 Oneマーケティングを実践後、設立30周年で「IT小売企業
 」へのビジネスモデル変革を掲げる株式会社カインズ
 に入社。デジタル戦略本部立ち上げと同時に、本部長
 として経営改革プロジェクトの先頭に立っている。\n\n
 大植 択真株式会社エクサウィザーズ  取締役\n京都大
 学工学部卒業。京都大学大学院工学研究科修士課程修
 了（都市計画、AI・データサイエンス）。2013年4月、ボ
 ストンコンサルティンググループに入社。インフラ、
 メーカー、商社の成長戦略、企業変革、新規事業立ち
 上げなどのプロジェクトに従事した後、2018年にエクサ
 ウィザーズに入社。19年4月より、AI事業管掌執行役員
 として年間数百件のAI導入・DX実現を担当。20年6月、取
 締役に就任。兵庫県立大学客員准教授を兼務。21年に
 調査レポート『次世代AI戦略2025』（日経BP）を出版。\n
 \n▼注意事項\n\n開催方法：Webセミナー　※Zoomを利用し
 ます\n参加方法：お申込後に、別途メールにてご案内
 致します。\n競合他社様のお申込みはお断りする場合
 がございます。予めご容赦ください。\n
LOCATION:オンライン
URL:https://techplay.jp/event/873915?utm_medium=referral&utm_source=ics&utm
 _campaign=ics
END:VEVENT
END:VCALENDAR
