BEGIN:VCALENDAR
VERSION:2.0
PRODID:-//https://techplay.jp//JP
CALSCALE:GREGORIAN
METHOD:PUBLISH
X-WR-CALDESC:【はじめてのホームページ制作発注】 ホーム
 ページの発注から完成までの流れ
X-WR-CALNAME:【はじめてのホームページ制作発注】 ホーム
 ページの発注から完成までの流れ
X-WR-TIMEZONE:Asia/Tokyo
BEGIN:VTIMEZONE
TZID:Asia/Tokyo
BEGIN:STANDARD
DTSTART:19700101T000000
TZOFFSETFROM:+0900
TZOFFSETTO:+0900
TZNAME:JST
END:STANDARD
END:VTIMEZONE
BEGIN:VEVENT
UID:874464@techplay.jp
SUMMARY:【はじめてのホームページ制作発注】 ホームペー
 ジの発注から完成までの流れ
DTSTART;TZID=Asia/Tokyo:20221010T203000
DTEND;TZID=Asia/Tokyo:20221010T213000
DTSTAMP:20260420T230949Z
CREATED:20220919T214811Z
DESCRIPTION:イベント詳細はこちら\nhttps://techplay.jp/event/87446
 4?utm_medium=referral&utm_source=ics&utm_campaign=ics\n\nホームペー
 ジやLPの、制作・リニューアル発注時の疑問を解消\n「
 はじめてのホームページ制作発注」は、コーポレート
 サイトやLPについて、・制作・リニューアルを考えて
 いるけれど、どう依頼すれば良いか分からない・案件
 でのトラブルが不安・WEBに関する用語がよく分からな
 いといった企業担当者の方向けに、実際に案件受注し
 ているWEBデザイナーの立場から、疑問解消のお役に立
 てないかと考えてスタートしたイベントです。HP・LPを
 、もっと効果的に活用するヒントになれればと思いま
 す。\nまずは、ホームページ制作の流れを知る\nはじめ
 てホームページ制作を依頼される際、何を準備すれば
 良いのか、どうやって進めていくのか、WEB制作業者と
 どうやりとりすればよいかなど、疑問に思う方も多い
 と思います。\n一方で、ホームページ、LPを一度流れを
 おさえておけば、そこまでパターンが複雑、かつ種類
 があるわけではないので、将来に渡って活かせる知識
 だと思います。\n近年は、デザインのトレンドと共に
 、ホームページのリニューアル案件も増えております
 。制作はもちろん、リニューアルならではの案件の流
 れについても、お話しできればと思います。\n・企業
 で広報されている方・これからサイト立ち上げ・リニ
 ューアルを検討されている方・HPやLPを効果的に運用し
 てみたい方\nなど、どなたでもお気軽にご参加くださ
 い！\nシンラボとは\n『テクノロジーで社会課題を解決
 する』をビジョンに、エンジニア、デザイナー、ライ
 ター、イべンテーターなど、様々な人が活躍するテッ
 クコミュニティです。アプリ開発、Webサイト制作から
 コミュニティ作り、イベント企画まで、様々なプロジ
 ェクトが創出されています。\nシンラボHPhttps://sinlab.fut
 ure-tech-association.org/シンラボYoutubeチャンネルhttps://www.yo
 utube.com/channel/UChs5SSU2BoJBTRxJm1lXe5A/videos\n開催概要\n【日
 時】2022年10月10日（月） 20:30~21:30【参加費】無料\n主催
 者：KURO\n\nシンラボ　広報チームリーダー1993年生まれ
 。法政大学デザイン工学研究科都市環境デザイン工学
 科卒業。地図制作会社、ゲーム会社のデザイナーに就
 職した後、会社を辞めて独学でWEBデザインを勉強し、
 現在WEBデザイナー。シンラボでは、HP制作から、ブラ
 ンディング、イベント企画などを担当。Wordpressを使っ
 て、コーポレートサイトからオウンドメディア、社内
 システムまで制作実績あり。\nタイムスケジュール\n\n\
 n\n時間\n内容\n\n\n\n\n20:30〜20:40\n質問コーナー（事前ア
 ンケートや、前回のイベントから）\n\n\n20:40〜21:20\n講
 義\n\n\n21:20〜21:30\nトークタイム（参加者の方と疑問解
 消やご感想など）\n\n\n\n※ 当日予告なく時間配分・内
 容が変更になる可能性がございます。\n注意事項\n\nリ
 クルーティング、勧誘など、採用目的でのイベント参
 加はお断りしております。\nキャンセル待ち・補欠・
 落選の方はご参加いただくことが出来ませんのでご了
 承ください。\n欠席される場合は、お手数ですが速や
 かにキャンセル処理をお願い致します。\n無断キャン
 セルや欠席が続く場合、次回以降の参加をお断りさせ
 ていただく場合がございます。\n
LOCATION:オンライン
URL:https://techplay.jp/event/874464?utm_medium=referral&utm_source=ics&utm
 _campaign=ics
END:VEVENT
END:VCALENDAR
