BEGIN:VCALENDAR
VERSION:2.0
PRODID:-//https://techplay.jp//JP
CALSCALE:GREGORIAN
METHOD:PUBLISH
X-WR-CALDESC:【9/30(金) 定員5人】SEOって何？Google広告って？
 でもOK！SEO × Google広告 × SNS × アナリティクス のDX対
 策を学ぶ【無料】これから始める研修体験
X-WR-CALNAME:【9/30(金) 定員5人】SEOって何？Google広告って？
 でもOK！SEO × Google広告 × SNS × アナリティクス のDX対
 策を学ぶ【無料】これから始める研修体験
X-WR-TIMEZONE:Asia/Tokyo
BEGIN:VTIMEZONE
TZID:Asia/Tokyo
BEGIN:STANDARD
DTSTART:19700101T000000
TZOFFSETFROM:+0900
TZOFFSETTO:+0900
TZNAME:JST
END:STANDARD
END:VTIMEZONE
BEGIN:VEVENT
UID:874784@techplay.jp
SUMMARY:【9/30(金) 定員5人】SEOって何？Google広告って？で
 もOK！SEO × Google広告 × SNS × アナリティクス のDX対策
 を学ぶ【無料】これから始める研修体験
DTSTART;TZID=Asia/Tokyo:20220930T130000
DTEND;TZID=Asia/Tokyo:20220930T140000
DTSTAMP:20260419T150724Z
CREATED:20220922T035119Z
DESCRIPTION:イベント詳細はこちら\nhttps://techplay.jp/event/87478
 4?utm_medium=referral&utm_source=ics&utm_campaign=ics\n\nSEOって何？G
 oogle広告って？でもOK！ SEO × Google広告 × SNS × アナリ
 ティクス のDX対策を学ぶ\n～【無料】これから始める
 研修体験 ～\nDX時代の人材不足は大きな問題ですね。
 ところで皆さんの会社は今月が上半期末では？次の下
 半期に向け大いに楽しみながら学びましょう！まずは
 無料体験。\n\n9月30日(金) 13:00～14:00\n\n▼こんな方に お
 すすめです\n\n\nチームのレベルアップに！\n\nそして学
 ばなくっちゃ！と思えた あなた ご自身\n\n\n異動で新
 しい仕事を担当することに。。\n\n新プロジェクトで新
 しい取り組みにチャレンジすることになった、など\n\n
 \n\n社員研修を検討中の人事部の方\n\n\n新卒に\n\n中途
 採用に\n\n\nあなたの\n\n\n部下に必要と思えたら\n\nご同
 僚にも\n\n\nその他 思い当たる人やチーム、部署に紹介
 してみては？\nとりあえず参加してみようでも もちろ
 んOK\n\n※ Webやマーケティング、そして分析の初心者か
 ら事業の成長カーブを目指してる方にまで分かりやす
 く ご説明します。\n▼セミナーの内容\n\n独学の最初の
 チャレンジで試行錯誤が続いて挫折してしまう。。\n\n
 もったいないですね。\n\n一歩目の一山を越えるのをお
 手伝い、それが私どもの研修のコンセプト。\n\n\n研修
 プログラムは各社様向けにカスタマイズ\n\nその一例を
 下記で ご紹介\nこの計4回を「ダイジェスト1回」で【
 無料】体験(Zoom)\n\n\n\n\n\n\n1回目\n\n\n\n\n\nテーマ\n各Web
 ツールの位置づけや使い方\n\n\n\n\nまず どんなツール
 があるか知り 使い方を学びます\n\nGoogleアナリティク
 ス (GA) (無料の「Page Analytics」も説明します)\nサーチコ
 ンソール (SC)\n旧Googleマイビジネス (旧GMB)\nGoogleマーチ
 ャントセンター (GMC)\nGoogle広告 (ここでは「キーワード
  プランナー」を中心に お話し)\nGoogleトレンド\nその他
  無料ツールで おすすめのもの\n\n\n操作方法とともに
 見るべきデータ(画面)や使うべき機能などの説明も\n\n\
 n\n\n2回目\n\n\n\n\n\nテーマ\n競合調査の方法と貴社サイ
 トとの比較の仕方\n\n\n\n\nライバルのことを詳しく知る
 ことで貴社にとって適切なマーケティングが何かが見
 えてきます\n\n競合調査手順\nどんなフォーマットの表
 で一覧化すると いいか？\n上記 表中での貴社の優位性
 や改善すべき点を分析\nさらに深掘りし競合のSEO対策
 の内容を解析\nGoogleアナリティクスやサーチコンソー
 ルから読み取れる貴社サイトの状況\n\n\n\n\n\n\n3回目\n\n
 \n\n\n\nテーマ\nSEOとSNS\n\n\n\n\nSEO\n\n前回の内容も踏まえ
 改めて貴社のSEO対策キーワードを選定\nこれをサイト
 に馴染み かつ貴社の特徴を捉えた表現にアレンジ(検
 索結果でのクリック率の向上)\nプログラムへの反映の
 仕方についてなど\nSEO対策で行わなくてはならないこ
 とは何か？(SEO対策の全体像から細部まで)\n\n\nSNS\n\nSNS
 に触れるユーザーの利用シーンを考えてみる\n上記観
 点からSNS投稿内容の表現を改めて検討してみる\nこれ
 らを踏まえたSNS強化策を導く\n\n\n\n\n\n\n4回目\n\n\n\n\n\n
 テーマ\nGoogle広告と これまでの まとめ\n\n\n\n\nやはり
 マーケティングに広告は欠かせないですね。ここではG
 oogle広告の説明と これまでの振り返り そして とても
 重要なPDCAの お話をします。\n\nリスティング広告の設
 定手順など\nディスプレイ広告の設定手順など\nSEO対策
 との相乗効果の具体化\nGoogle広告の効果を高める方法\n
 これまでの研修内容をサクッと振り返り(各施策が ど
 う連携しているかを把握)\n総まとめ: まるっとPDCAを実
 践(成長カーブの実現)\n\n\n\n以上 計4回の内容を「ダイ
 ジェスト1回」で無料お届け\n▼開催概要\n・開催日時20
 22年9月30日(金) 13:00～14:00\n・参加費無料\n・開催方法ウ
 ェビナー(オンラインセミナー)　※Zoomを利用します。\
 n・参加方法お申し込み後にメールで ご案内致します
 。\n▼タイムスケジュール\n\n\n\n時間\n内容\n\n\n\n\n12:50
 〜\n受付開始(視聴用URL開場)\n\n\n13:00〜13:50\nセミナー本
 編\n\n\n13:50〜14:00\n質疑応答(質問がなくなり次第終了)
 、また説明が分かりやすかったか？など直感的な印象
 などをアンケートさせて頂きます。\n\n\n\n※ 当日予告
 なく時間配分・内容が変更になる可能性がございます
 。\n▼講師紹介\n\n澤井 貞夫\nグロース・インク(株)マ
 ーケター兼コンテンツ ディレクター７つのGoogle資格保
 有者・講師の認定資格証明書はこちらでご確認頂けま
 す。\n・通販 EC の経験を経て、スマホ[アプリ]/モバイ
 ルや PC 向けコンテンツのディレクションおよびマーケ
 ティングの経験 多数。\n・企画立案から要件定義、そ
 して進捗管理からプロジェクトの収益化までをトータ
 ルで対応。\n\n▼参加費\n無料\n注意事項\n※ 参加を辞
 退する場合は、詳細ページより申込のキャンセルをお
 願い致します。※ 無断キャンセル・欠席が続く場合、
 次回以降の参加をお断りさせていただく場合がござい
 ますのでご了承ください。
LOCATION:Zoom配信
URL:https://techplay.jp/event/874784?utm_medium=referral&utm_source=ics&utm
 _campaign=ics
END:VEVENT
END:VCALENDAR
