BEGIN:VCALENDAR
VERSION:2.0
PRODID:-//https://techplay.jp//JP
CALSCALE:GREGORIAN
METHOD:PUBLISH
X-WR-CALDESC:【受付中】第10回Matterportオンラインイベント
 　一歩先をゆくVR活用について（無料）
X-WR-CALNAME:【受付中】第10回Matterportオンラインイベント
 　一歩先をゆくVR活用について（無料）
X-WR-TIMEZONE:Asia/Tokyo
BEGIN:VTIMEZONE
TZID:Asia/Tokyo
BEGIN:STANDARD
DTSTART:19700101T000000
TZOFFSETFROM:+0900
TZOFFSETTO:+0900
TZNAME:JST
END:STANDARD
END:VTIMEZONE
BEGIN:VEVENT
UID:875166@techplay.jp
SUMMARY:【受付中】第10回Matterportオンラインイベント　一
 歩先をゆくVR活用について（無料）
DTSTART;TZID=Asia/Tokyo:20221012T130000
DTEND;TZID=Asia/Tokyo:20221012T143000
DTSTAMP:20260425T161226Z
CREATED:20220926T024313Z
DESCRIPTION:イベント詳細はこちら\nhttps://techplay.jp/event/87516
 6?utm_medium=referral&utm_source=ics&utm_campaign=ics\n\n第10回Matterpo
 rtオンラインイベント～一歩先をゆくVR活用について～
 \nVR活用で商流の一歩先を行くことにご興味のある方に
 向けてLivingCGがマターポートについてそのカメラや活
 用法について詳細にお伝えします。\n概要\nMatterportは
 デジタルとインターネットを活用するためのツールで
 す。このカメラに新型が発売されました。本日はその
 詳細とコストを発表します。また、マターポートで取
 得したデータでバーチャル展開をする上でどのような
 活用ができるのかご説明します。\n※MatterportPro3　先行
 予約開始しました。発売予定日は11月の予定です。\nタ
 イムスケジュール\n\n\n\n\n時間\n内容\n\n\n\n\n13:00〜\n受
 付開始\n\n\n13:05〜13:10\nはじめに登壇者： 有限会社リビ
 ングCG　 関\n\n\n13:10〜13:30\nArchiTwin　バーチャルステー
 ジング登壇者：池田\n\n\n13:30〜13:40\nMap Analize　行動解
 析　　※IT導入補助金50％補助登壇者： 有限会社リビ
 ングCG　 関\n\n\n13:40〜13:50\n360度カメラ　リモート現場
 管理　有限会社リビングCG　 関\n\n\n13:50〜14:20\nMatterport
  Pro3　リリース説明会　・Axis、Pro2、Pro3　活用シーン
 　・Pro3　仕様説明有限会社リビングCG　 岡田\n\n\n14：2
 0\n質疑応答\n\n\n14:30\n閉会\n\n\n\n\n※ 当日予告なく時間
 配分・内容が変更になる可能性がございます。\n登壇
 者\n\n有限会社リビングCG　岡田篤史氏\nご参加をお待
 ちしております。\n\n有限会社リビングCG　代表取締役
 社長　関　良平\nご参加をお待ちしております。\nArchiT
 win株式会社　池田達矢氏\nご参加をお待ちしておりま
 す。\nウェブサイト\n\n\nMatterport Axis\n\n\nMatterport\n\n\nArch
 iTwin\n\n\nMatterportのデータをMK360という大型360°プロジェ
 クターで閲覧可能になりました\nArchiTwin（Matterport　SDK
 アプリ）のバーチャルな世界を体感してください！\n\n
 有限会社リビングCG　会社概要\n「Cloudalize」「Lumion」
 「Matterport」「MKplayer360＋」の販売代理店。BIMに貢献す
 る企業。\nウェブサイトはこちらからhttps://livingcg.jp/\n
 会社概要社名：有限会社リビングCG代表取締役：関　
 良平所在地：〒105-0003　東京都港区西新橋2-33-4　プレ
 イアデ虎ノ門801電話番号：03-5404-3466メールアドレス：i
 nfo＠livingcg.jp\n\n参加対象\n\nVRカメラマンの方\nインタ
 ーネットにバーチャル展示場設置希望の方\n３Dスキャ
 ナーをご購入検討中の方\n保険等の写真記録担当者の
 方\nVR撮影機材のご購入をご検討の方\n建設現場をVRで
 記録されたい方\n不動産広告CGパース作成者\nMatterport製
 品をご購入をご検討中の方\n\n参加費\n無料\nハッシュ
 タグ\n#techplayjp\n注意事項\n\nキャンセル待ち・補欠・落
 選の方はご参加いただくことが出来ませんのでご了承
 ください。\n欠席される場合は、お手数ですが速やか
 にキャンセル処理をお願い致します。\n無断キャンセ
 ルや欠席が続く場合、次回以降の参加をお断りさせて
 いただく場合がございます。\n
LOCATION:オンライン
URL:https://techplay.jp/event/875166?utm_medium=referral&utm_source=ics&utm
 _campaign=ics
END:VEVENT
END:VCALENDAR
