BEGIN:VCALENDAR
VERSION:2.0
PRODID:-//https://techplay.jp//JP
CALSCALE:GREGORIAN
METHOD:PUBLISH
X-WR-CALDESC:（東日本電信電話） コロナ対策で急ぎテレワ
 ーク・SaaSを導入した中小企業は、なぜ社内のDXが進ま
 ないのか？ 「リモートスタンダード制度」を発表した
 NTT東日本の社内DX事例、バックオフィスの業務効率化
 の進め方を解説
X-WR-CALNAME:（東日本電信電話） コロナ対策で急ぎテレワ
 ーク・SaaSを導入した中小企業は、なぜ社内のDXが進ま
 ないのか？ 「リモートスタンダード制度」を発表した
 NTT東日本の社内DX事例、バックオフィスの業務効率化
 の進め方を解説
X-WR-TIMEZONE:Asia/Tokyo
BEGIN:VTIMEZONE
TZID:Asia/Tokyo
BEGIN:STANDARD
DTSTART:19700101T000000
TZOFFSETFROM:+0900
TZOFFSETTO:+0900
TZNAME:JST
END:STANDARD
END:VTIMEZONE
BEGIN:VEVENT
UID:875231@techplay.jp
SUMMARY:（東日本電信電話） コロナ対策で急ぎテレワーク
 ・SaaSを導入した中小企業は、なぜ社内のDXが進まない
 のか？ 「リモートスタンダード制度」を発表したNTT東
 日本の社内DX事例、バックオフィスの業務効率化の進
 め方を解説
DTSTART;TZID=Asia/Tokyo:20221018T150000
DTEND;TZID=Asia/Tokyo:20221018T155500
DTSTAMP:20260420T122556Z
CREATED:20220926T140012Z
DESCRIPTION:イベント詳細はこちら\nhttps://techplay.jp/event/87523
 1?utm_medium=referral&utm_source=ics&utm_campaign=ics\n\n本セミナー
 は終了いたしました。\n\nお申込・ご参加ありがとうご
 ざいました。\n\nセミナーに関する資料は、セミナー開
 催報告ページで公開しています。\n\n【2022年11月17日公
 開予定】\n\n\n\n当お申込ページは 東日本電信電話 経由
 の方向けの お申込みページです。\n\n一般の方はこち
 らからお申し込みください。\n\n本セミナーはWebセミナ
 ーです。\n\nツールはTeamsを使います。URLは直前にメー
 ルにてご連絡いたします。\n\nなお、「osslabo.com」「maji
 semi.com」からのメールが迷惑メールとならないよう、
 メールの設定をご確認下さい。\n\nなぜ中小企業の社内
 DXが進まないのか？\n\n新型コロナウィルスの感染拡大
 に伴い、中小企業の多くが直近2年以内にリモートワー
 クを導入しました。\n\n当時、ZoomやTeamsなどのクラウド
 サービスを利用開始したものの、その後社内DX化が進
 んでいないケースは多いのではないでしょうか。\n\n在
 宅勤務から出社に切り替える企業も増えていることで
 しょう。\n\nなぜ、多くの中小企業ではDXが思ったほど
 進まなかったのでしょうか？\n\nNTT東日本グループは、
 なぜフルリモートの経営スタイルに舵を切れたのか？\
 n\nNTT東日本グループは、日本全国どこに住んでいても
 リモートワークで働ける新制度「リモートスタンダー
 ド制度」を2022年7月1日から導入しています。\n\n社員の
 希望に応じて、日本全国どこからでもリモートワーク
 で働けるようになり、転勤、単身赴任のない働き方を
 拡大していく方針です。\n\nNTT東日本グループの中核を
 担うNTT東日本では、コロナ以降DX化に取り組んできま
 した。\n\n本セミナーでは、NTT東日本グループがどのよ
 うに社内の障壁を乗り越え、どのようなステップでDX
 化を実現してきたのかに迫ります。\n\n働き方改革の基
 盤をつくる「SaaS選び」\n\n社内DXや働き方改革を妨げて
 いる理由には、人事制度や労働慣習の他にも、IT環境
 やセキュリティの問題が潜んでいます。\n\n快適にリモ
 ートワーキングを進めるために、インフラ・ツール、
 特にSaaSの導入は不可欠です。\n\nコラボレーションツ
 ール、プロジェクト管理、ビデオ会議、ID認証など、DX
 時代に必須なSaaSをどのように選べばよいのでしょうか
 ？\n\n新しい働き方・デジタルワークシフトを推進する
 のに必要なSaaSを一挙に解説します！\n\n本セミナーで
 は、これからDXやリモートワークを推進していく企業
 様向けに、新しい働き方・デジタルワークシフトを実
 現するためのSaaS選びのポイントおよび具体的な製品・
 ソリューションをご提案します。\n\nNTT東日本のDX推進
 をサポートしてきたネクストモードの取り組み、中小
 企業のバックオフィス業務効率化ソリューションもご
 紹介いたします。\n\n現在利用しているSaaSを見直した
 い経営者、リモートワークに最適なIT環境を構築した
 いシステム責任者の皆様にとってヒントになる内容で
 す。奮ってご参加ください。\n\nプログラム\n\n14:45～15:
 00　受付\n\n15:00～15:05　オープニング（マジセミ ）\n\n1
 5:05～15:15 【録画放映】ワーケーション実践から見えて
 きた、あたらしい働き方\n\nネクストモード株式会社 
 代表取締役  里見 宗律 \n\n15:15～15:35  ネクストモード
 流SaaS導入支援、ソリューション紹介\n\nネクストモー
 ド株式会社 SaaS部 部長 久住 陽介\n\n15:35～15:50   バック
 オフィス業務に関する社内DX事例や導入前後のサポー
 トをご紹介！\n\n東日本電信電話株式会社 ビジネス開
 発本部第三部門 サポートサービス担当 中村 聡子 \n\n15
 :50～15:55　質疑応答\n\n主催\n\nネクストモード株式会社
 （プライバシー・ポリシー）\n\n共催\n\n東日本電信電
 話株式会社（プライバシー・ポリシー）\n\n協力\n\n株
 式会社オープンソース活用研究所（プライバシー・ポ
 リシー）\n\nマジセミ株式会社（プライバシー・ポリシ
 ー）\n\n当日会場アクセスに関するお問合せ\n\nteams@ossla
 bo.com\n\nセミナー事務局\n\nマジセミ株式会社（プライ
 バシー・ポリシー）\n\n\n※以下の方について、当社判
 断によりご参加をご遠慮頂く場合がございます。予め
 ご了承下さい。\n\n・講演企業の競合となる商品・サー
 ビスを提供している企業、同業の企業、及びそのグル
 ープ企業・関連企業の方\n・個人や個人事業主の方\n・
 海外から参加される方\n・日本に活動拠点が無い企業
 の方\n・その他、弊社及び講演企業が不適切と判断し
 た企業・個人の方\n\n※申込が多数の場合、弊社抽選に
 てご参加をご遠慮頂く場合がございますので、予めご
 了承ください。\n\n※本コミュニティにてご提示いただ
 いた情報、及び、申込時にご記載頂いた内容は、マジ
 セミ株式会社にて収集し、マジセミ株式会社／オープ
 ンソース活用研究所、及び、主催・共催・協賛・協力
 ・講演の各企業へ提供します。共催・協賛・協力・講
 演の各企業へは、主催企業を通して提供する場合があ
 ります。またプライバシーポリシーに定めがある場合
 は主催・共催・協賛・協力・講演の委託先にマジセミ
 株式会社から直接提供する場合があります。ご記入頂
 いた個人情報は、マジセミ株式会社／株式会社オープ
 ンソース活用研究所及び主催・共催・協賛・協力・講
 演企業の各プライバシーポリシーに従って厳重に管理
 し、各社のサービス、製品、セミナー、イベントなど
 のご案内に使用させて頂き、また各社のメルマガに登
 録させていただきます。ご記入頂いた個人情報は、法
 で定める場合や各社のプラバシーポリシーに特別な記
 載がある場合を除きご本人の同意を得ることなく第三
 者へ提供いたしません。利用目的遂行のため個人情報
 の取扱いを外部に委託する場合は、委託した個人情報
 の安全管理が図られるように、委託をする各社が定め
 た基準を満たす委託先を選定し、委託先に対して必要
 かつ適切な監督を行います。 お客様の個人情報に関す
 る開示等は、お申し出頂いた方がご本人（代理人）で
 あることを確認した上で、各社において合理的な期間
 および範囲で対応いたします。開示等の手続き、個人
 情報の取扱いに関するお問い合わせは下記のお問い合
 わせ窓口へご連絡下さい。\n\n〔お問合せ先　及び　個
 人情報保護管理者〕　マジセミ株式会社 個人情報保護
 管理者　連絡先：03-6721-8548
LOCATION:オンライン
URL:https://techplay.jp/event/875231?utm_medium=referral&utm_source=ics&utm
 _campaign=ics
END:VEVENT
END:VCALENDAR
