BEGIN:VCALENDAR
VERSION:2.0
PRODID:-//https://techplay.jp//JP
CALSCALE:GREGORIAN
METHOD:PUBLISH
X-WR-CALDESC:阪急阪神不動産流　全社を巻き込んだDX推進の
 すゝめ
X-WR-CALNAME:阪急阪神不動産流　全社を巻き込んだDX推進の
 すゝめ
X-WR-TIMEZONE:Asia/Tokyo
BEGIN:VTIMEZONE
TZID:Asia/Tokyo
BEGIN:STANDARD
DTSTART:19700101T000000
TZOFFSETFROM:+0900
TZOFFSETTO:+0900
TZNAME:JST
END:STANDARD
END:VTIMEZONE
BEGIN:VEVENT
UID:875393@techplay.jp
SUMMARY:阪急阪神不動産流　全社を巻き込んだDX推進のす
 ゝめ
DTSTART;TZID=Asia/Tokyo:20221013T120000
DTEND;TZID=Asia/Tokyo:20221013T130000
DTSTAMP:20260423T013135Z
CREATED:20220927T064845Z
DESCRIPTION:イベント詳細はこちら\nhttps://techplay.jp/event/87539
 3?utm_medium=referral&utm_source=ics&utm_campaign=ics\n\n阪急阪神不
 動産流　全社を巻き込んだDX推進のすゝめ\n▼内容\n「
 現場にDXの熱が伝わらない・・・」「PoC倒れでDXが進ま
 ない」「DXに向けた壁が多すぎる・・・」昨今、DXを経
 営方針に掲げている企業が増えていますが、成果を上
 げている企業は限定的です。\n本セミナーでは、阪急
 阪神不動産株式会社の全社DX推進をリードされている
 向原様をお迎えし、全社でのDXを推進するに至った背
 景や、推進していくための巻き込み施策、また、DX化
 においてポイントとなってくる「DX人材の内製化」に
 ついて実際のお取り組みをご紹介いただきます。 後半
 のパネルディスカッションでは、エクサウィザーズ取
 締役の大植から、阪急阪神不動産様のDX推進手法・成
 功事例・失敗事例について深掘りを行います。\nこれ
 からDX推進をリードしていく方、DX推進のための人材育
 成について課題感をお持ちの方にとって必見の内容に
 なっておりますので、是非ご視聴ください。\n▼こん
 な方におすすめ\n\nDX推進担当役員/責任者\nDX組織構築
 ・DX人材育成に携わる人事役員/責任者\n\n▼講義内容\n1
 2:00-　　オープニング\n12:05-　　阪急阪神不動産流　全
 社を巻き込んだDX推進のすゝめ　　　　　 経営企画本
 部 ＤＸ推進部　　　　　 ＤＸ企画推進グループ兼人
 事部人事グループ課長　　　　　 向原 孝樹 氏12:30-　
 　パネルディスカッション／質疑応答　　　　　 株式
 会社エクサウィザーズ　　　　　 取締役　　　　　 
 大植 択真12:55-　　ご案内\n▼講師プロフィール\n向原 
 孝樹 氏\n阪急阪神不動産株式会社 経営企画本部 ＤＸ
 推進部ＤＸ企画推進グループ 兼 人事部人事グループ
 課長\n大植 択真（おおうえ　たくま）\n株式会社エク
 サウィザーズ　取締役\n京都大学工学部卒業。京都大
 学大学院工学研究科修士課程修了（都市計画、AI・デ
 ータサイエンス）。2013年4月、ボストンコンサルティ
 ンググループに入社。インフラ、メーカー、商社の成
 長戦略、企業変革、新規事業立ち上げなどのプロジェ
 クトに従事した後、2018年にエクサウィザーズに入社。
 19年4月より、AI事業管掌執行役員として年間数百件のAI
 導入・DX実現を担当。20年6月、取締役に就任。兵庫県
 立大学客員准教授を兼務。21年に調査レポート『次世
 代AI戦略2025』（日経BP）を出版。\n\n▼注意事項\n\n開催
 方法：Webセミナー　※Zoomを利用します\n参加方法：お
 申込後に、別途メールにてご案内致します。\n競合他
 社様のお申込みはお断りする場合がございます。予め
 ご容赦ください。\n
LOCATION:オンライン
URL:https://techplay.jp/event/875393?utm_medium=referral&utm_source=ics&utm
 _campaign=ics
END:VEVENT
END:VCALENDAR
