BEGIN:VCALENDAR
VERSION:2.0
PRODID:-//https://techplay.jp//JP
CALSCALE:GREGORIAN
METHOD:PUBLISH
X-WR-CALDESC:大阪シニアプログラミングもくもく会2022年10
 月版
X-WR-CALNAME:大阪シニアプログラミングもくもく会2022年10
 月版
X-WR-TIMEZONE:Asia/Tokyo
BEGIN:VTIMEZONE
TZID:Asia/Tokyo
BEGIN:STANDARD
DTSTART:19700101T000000
TZOFFSETFROM:+0900
TZOFFSETTO:+0900
TZNAME:JST
END:STANDARD
END:VTIMEZONE
BEGIN:VEVENT
UID:875952@techplay.jp
SUMMARY:大阪シニアプログラミングもくもく会2022年10月版
DTSTART;TZID=Asia/Tokyo:20221014T200000
DTEND;TZID=Asia/Tokyo:20221014T213000
DTSTAMP:20260423T012053Z
CREATED:20221001T033752Z
DESCRIPTION:イベント詳細はこちら\nhttps://techplay.jp/event/87595
 2?utm_medium=referral&utm_source=ics&utm_campaign=ics\n\n大阪シニア
 プログラミングもくもく会2022年10月\n概要\nプログラミ
 ングを趣味として作品作りを楽しむシニアの会合です
 。\nオンラインにより開催しますので、大阪の名前が
 入っていますが、これにとらわれず遠くからのご参加
 も自由です。\n・自分で開発したscratchやアプリなどの
 作品を発表できます。・メンバーが作った作品を一緒
 に楽しむことができます。\n作品発表を希望される方
 は、アンケートにその旨をご記入くださるようお願い
 いたします。また作品は自分で開発したもの以外でも
 、参考になるものがあれがご紹介することも自由です
 。\n・また、毎月、ITに関わるテーマについて色々と参
 加者でおしゃべりをします。今月の話題は未定です。\
 nZoomを使用しますので、事前にインストールしておい
 てください。\nタイムスケジュール(案)\n\n\n\n時間\n内
 容\n\n\n\n\n20:00〜21:00\n作品発表等\n\n\n21:00〜21:30\nテーマ
 等\n\n\n\n※ 当日20時から開始いたします。\n※ 当日参
 加人数などにより予告なく時間配分・内容が変更にな
 る可能性がございます。\n参加方法\n申込者には開催2~3
 日前と当日の１８時にZoomの招待メールを送付いたしま
 す。\n当日の途中参加や退出は自由です。\n参加費\n無
 料\n注意事項\n\n欠席される場合は、お手数ですが速や
 かにキャンセル処理をお願い致します。\n
LOCATION:オンラインで開催します
URL:https://techplay.jp/event/875952?utm_medium=referral&utm_source=ics&utm
 _campaign=ics
END:VEVENT
END:VCALENDAR
