BEGIN:VCALENDAR
VERSION:2.0
PRODID:-//https://techplay.jp//JP
CALSCALE:GREGORIAN
METHOD:PUBLISH
X-WR-CALDESC:10/20開催【予算消化】デジタルマーケティング
 おすすめ施策紹介ウェビナー
X-WR-CALNAME:10/20開催【予算消化】デジタルマーケティング
 おすすめ施策紹介ウェビナー
X-WR-TIMEZONE:Asia/Tokyo
BEGIN:VTIMEZONE
TZID:Asia/Tokyo
BEGIN:STANDARD
DTSTART:19700101T000000
TZOFFSETFROM:+0900
TZOFFSETTO:+0900
TZNAME:JST
END:STANDARD
END:VTIMEZONE
BEGIN:VEVENT
UID:876523@techplay.jp
SUMMARY:10/20開催【予算消化】デジタルマーケティングお
 すすめ施策紹介ウェビナー
DTSTART;TZID=Asia/Tokyo:20221020T140000
DTEND;TZID=Asia/Tokyo:20221020T143000
DTSTAMP:20260420T110023Z
CREATED:20221005T075319Z
DESCRIPTION:イベント詳細はこちら\nhttps://techplay.jp/event/87652
 3?utm_medium=referral&utm_source=ics&utm_campaign=ics\n\n10/20開催 余
 った予算で成果を出そう！【予算消化】おすすめデジ
 タルマーケティング施策紹介ウェビナー\n概要\nイベン
 ト名：余った予算で成果を出そう！予算消化おすすめ
 施策紹介ウェビナー開催日時：2022年10月20日（木）14:00
  ～ 14:30場所：オンライン（Zoom）参加費：無料主催：
 ナイル株式会社\n◇セミナーの詳細・申し込みページUR
 L：https://www.seohacks.net/seminar/seo/16082/\n今年も残り約3ヶ
 月となり、「様々な施策を行ったものの、予算が余っ
 た」というマーケティング担当者様も少なくないので
 はないでしょうか。そこで、今回のオンラインセミナ
 ーでは「予算消化」をテーマに、“ 無駄なく効率的に
 成果を出すためのおすすめデジタルマーケティング施
 策 ”を解説いたします。年末の納品、検収など時間の
 制限がある今の時期だからこそ、どのような施策がも
 っとも効果的なのか知ることができます。\nアジェン
 ダ\n・そもそも予算を使い切れないとどうなるのか？
 ・効果的な予算消化の考え方・デジタルマーケティン
 グ施策紹介└すぐに効果のある施策└来年以降に向け
 た施策・まとめ\nセミナーはこんな方におすすめ\n・予
 算が余ってしまった方・残りの予算で成果を上げる施
 策を知りたい方・年内で行えるデジタルマーケティン
 グ施策を知りたい方・来年に向けたデジタルマーケテ
 ィング施策を準備したい方\n登壇者\n青木 創平（あお
 き そうへい）ナイル株式会社 デジタルマーケティン
 グ事業部マーケター/SEOコンサルタント\n著書：「SEO初
 心者が知っておきたいGoogle機能の基礎知識」https://www.s
 hoeisha.co.jp/book/detail/9784798177403SEO相談室：https://www.seohack
 s.net/\n1994年東京生まれ。大規模データベース型サイト
 などの技術的に複雑なSEOのプロジェクトや、BtoBのサー
 ビスサイトにおけるオウンドメディアマーケティング
 などを担当。2021年からはSEO研究所を立ち上げ、より成
 果に貢献するSEOを追求している。\n参加費\n無料
LOCATION:オンライン
URL:https://techplay.jp/event/876523?utm_medium=referral&utm_source=ics&utm
 _campaign=ics
END:VEVENT
END:VCALENDAR
