BEGIN:VCALENDAR
VERSION:2.0
PRODID:-//https://techplay.jp//JP
CALSCALE:GREGORIAN
METHOD:PUBLISH
X-WR-CALDESC:Excelで学ぶデータ集計～日や時間を集計する～
X-WR-CALNAME:Excelで学ぶデータ集計～日や時間を集計する～
X-WR-TIMEZONE:Asia/Tokyo
BEGIN:VTIMEZONE
TZID:Asia/Tokyo
BEGIN:STANDARD
DTSTART:19700101T000000
TZOFFSETFROM:+0900
TZOFFSETTO:+0900
TZNAME:JST
END:STANDARD
END:VTIMEZONE
BEGIN:VEVENT
UID:876907@techplay.jp
SUMMARY:Excelで学ぶデータ集計～日や時間を集計する～
DTSTART;TZID=Asia/Tokyo:20221108T190000
DTEND;TZID=Asia/Tokyo:20221108T200000
DTSTAMP:20260420T023422Z
CREATED:20221008T024216Z
DESCRIPTION:イベント詳細はこちら\nhttps://techplay.jp/event/87690
 7?utm_medium=referral&utm_source=ics&utm_campaign=ics\n\nExcelで学ぶ
 データ集計～日や時間を集計する～\nクリーク･アン
 ド･リバー社（C&R社）は、11月8日（火） に、日常的に
 Excelを使用し多くのデータを扱っている方を対象に、
 「Excelで学ぶデータ集計～日や時間を集計する～」を
 開催します。\nExcelで データの加工、集計、データ分
 析など、これまで必要に応じてご自身で調べたり、先
 輩から習ったりしながら必要に応じて知識・技術の習
 得をされてきた方が多いのではないでしょうか。基礎
 的な操作や関数については特に問題なく使用すること
 ができ、ピボットやマクロも活用しながらデータを扱
 っている中で、・作業工程をもっと簡略化してスピー
 ドアップできないか・エラーを未然に防げないか・自
 分の使いかた（使用方法）が正しいのか不安だという
 方々に向け、「Excelで学ぶデータ集計」ウェビナーを
 実施していきます。\n今回のウェビナーでは、表示形
 式がポイントとなる「日」「時間」の集計についてハ
 ンズオン形式でご紹介していきます。\n今後も、Excelの
 関数・ピボット・マクロなどについて、ハンズオン形
 式のオンライン講座を順次開催予定です。データ集計
 に必要なExcel技術を習得するために、是非継続してご
 参加ください。\nこんなことをお話します！\n\n日や時
 間の集計方法について\nシリアル値とは\n表示形式の上
 手な使い方\n\nこんな方にオススメ！\n\n普段Excelを使っ
 ている中級者\nExcelでデータ集計をされている方\nVLOOKUP
 や集計で使用する関数について再度学びなおしをした
 い方\n\nタイムスケジュール\n\n\n\n時間\n内容\nspeaker\n\n\
 n\n\n19：00～19：05\nオープニング\nC&R社\n\n\n19：05～19：50
 \n講演\n古澤登志美 氏\n\n\n19：50～20：00\n質疑応答\n\n\n
 \n20：00～\nクロージング\n\n\n\n\n※ 当日予告なく時間配
 分・内容が変更になる可能性がございます。\n登壇者\n
 古澤　登志美（ふるさわ・としみ）氏\n株式会社ワン
 ズ・ワン代表取締役。2001年、パソコン出張サポート業
 を起ち上げ、同時にＩＴ系セミナー講師としても活動
 を開始。Excelを始めとしたOfficeアプリの他、ホームペ
 ージ作成や画像処理など、全く初めて触れる受講者に
 もわかりやすく伝えることを得意とする。現在はＩＴ
 活用支援を中心とした、中小機企業向け経営コンサル
 ティングを主な事業としている。2017年、中小企業診断
 士登録。2021年ＩＴコーディネータ認定。\n\n参加対象\n
 ・Excel中級者の方・データ領域に業務の幅を広げたい
 とお考えの方・マーケティング部門/販促部門/営業/プ
 ランナーの方で、普段データを扱っている方・事務職
 からのキャリアアップをご検討中の方\n参加費\n無料\n
 当ウェビナーについて\n\n\nこちらのサイト からもお
 申込みいただくことができます。\n\n▼C&R社で実施して
 いるオンライン講座・ウェビナー　一覧ページhttps://ww
 w.c-place.ne.jp/
LOCATION:オンライン
URL:https://techplay.jp/event/876907?utm_medium=referral&utm_source=ics&utm
 _campaign=ics
END:VEVENT
END:VCALENDAR
