BEGIN:VCALENDAR
VERSION:2.0
PRODID:-//https://techplay.jp//JP
CALSCALE:GREGORIAN
METHOD:PUBLISH
X-WR-CALDESC:アンサーロボ事例セミナー 小チーム編
X-WR-CALNAME:アンサーロボ事例セミナー 小チーム編
X-WR-TIMEZONE:Asia/Tokyo
BEGIN:VTIMEZONE
TZID:Asia/Tokyo
BEGIN:STANDARD
DTSTART:19700101T000000
TZOFFSETFROM:+0900
TZOFFSETTO:+0900
TZNAME:JST
END:STANDARD
END:VTIMEZONE
BEGIN:VEVENT
UID:877142@techplay.jp
SUMMARY:アンサーロボ事例セミナー 小チーム編
DTSTART;TZID=Asia/Tokyo:20221018T121500
DTEND;TZID=Asia/Tokyo:20221018T130000
DTSTAMP:20260421T045732Z
CREATED:20221011T062921Z
DESCRIPTION:イベント詳細はこちら\nhttps://techplay.jp/event/87714
 2?utm_medium=referral&utm_source=ics&utm_campaign=ics\n\nアンサーロ
 ボは、世界最高精度のAIだから実現した\nFAQを登録する
 だけでAIボットをリリースできるサービスです。\nアン
 サーロボ事例セミナー・小チーム編では、\nサービス
 のご紹介と小チームでの導入事例をご紹介いたします
 。\n■概要\n十分なサービシングをしたくても\n小さな
 チームだと対応に人手がかけられない、\nFAQの整備・
 更新もままならないケースがあると思います。\n賢いAI
 を活用することで、\n導入・運営の手間を最小限にし
 てユーザー等の\n情報ニーズに応えることが可能にな
 ります。\nアンサーロボがどれだけ賢いのか、\nそれを
 活用するとどれだけ効果を期待できるのか、\nセミナ
 ーを通じて確かめていただければと思います！\n■開
 催詳細\n10月18日　12:15～13:00\nZoomにて開催\n※お申込者
 にURLをご案内いたします\n■プレゼンテーター\n・谷口
 諭\n　Sales Manager\n　参考：　https://www.ousia.jp/ja/company\n
 ■内容\n・アンサーロボと導入事例のご紹介（30分）\n
 ・Q&A（15分）\n■想定対象者\n・カスタマーサポート担
 当者\n・ユーザー向けFAQ運営担当者\n■参加費用\n・無
 料\n--\n■参考\nFAQを登録するだけでAIボットをリリース
 できる質問応答システム\nアンサーロボ　https://www.answe
 rrobot.ai/\nアンサーロボ導入事例　https://www.answerrobot.ai/u
 ser-voice/takase-law/\nStudio Ousia　https://www.ousia.jp
LOCATION:オンライン オンライン
URL:https://techplay.jp/event/877142?utm_medium=referral&utm_source=ics&utm
 _campaign=ics
END:VEVENT
END:VCALENDAR
