BEGIN:VCALENDAR
VERSION:2.0
PRODID:-//https://techplay.jp//JP
CALSCALE:GREGORIAN
METHOD:PUBLISH
X-WR-CALDESC:【人流アナリティクス活用セミナー】 ～人流
 アナリティクスセミナーで実現できる実世界の消費者
 動向分析とは？～
X-WR-CALNAME:【人流アナリティクス活用セミナー】 ～人流
 アナリティクスセミナーで実現できる実世界の消費者
 動向分析とは？～
X-WR-TIMEZONE:Asia/Tokyo
BEGIN:VTIMEZONE
TZID:Asia/Tokyo
BEGIN:STANDARD
DTSTART:19700101T000000
TZOFFSETFROM:+0900
TZOFFSETTO:+0900
TZNAME:JST
END:STANDARD
END:VTIMEZONE
BEGIN:VEVENT
UID:877167@techplay.jp
SUMMARY:【人流アナリティクス活用セミナー】 ～人流アナ
 リティクスセミナーで実現できる実世界の消費者動向
 分析とは？～
DTSTART;TZID=Asia/Tokyo:20221026T160000
DTEND;TZID=Asia/Tokyo:20221026T170000
DTSTAMP:20260422T215324Z
CREATED:20221011T080013Z
DESCRIPTION:イベント詳細はこちら\nhttps://techplay.jp/event/87716
 7?utm_medium=referral&utm_source=ics&utm_campaign=ics\n\n人流アナリ
 ティクスセミナーで実現できる実世界の消費者動向分
 析とは？\n～今までは見えなかった消費者の動向がわ
 かる！店舗周辺人流変化、来訪者はどこから？、競合
 店との人流比較～\nリアル世界（オフライン）の人出
 の動向を把握するために注目されている人流データを
 クラウドサービスで利用できる「人流アナリティクス
 ™」についてご案内いたします。自社のマーケティン
 グ活動で人流データをどのように活用していくかを学
 んでいただくためのヒントになるよう本セミナーでは
 、無料で利用ができる「人流アナリティクス™」のサ
 ービスを通して実際の活用事例などを交えながらご説
 明いたします。また、人流分析をはじめて学ぶ方にも
 安心して参加いただけるようにセミナーの前段では、
 基礎的な位置情報データについてもわかりやすく解説
 いたします。\nこのような方におすすめです\n\n人流デ
 ータについて詳しく知りたい方\n人流データを活用し
 たビジネスヒントを探している方\n観光地、地域や商
 店街などの活性化での人流データに興味がある方\n企
 業業績分析に人流データを活用されたい方\n企業のマ
 ーケティング、販売促進部門の方\n他の位置情報デー
 タとクロスロケーションズが提供する人流データとの
 違いについて詳しく知りたい方\n\n◆人流データに関す
 る環境\n新型コロナウィルスの影響によりテレビなど
 で頻繁に取り上げられることが増えた人流データです
 が、実際のビジネスにおいては出店計画などに活用さ
 れるマーケティングの分野や、イベント・屋外広告に
 おける広告の効果測定として人の流れを分析すること
 に利用されたり、街や観光地の人出変化の分析、その
 他にも都市計画、ヘッジファンドでの株価予測など幅
 広い分野で活用が始まっています。\nしかし、多くの
 企業にとって人流データは、未知のデータとされてい
 ることもあり、その多くの理由は自社のビジネスにど
 のように役立つかのイメージがわかないという声を聞
 きます。また、導入コストに多額の費用が発生したり
 分析の難易度を懸念して検討に踏み切れない企業も多
 く存在します。\n本セミナーでは、幅広い分野で有用
 な人流データを、コストや分析の難しさを気にしない
 ですぐに利用開始できる新サービス「人流アナリティ
 クス™」のご紹介と共に、実際のビジネスでの活用事
 例を詳しくご説明いたします。\nこれまで人流データ
 を活用するためには、高額な費用や位置情報ビッグデ
 ータを新たに取得するなどのデータの問題から、その
 後の解析や統計加工処理などの専門的な知識が必要で
 した。しかし、人流データがWeb解析の世界で当たり前
 のように行われているようにだれもが利用できる時代
 が訪れています。\n当社独自のAI解析を行った高解像度
 の位置情報ビッグデータがすぐに利用できる人流デー
 タとして搭載されたクラウドサービスを月額１万円(税
 抜き)で自由に利用ができるようになりました。セミナ
 ーの中では、これらのサービス内容にについて詳しく
 紹介していきます。\n開催概要\n日　時： 2022年10月26日
 （水）　時　間　16：00 ～ 17：00定　員： 30名　 ※先
 着順参加費： 無料開催方法： オンライン（Zoomウェビ
 ナー）セミナー詳細ページ：https://www.x-locations.com/semina
 r/20221026/※本セミナーご登録後に当日の視聴用のURLを
 ご案内いたします。\n◆Session１: 人流の見える化を早
 く、簡単に、安価で実現人流アナリティクスのご紹介
 ◆Session２: 人流が見えればビジネスが変わる実際のビ
 ジネスでの活用事例　販売促進、屋外広告分析、出店
 時の分析、観光地の分析、商店街の分析などの事例ご
 紹介\n主催\nクロスロケーションズ株式会社https://www.x-l
 ocations.com/\n【本ウェビナーに関するお問い合わせ先】
 セミナー事務局：contact@x-locations.com\n◆参加費無料　※
 オンライン開催　 Zoomウェビナー\n注意事項\n・お申し
 込みには貴社名・アドレス・部署・電話番号が必須と
 なります。・リクルーティング、勧誘など、採用目的
 でのイベント参加はお断りしております。・参加を辞
 退する場合は、詳細ページより申込のキャンセルをお
 願いいたします。・同業他社さまのご参加はお断りさ
 せていただいております。ご理解のほどお願い申し上
 げます。\n【個人情報の取り扱い】個人情報保護管理
 者兼お問い合わせ窓口 ：〒150-0022　東京都渋谷区恵比
 寿南1丁目2-9　小林ビル6階クロスロケーションズ株式
 会社　個人情報保護管理責任者　取締役CFOメールアド
 レス：privacy＠x-locations.com利用目的 ：セミナーへの参
 加のご案内、当社のサービスに関するご案内・営業お
 よびマーケティング活動のため任意性：お客様からご
 提供頂ける個人情報はお客様の任意です。但し必要な
 項目をご提供頂けない場合は利用目的を達成できない
 ことがあります。※ 本セミナーのお申込みをもって、
 上記内容に同意したものとみなします。
LOCATION:オンライン（Zoom）
URL:https://techplay.jp/event/877167?utm_medium=referral&utm_source=ics&utm
 _campaign=ics
END:VEVENT
END:VCALENDAR
