BEGIN:VCALENDAR
VERSION:2.0
PRODID:-//https://techplay.jp//JP
CALSCALE:GREGORIAN
METHOD:PUBLISH
X-WR-CALDESC:人を雇ってリソース確保 VS 自動化ソリューシ
 ョンRPA！ ～人手不足解消とコスト削減はトレードオフ
 か？～
X-WR-CALNAME:人を雇ってリソース確保 VS 自動化ソリューシ
 ョンRPA！ ～人手不足解消とコスト削減はトレードオフ
 か？～
X-WR-TIMEZONE:Asia/Tokyo
BEGIN:VTIMEZONE
TZID:Asia/Tokyo
BEGIN:STANDARD
DTSTART:19700101T000000
TZOFFSETFROM:+0900
TZOFFSETTO:+0900
TZNAME:JST
END:STANDARD
END:VTIMEZONE
BEGIN:VEVENT
UID:877463@techplay.jp
SUMMARY:人を雇ってリソース確保 VS 自動化ソリューション
 RPA！ ～人手不足解消とコスト削減はトレードオフか？
 ～
DTSTART;TZID=Asia/Tokyo:20221027T170000
DTEND;TZID=Asia/Tokyo:20221027T173000
DTSTAMP:20260421T185710Z
CREATED:20221013T095849Z
DESCRIPTION:イベント詳細はこちら\nhttps://techplay.jp/event/87746
 3?utm_medium=referral&utm_source=ics&utm_campaign=ics\n\nタイトル\n
 人を雇ってリソース確保 VS 自動化ソリューションRPA！
 ～人手不足を解消とコスト削減はトレードオフか？～\
 n\n概要\n近年、多くの企業が人手不足を経営課題とし
 て掲げており、現場では1人で複数の役割を果たす事が
 求められています。また、特に地方では、人材の確保
 が難しい状況にあり、スタッフの労働負荷はますます
 高まっています。\n \n人手不足を解消するために、「
 何から手を付けたらいいかわからない」「日々の業務
 フローを改善したい」といったお悩みをお持ちの方へ
 、人手不足解消のポイントを様々な事例を交えてご紹
 介いたします。\n\nこのような方におすすめです\n\n人
 手不足を解消したいとお悩みの方\n日々の業務フロー
 の見直しを行いたい方\nRPAという言葉は聞いたことあ
 るけど、自社で使えるのか不安な方\n今までのやり方
 からの改善を検討されている方\nDXを推進するにあたり
 、何から始めていいかお悩みの方\n\n参加費\n無料\n注
 意事項\n\nリクルーティング、勧誘など、採用目的での
 イベント参加はお断りしております。\nキャンセル待
 ち・補欠・落選の方はご参加いただくことが出来ませ
 んのでご了承ください。\n欠席される場合は、お手数
 ですが速やかにキャンセル処理をお願い致します。\n
 無断キャンセルや欠席が続く場合、次回以降の参加を
 お断りさせていただく場合がございます。\n
LOCATION:オンライン（zoom）
URL:https://techplay.jp/event/877463?utm_medium=referral&utm_source=ics&utm
 _campaign=ics
END:VEVENT
END:VCALENDAR
