BEGIN:VCALENDAR
VERSION:2.0
PRODID:-//https://techplay.jp//JP
CALSCALE:GREGORIAN
METHOD:PUBLISH
X-WR-CALDESC:東北大学教授大関真之とキャリアを語る：Sigma
 -i Lab #9 これからの博士課程学生とは？
X-WR-CALNAME:東北大学教授大関真之とキャリアを語る：Sigma
 -i Lab #9 これからの博士課程学生とは？
X-WR-TIMEZONE:Asia/Tokyo
BEGIN:VTIMEZONE
TZID:Asia/Tokyo
BEGIN:STANDARD
DTSTART:19700101T000000
TZOFFSETFROM:+0900
TZOFFSETTO:+0900
TZNAME:JST
END:STANDARD
END:VTIMEZONE
BEGIN:VEVENT
UID:878027@techplay.jp
SUMMARY:東北大学教授大関真之とキャリアを語る：Sigma-i La
 b #9 これからの博士課程学生とは？
DTSTART;TZID=Asia/Tokyo:20221101T190000
DTEND;TZID=Asia/Tokyo:20221101T200000
DTSTAMP:20260422T054715Z
CREATED:20221017T235528Z
DESCRIPTION:イベント詳細はこちら\nhttps://techplay.jp/event/87802
 7?utm_medium=referral&utm_source=ics&utm_campaign=ics\n\n「Sigma-i Lab #
 9 これからの博士課程学生とは？」\n概要\n東北大学教
 授・シグマアイ代表の大関 真之と、シグマアイ事業開
 発担当・大阪大学大学院 博士課程在籍中の人見 将、
 シグマアイ開発担当・東北大学大学院 博士課程在籍中
 の丸山 尚貴が公開でブレストを行います。今回のテー
 マは、「これからの博士課程学生とは？」。\n現役の
 研究者でありながら、シグマアイで技術の社会実装を
 手掛ける3名が集い、博士課程や修士課程の学生のキャ
 リアについて語ります。大学と企業での活動の両立や
 、それぞれのフィールドの相互作用、今後の人生など
 について、ざっくばらんにブレストする予定です！「
 研究者の新しいキャリア」についてご興味がある方は
 、ぜひ、ご参加ください！\nタイムスケジュール\n\n\n\n
 時間\n内容\n\n\n\n\n19:00〜19:40\n新しい博士課程に関する
 ブレスト\n\n\n19:40〜19:55\n参加者とのディスカッション
 ・質疑応答\n\n\n19:55〜20:00\n次回のご案内\n\n\n\n※ 当日
 予告なく時間配分・内容が変更になる可能性がござい
 ます。\n※Youtube Live にて行います。\n▼配信先URLhttps://
 www.youtube.com/watch?v=00SW-buoZ9M\n登壇者\n大関真之（おおぜ
 き・まさゆき）\n株式会社シグマアイ代表取締役CEO。
 東北大学大学院情報科学研究科情報基礎科学専攻・教
 授。\n次世代コンピュータとして期待される量子コン
 ピュータ、とりわけ「量子アニーリング」形式に関す
 る研究活動・企業活動を展開している。2019年4月には
 東北大学発のスタートアップであるシグマアイを創業
 。2016年度文部科学大臣表彰若手科学者賞受賞。近著に
 「Pythonで機械学習入門-深層学習から敵対的生成ネット
 ワークまで-」、「量子コンピュータが変える未来」（
 共著）がある。\n人見 将（ひとみ・まさる）\nシグマ
 アイ 事業開発担当大阪大学大学院理学研究科・物理学
 専攻 博士課程 2年 在籍中日本学術振興会 特別研究員
 博士課程教育リーディングプログラム専門は物性理論
 の研究\n▼参考記事：博士課程で物理学を専攻しなが
 ら、医療・農業向けのプロダクトを開発。サイエンス
 とビジネスの境界で、何が生まれるのか。\n丸山 尚貴
 （まるやま・なおき）\nシグマアイ 開発担当東北大学
 大学院 情報科学研究科 情報基礎科学専攻 博士後期課
 程 在籍中\n▼参考記事：量子アニーリング技術で物流
 を効率化。ドライバーや配車係がより働きやすい環境
 をつくる。\n▼シグマアイ：Webサイト・Twitterhttps://sigma
 ilab.com/https://twitter.com/sigmailab\n▼Wantedly：大関真之イン
 タビューhttps://www.wantedly.com/companies/company_588716/post_articl
 es/330846\n▼NewsPics：News Picks Value Talkにて弊社の大関が出
 演https://www.youtube.com/watch?v=7PKnUl6-W90\n▼ITmedia：「保証さ
 れているのは省電力計算」　量子ベンチャーを立ち上
 げた東北大・大関准教授が語る量子コンピュータへの
 期待https://www.itmedia.co.jp/news/articles/2011/02/news081.html\n▼Te
 chCrunch：量子アニーリング研究開発スタートアップ「
 シグマアイ」とソニーの共同研究成果が国際会議ISITA20
 20に採択https://jp.techcrunch.com/2020/09/08/sigmailab/\nこういう
 方に参加して欲しい\n\n社会を何らかの形で良い方向に
 変えたい、と思っている方\nこれからのキャリアを模
 索している大学院生・研究者の方\nオープンな議論の
 中で何かの気付きを得たい、と思っている方\nシグマ
 アイのプロダクトや技術に興味がある方\n\n参加費\n無
 料\nイベント過去ログ\n\n▼「#1 公開ブレスト Part1 10月4
 日（月）」のログはこちら\nYouTube アーカイブhttps://yout
 u.be/Yp8e77AFIrU\n文字起こし記事https://www.wantedly.com/companies
 /company_588716/post_articles/352828\n▼「#2 公開ブレスト Part2 1
 1月1日（月）」のログはこちら\nYouTube アーカイブhttps:/
 /www.youtube.com/watch?v=kkPYta0AAtY\n文字起こし記事https://www.wa
 ntedly.com/companies/company_588716/post_articles/360533\n▼「#3 PoC実
 演と公開Feed Back 12月6日（月）」のログはこちら\nYouTube
  アーカイブhttps://www.youtube.com/watch?v=1NCBaWMql1U&t=321s\n文
 字起こし記事https://www.wantedly.com/companies/company_588716/post_
 articles/367127\n▼「#4 PoCブラッシュアップ会 1月18日（火
 ）」のログはこちら\nYouTube アーカイブhttps://www.youtube.c
 om/watch?v=t0f8Nef1kcE\n文字起こし記事https://www.wantedly.com/com
 panies/company_588716/post_articles/376457\n▼「#5 PoC事業化ブレ
 ストの会 」のログはこちら\nYouTube アーカイブhttps://www
 .youtube.com/watch?v=gyp_09jgpkI\n文字起こし記事https://www.wanted
 ly.com/companies/company_588716/post_articles/386976\n▼「#6 PoC事業
 化ブレストの会 Part 2」のログはこちら\nYouTube アーカ
 イブhttps://www.youtube.com/watch?v=VNmR0fpJmyc\n文字起こし記事h
 ttps://www.wantedly.com/companies/company_588716/post_articles/398247\n
 ▼「#7 新しい病院を考える会」のログはこちら\nYouTube 
 アーカイブhttps://www.youtube.com/watch?v=25VavHUAGRI\n文字起こ
 し記事https://www.wantedly.com/companies/company_588716/post_articles/
 413299\n▼「#8 新しい農業と地方を考える」のログはこ
 ちら\nYouTube アーカイブhttps://www.youtube.com/watch?v=OcD5qZRDm4
 U\n文字起こし記事https://www.wantedly.com/companies/company_588716
 /post_articles/432008\n注意事項\n\nリクルーティング、勧誘
 など、採用目的でのイベント参加はお断りしておりま
 す。\nキャンセル待ち・補欠・落選の方はご参加いた
 だくことが出来ませんのでご了承ください。\n欠席さ
 れる場合は、お手数ですが速やかにキャンセル処理を
 お願い致します。\n無断キャンセルや欠席が続く場合
 、次回以降の参加をお断りさせていただく場合がござ
 います。\n
LOCATION:https://www.youtube.com/watch?v=00SW-buoZ9M
URL:https://techplay.jp/event/878027?utm_medium=referral&utm_source=ics&utm
 _campaign=ics
END:VEVENT
END:VCALENDAR
