BEGIN:VCALENDAR
VERSION:2.0
PRODID:-//https://techplay.jp//JP
CALSCALE:GREGORIAN
METHOD:PUBLISH
X-WR-CALDESC:11/25(金)Amazonギフト券があたる!!クラウドファ
 イルサーバー導入支援ウェビナー
X-WR-CALNAME:11/25(金)Amazonギフト券があたる!!クラウドファ
 イルサーバー導入支援ウェビナー
X-WR-TIMEZONE:Asia/Tokyo
BEGIN:VTIMEZONE
TZID:Asia/Tokyo
BEGIN:STANDARD
DTSTART:19700101T000000
TZOFFSETFROM:+0900
TZOFFSETTO:+0900
TZNAME:JST
END:STANDARD
END:VTIMEZONE
BEGIN:VEVENT
UID:878089@techplay.jp
SUMMARY:11/25(金)Amazonギフト券があたる!!クラウドファイル
 サーバー導入支援ウェビナー
DTSTART;TZID=Asia/Tokyo:20221125T150000
DTEND;TZID=Asia/Tokyo:20221125T162000
DTSTAMP:20260423T081106Z
CREATED:20221018T064845Z
DESCRIPTION:イベント詳細はこちら\nhttps://techplay.jp/event/87808
 9?utm_medium=referral&utm_source=ics&utm_campaign=ics\n\n11/25(金)Amazon
 ギフト券があたる!!クラウドファイルサーバー導入支
 援ウェビナー\n概要\n株式会社TOKAIコミュニケーション
 ズは、2022年11月25日(金)にAWSが提供するクラウドファイ
 ルサーバーをご紹介するウェビナーを開催いたします
 。\n変化する働き方や、ビジネスのデジタルシフトに
 対応するために、クラウドファイルサーバーを導入検
 討する方も多いのではないでしょうか？また、オンプ
 レミス環境で運用しているファイルサーバーのコスト
 、運用の手間、保守切れの対応にお困りの方もいらっ
 しゃると思います。\n今回は、ネットアップ合同会社
 様にご登壇いただき、クラウドファイルサーバーの基
 礎知識、クラウドファイルサーバーの利用が進む背景
 、NetApp ONTAP、Amazon Fsx for NetApp ONTAP（以降、FSxN）につい
 て詳しくご紹介します。また、FSxNの構築例をご紹介し
 ながら、コストの考え方、FSxNとの接続方法など、具体
 的な導入イメージを持っていただけるような内容をご
 紹介する予定です。\nまた今回はウェビナーにご参加
 いただいた後、アンケートにご回答いただいた方より
 、抽選で50名様に2000円分のAmazonギフト券をプレゼント
 します！！！ぜひ最後まで、ご参加ください。\n<この
 ような方におすすめのウェビナーです>・クラウドファ
 イルサーバーを導入検討している・オンプレミス環境
 からの移行を検討している・Amazon FSx for Windows File Server
 との違いを知りたい・NetApp ONTAPからFSxNへ移行したい・
 すでに利用しているクラウドファイルサーバーから乗
 り換えたい\n皆様のご参加を心よりお待ちしておりま
 す。\nタイムスケジュール\n\n\n\n時間\n内容\n\n\n\n\n14:45
 ～\n受付開始\n\n\n15:00～15:05\n講演開始のご案内\n\n\n15:05
 ～15:35\nクラウドファイルサーバーの利用が進む理由と
 NetApp ONTAPについて（仮）講師：ネットアップ合同会社\
 n\n\n15:35～16:05\nAmazon FSx for NetApp ONTAPとは？～構築例か
 ら分かる導入の勘所～（仮）株式会社TOKAIコミュニケ
 ーションズ\n\n\n16:05～16:15\n質疑応答講演者がリアルタ
 イムで皆様のご質問に回答します\n\n\n16:15～16:20\n講演
 終了のご案内\n\n\n\n参加費\n無料\n参加方法\n申込ペー
 ジからお申込みをお願いします。※お申込み期限　11
 月25日（金）14:30まで\nZoomウェビナーを使用し、開催し
 ます。事前にZoomウェビナーにアクセスできるブラウザ
 環境（Google Chrome、Mozilla Firefox）を準備いただき、環境
 チェックをお願いします。（環境チェックURL　 https://z
 oom.us/test）\n共催\n株式会社TOKAIコミュニケーションズ
 ネットアップ合同会社\n注意事項\n\nリクルーティング
 、勧誘など、採用目的でのイベント参加はお断りして
 おります。\nキャンセル待ち・補欠・落選の方はご参
 加いただくことが出来ませんのでご了承ください。\n
 欠席される場合は、お手数ですが速やかにキャンセル
 処理をお願い致します。\n無断キャンセルや欠席が続
 く場合、次回以降の参加をお断りさせていただく場合
 がございます。\n申込時アンケートを正確に回答頂け
 ていない場合、個別にご連絡させていただく場合がご
 ざいます。\n同業他社の方のお申込み/ご参加はお断り
 しております。予めご了承ください。\n
LOCATION:オンライン
URL:https://techplay.jp/event/878089?utm_medium=referral&utm_source=ics&utm
 _campaign=ics
END:VEVENT
END:VCALENDAR
