BEGIN:VCALENDAR
VERSION:2.0
PRODID:-//https://techplay.jp//JP
CALSCALE:GREGORIAN
METHOD:PUBLISH
X-WR-CALDESC:【期間限定】見逃した人気のウェビナーをア
 ーカイブ配信！
X-WR-CALNAME:【期間限定】見逃した人気のウェビナーをア
 ーカイブ配信！
X-WR-TIMEZONE:Asia/Tokyo
BEGIN:VTIMEZONE
TZID:Asia/Tokyo
BEGIN:STANDARD
DTSTART:19700101T000000
TZOFFSETFROM:+0900
TZOFFSETTO:+0900
TZNAME:JST
END:STANDARD
END:VTIMEZONE
BEGIN:VEVENT
UID:878267@techplay.jp
SUMMARY:【期間限定】見逃した人気のウェビナーをアーカ
 イブ配信！
DTSTART;TZID=Asia/Tokyo:20221019T233000
DTEND;TZID=Asia/Tokyo:20221028T235900
DTSTAMP:20260420T094246Z
CREATED:20221019T130736Z
DESCRIPTION:イベント詳細はこちら\nhttps://techplay.jp/event/87826
 7?utm_medium=referral&utm_source=ics&utm_campaign=ics\n\n【期間限定
 】見逃した人気のウェビナーをアーカイブ配信！\n概
 要\nこれまで当社が開催してきたウェビナーの中から
 、特に人気の高かったウェビナー3本をアーカイブ動画
 として期間限定にて公開いたします。お見逃しの方も
 、もう一度見たかったという方も、もちろん初めての
 方も、是非この機会にご覧ください。\nイベント詳細\n
 ・期間：　　　2022年10月17日（月）－10月28日（金）・
 会場：　　　オンライン（YouTube）・参加費：　　無料
 （事前登録制）・主催：　　　三菱電機インフォメー
 ションネットワーク株式会社・登録締切：　2022年10月2
 8日（金）　16:00\nアジェンダ\n・アーカイブ1　「三菱
 電機新カメラ（MELOOK4）を活用した長期間録画ソリュー
 ション」（2022年6月23日開催分）\n　高画質でも長期間
 録画に適している三菱ネットワークカメラ・システム
 「MELOOK 4」と、　長期間録画対応の録画・配信サーバ
 「ネカ録」によるシステムをご紹介いたします。\n・
 アーカイブ2　「気象予報士 依田氏登壇！　激増する
 異常気象への対策と、BCP・省エネ対策を実現するデー
 タセンターオンラインツアー」　（2022年8月4日開催分
 ）\n　気象予報士 依田 司氏をお迎えし、昨今急増して
 いる自然災害発生の仕組みと、その対策を　ご説明い
 ただき、この災害に我々はどう立ち向かえばよいかを
 考えます。また、企業のBCP対策　におけるICTの重要性
 を再確認する良い機会です。\n・アーカイブ3　「安心
 ・安全・快適なテレワーク環境をワンストップで実現
 するMINDクラウドソリューションの紹介」　（2022年9月1
 5日開催分）\n　仮想デスクトップ提供サービスである
 「CloudMinder WS」をはじめ、シンクライアント端末の　
 サブスクリプションサービスやパブリッククラウドへ
 の閉域接続など、企業の安心・安全・快適な　テレワ
 ーク環境づくりに貢献するサービスをご紹介いたしま
 す。\n注意事項\n\n企業・団体にご所属でないお客様、
 および弊社競合製品・サービスを取り扱う企業にご在
 籍のお客様につきましては、ご参加をお断りする場合
 がございますのであらかじめご了承ください。\nご視
 聴方法は、セミナー開催日前日までに、お申込みいた
 だいた方へ主催よりメールにてご案内いたします。本
 セミナーはCisco Webexにて配信を行います。視聴方法を
 ご案内するメールに記載のURLからアクセスを行ってく
 ださい。\n参加登録には、個人情報のお取り扱いに同
 意いただく必要があります。\n主催者の事前の承諾な
 しに、コンテンツを自ら又は第三者を通じて転載、複
 製、出版、放送、公衆送信、改変、翻訳、翻案、頒布
 、送信可能化、貸与、譲渡、使用許諾、上映その他知
 的財産権を侵害する一切の行為を禁止いたします。\n
 キャンセル待ち・補欠・落選の方はご参加いただくこ
 とが出来ませんのでご了承ください。\n欠席される場
 合は、お手数ですが速やかにキャンセル処理をお願い
 致します。\n無断キャンセルや欠席が続く場合、次回
 以降の参加をお断りさせていただく場合がございます
 。\n
LOCATION:オンライン
URL:https://techplay.jp/event/878267?utm_medium=referral&utm_source=ics&utm
 _campaign=ics
END:VEVENT
END:VCALENDAR
