BEGIN:VCALENDAR
VERSION:2.0
PRODID:-//https://techplay.jp//JP
CALSCALE:GREGORIAN
METHOD:PUBLISH
X-WR-CALDESC:＜オンライン申し込み用＞【ハイブリッドセ
 ミナー】 バックオフィス業務の無駄を改善！ Microsoft 3
 65を活用したDX推進講座
X-WR-CALNAME:＜オンライン申し込み用＞【ハイブリッドセ
 ミナー】 バックオフィス業務の無駄を改善！ Microsoft 3
 65を活用したDX推進講座
X-WR-TIMEZONE:Asia/Tokyo
BEGIN:VTIMEZONE
TZID:Asia/Tokyo
BEGIN:STANDARD
DTSTART:19700101T000000
TZOFFSETFROM:+0900
TZOFFSETTO:+0900
TZNAME:JST
END:STANDARD
END:VTIMEZONE
BEGIN:VEVENT
UID:878511@techplay.jp
SUMMARY:＜オンライン申し込み用＞【ハイブリッドセミナ
 ー】 バックオフィス業務の無駄を改善！ Microsoft 365を
 活用したDX推進講座
DTSTART;TZID=Asia/Tokyo:20221111T160000
DTEND;TZID=Asia/Tokyo:20221111T170000
DTSTAMP:20260421T142250Z
CREATED:20221021T014013Z
DESCRIPTION:イベント詳細はこちら\nhttps://techplay.jp/event/87851
 1?utm_medium=referral&utm_source=ics&utm_campaign=ics\n\n＜オンライ
 ンセミナー申し込み用＞【ハイブリッドセミナー】バ
 ックオフィス業務の無駄を改善！Microsoft 365を活用した
 DX推進講座\nプログラム\n第一部：株式会社NTTデータ関
 西■RPAツール「WinActor®」と「Microsoft Teams」の連携によ
 る 非定型業務自動化のご紹介\n・ソリューションと
 連携の概要・デモンストレーション\n第二部：カコム
 ス株式会社■今日からできる！！ Power Apps を活用し
 たローコードアプリ開発～安否確認アプリ作成～\n・Po
 wer Appsの概要・活用事例・実演デモ\n概要\n昨今、DX（
 デジタルトランスフォーメーション）というワードを
 耳にすることが非常に増えてきたかと思います。会社
 全体としてDXの推進を進めている企業様も増えてきま
 したが、事務や会計に関わるバックオフィス業務では
 、アナログ作業、特に紙での処理に頼りがちです。ま
 た人手不足という課題もあり、どこからDX化に着手す
 れば良いかわからないといったお声もよくお聞きしま
 す。\n本セミナーでは、バックオフィス業務にフォー
 カスして、DX推進の第一歩である、デジタイゼーショ
 ンの一助となるよう、Microsoft 365を活用した業務効率化
 ソリューションを中心にご紹介させていただきます。\
 n参加方法\n①ご登録後、事務局から当日のオンライン
 セミナー参加用URLが記載されたメールが送付されます
 。②セミナー当日はセミナー参加用のURLをクリックし
 、オンラインセミナーへご参加ください。\n参加費\n無
 料\n注意事項\n＜　オンラインでのご参加の皆様へ　＞
 ・セミナーお申込後の自動返信メールにオンラインセ
 ミナーへの招待URLが記載されております。 当日はそ
 ちらのURLからセミナーへご参加くださいませ。※1社複
 数名様でご参加ご希望の場合は、お手数ではございま
 すが ご参加いただきます各皆様分のお申し込みをい
 ただきますようお願いいたします。※オンライン参加
 の場合は、1社様につきご参加いただく方の人数制限は
 ございません。・セミナーの品質向上のため、本セミ
 ナーの内容を録画させていただきますが、 あらかじ
 めご了承くださいませ。・セミナー参加中は、カメラ
 ・マイクをお切りになってご参加いただきますようお
 願い いたします。※状況に応じて、運営よりカメラ
 ・マイクを切らせていただく場合がございます。\nオ
 ンサイトで参加希望のお客様は、別途下記のページよ
 りお申込をお願いいたします。https://techplay.jp/event/87850
 9
LOCATION:※セミナー配信URLをお申込み時のメールアドレス
 宛に別途ご連絡させていただきます。  お申し込みの
 際、メールアドレスの入力に誤りがないようご注意く
 ださいませ。
URL:https://techplay.jp/event/878511?utm_medium=referral&utm_source=ics&utm
 _campaign=ics
END:VEVENT
END:VCALENDAR
