BEGIN:VCALENDAR
VERSION:2.0
PRODID:-//https://techplay.jp//JP
CALSCALE:GREGORIAN
METHOD:PUBLISH
X-WR-CALDESC:”マーケ担当者必見！”  Webサイトからの売上
 を伸ばす3つの方法  UI・UX・Web接客の心得
X-WR-CALNAME:”マーケ担当者必見！”  Webサイトからの売上
 を伸ばす3つの方法  UI・UX・Web接客の心得
X-WR-TIMEZONE:Asia/Tokyo
BEGIN:VTIMEZONE
TZID:Asia/Tokyo
BEGIN:STANDARD
DTSTART:19700101T000000
TZOFFSETFROM:+0900
TZOFFSETTO:+0900
TZNAME:JST
END:STANDARD
END:VTIMEZONE
BEGIN:VEVENT
UID:879172@techplay.jp
SUMMARY:”マーケ担当者必見！”  Webサイトからの売上を
 伸ばす3つの方法  UI・UX・Web接客の心得
DTSTART;TZID=Asia/Tokyo:20221110T140000
DTEND;TZID=Asia/Tokyo:20221110T150000
DTSTAMP:20260420T123659Z
CREATED:20221026T122441Z
DESCRIPTION:イベント詳細はこちら\nhttps://techplay.jp/event/87917
 2?utm_medium=referral&utm_source=ics&utm_campaign=ics\n\n”マーケ担
 当者必見！”\nWebサイトからの売上を伸ばす3つの方法U
 I・UX・Web接客の心得\n概要\nWebマーケティングを担当し
 ているものの「売上が思うように伸びない」「CVR（コ
 ンバージョン率）が上がらない」とお悩みの方も多い
 のではないでしょうか。\nその中でも一定の伸び率を
 維持している企業は、一体何をしているのか？それは
 、重要な顧客接点である「サイトの見直し」です。\n
 サイトを見直すには、何から手を付けたらいいのか、
 他の企業はどうしているのか、何を軸に進めたらいい
 のか。\n今回のウェビナーでは、売上UPに直結するUI・U
 X・Web接客の見直しポイント、サイト改善の汎用的なノ
 ウハウを、他社の成功事例を交えながらお伝えします
 。\nタイムスケジュール\n\n\n\n時間\n内容\n\n\n\n\n13:55〜\
 n受付開始\n\n\n14:00〜14:25\n第一部：パネルディスカッシ
 ョン\n\n\n14:25〜14:35\n第二部：株式会社エフコードの事
 例紹介Web サイトの〇〇を見直したらCVRが劇的に改善し
 た話\n\n\n14:35〜14:45\n第三部：株式会社neneの事例紹介ホ
 スピタリティマインドによるチャット接客で売上が大
 幅UPした事例\n\n\n14:45〜15:00\n質疑応答\n\n\n\n※ 当日予
 告なく時間配分・内容が変更になる可能性がございま
 す。\n登壇者\n荒井 裕希\n株式会社エフコード取締役　
 \n大学在学中に経営コンサルティング会社に参画。セ
 ールス・マーケティング領域を中心に担当。創業期か
 らの事業立ち上げを経験。\n2007年、株式会社エフ・コ
 ードに参画、現職就任。新規営業や新規サービスの開
 発および運用業務に従事。現在は、ウェブコンサルテ
 ィング事業部を管掌。\n\n\n花岡良\n株式会社nene取締役\
 n1987年、兵庫県生まれ。学生時代はアパレルで接客業
 に従事し、卒業後は大手通信系の代理店にて法人営業
 を経験。 インサイドセールスチームの立ち上げやコー
 ルセンターの運営に携わり、24歳の時に約50名の組織運
 営を経験。 2017年より、SaaS企業にてセールスやマーケ
 ティングなど事業全体を統括後、2020年4月より株式会
 社neneに入社、同年7月より取締役就任。\n\n参加費\n無
 料
LOCATION:オンライン
URL:https://techplay.jp/event/879172?utm_medium=referral&utm_source=ics&utm
 _campaign=ics
END:VEVENT
END:VCALENDAR
