BEGIN:VCALENDAR
VERSION:2.0
PRODID:-//https://techplay.jp//JP
CALSCALE:GREGORIAN
METHOD:PUBLISH
X-WR-CALDESC:すぐそこまできているインバウンド回帰!! 訪
 日外国人を集客するために 今からできる、簡単なWEB施
 策
X-WR-CALNAME:すぐそこまできているインバウンド回帰!! 訪
 日外国人を集客するために 今からできる、簡単なWEB施
 策
X-WR-TIMEZONE:Asia/Tokyo
BEGIN:VTIMEZONE
TZID:Asia/Tokyo
BEGIN:STANDARD
DTSTART:19700101T000000
TZOFFSETFROM:+0900
TZOFFSETTO:+0900
TZNAME:JST
END:STANDARD
END:VTIMEZONE
BEGIN:VEVENT
UID:879394@techplay.jp
SUMMARY:すぐそこまできているインバウンド回帰!! 訪日外
 国人を集客するために 今からできる、簡単なWEB施策
DTSTART;TZID=Asia/Tokyo:20221129T140000
DTEND;TZID=Asia/Tokyo:20221129T150000
DTSTAMP:20260421T045820Z
CREATED:20221028T005946Z
DESCRIPTION:イベント詳細はこちら\nhttps://techplay.jp/event/87939
 4?utm_medium=referral&utm_source=ics&utm_campaign=ics\n\n新型コロナ
 ウイルスの水際対策も撤廃と32年ぶりの円安も追い風
 になり、インバウンド回帰はすぐそこまで来ています
 。\nしかし、訪日外国人の受け入れ制限が長く続いた
 ためインバウンド対策をできている店舗は少なく、特
 にWEB上やGoogleでの集客施策ができていないケースが多
 く見受けられます。\n数ある競合の中から訪日外国人
 に自身のお店を選んでもらうために何をするべきか？\
 nそれにはまず、外国人がどんなアプリを利用している
 のか理解したうえで対策をする必要があります。\n実
 際にインバウンドに向けた施策には何が必要なのか？
 より多くの外国人観光客に訪れてもらうのに必要なWEB
 施策とは何か？\n本セミナーでは、すでに対策をして
 いる方もそうでない方もGoogleを含むWEB上での新たな施
 策となる方法をお伝えいたします。
LOCATION:オンライン
URL:https://techplay.jp/event/879394?utm_medium=referral&utm_source=ics&utm
 _campaign=ics
END:VEVENT
END:VCALENDAR
