BEGIN:VCALENDAR
VERSION:2.0
PRODID:-//https://techplay.jp//JP
CALSCALE:GREGORIAN
METHOD:PUBLISH
X-WR-CALDESC:11/16（水）【社数限定】moconavi「無料トライア
 ル」導入セミナー
X-WR-CALNAME:11/16（水）【社数限定】moconavi「無料トライア
 ル」導入セミナー
X-WR-TIMEZONE:Asia/Tokyo
BEGIN:VTIMEZONE
TZID:Asia/Tokyo
BEGIN:STANDARD
DTSTART:19700101T000000
TZOFFSETFROM:+0900
TZOFFSETTO:+0900
TZNAME:JST
END:STANDARD
END:VTIMEZONE
BEGIN:VEVENT
UID:879434@techplay.jp
SUMMARY:11/16（水）【社数限定】moconavi「無料トライアル」
 導入セミナー
DTSTART;TZID=Asia/Tokyo:20221116T110000
DTEND;TZID=Asia/Tokyo:20221116T114500
DTSTAMP:20260420T111111Z
CREATED:20221028T061123Z
DESCRIPTION:イベント詳細はこちら\nhttps://techplay.jp/event/87943
 4?utm_medium=referral&utm_source=ics&utm_campaign=ics\n\n【社数限定
 】moconavi「無料トライアル」導入セミナー\n開催概要\n
 注：本セミナーは、「moconavi」を導入したい企業さま
 、「moconavi」無料トライアルを実施検討中の企業さま
 に向けた社数限定のセミナーとなります。「テレワー
 クを始めたい」「moconaviのトライアルって大変？どう
 やるの？」など、具体的にご検討いただいている企業
 さまに、「moconavi」の特長や機能などをご紹介しつつ
 、どのようなプロセスで導入～利用者への展開をする
 か、具体例を交えて解説させていただきます。\n実施
 概要\n■実施日時2022年11月16日(水) 11:00～11:45■実施方
 法ウェビナー（前日にアクセスURLをご案内します）■
 参加方法申し込み後、セミナー事務局より参加先のURL
 をご案内します。※申込締切は11月15日（火）13:00まで
 とさせていただきます。■セッション内容・moconaviの
 特長と機能・導入に必要な準備とプロセス・無料トラ
 イアルの進め方※講演内容は都合により変更がござい
 ます。\n参加対象\n・moconaviの導入を強く検討している
 企業・導入プロセスについて事前に知っておきたい企
 業・トライアルを行いたいがどのような準備が必要な
 のか知りたい企業・運用管理面で必要になる知識が知
 りたいご担当者\n参加費\n無料\n注意事項\n\nリクルーテ
 ィング、勧誘など、採用目的でのイベント参加はお断
 りしております。\n
LOCATION:オンライン
URL:https://techplay.jp/event/879434?utm_medium=referral&utm_source=ics&utm
 _campaign=ics
END:VEVENT
END:VCALENDAR
