BEGIN:VCALENDAR
VERSION:2.0
PRODID:-//https://techplay.jp//JP
CALSCALE:GREGORIAN
METHOD:PUBLISH
X-WR-CALDESC:11/16(水)開催	Googleアナリティクスの次の一歩　
 分析のポイントと企業名解析【Geolocation Technology共催】
 （オンライン開催）
X-WR-CALNAME:11/16(水)開催	Googleアナリティクスの次の一歩　
 分析のポイントと企業名解析【Geolocation Technology共催】
 （オンライン開催）
X-WR-TIMEZONE:Asia/Tokyo
BEGIN:VTIMEZONE
TZID:Asia/Tokyo
BEGIN:STANDARD
DTSTART:19700101T000000
TZOFFSETFROM:+0900
TZOFFSETTO:+0900
TZNAME:JST
END:STANDARD
END:VTIMEZONE
BEGIN:VEVENT
UID:880200@techplay.jp
SUMMARY:11/16(水)開催	Googleアナリティクスの次の一歩　分
 析のポイントと企業名解析【Geolocation Technology共催】（
 オンライン開催）
DTSTART;TZID=Asia/Tokyo:20221116T140000
DTEND;TZID=Asia/Tokyo:20221116T150000
DTSTAMP:20260425T155909Z
CREATED:20221103T021654Z
DESCRIPTION:イベント詳細はこちら\nhttps://techplay.jp/event/88020
 0?utm_medium=referral&utm_source=ics&utm_campaign=ics\n\n本セミナー
 は、2部構成となっており、前半では株式会社バリュー
 エージェント上野山光雄がGoogleアナリティクス(UA)の分
 析するポイントをお伝えします。\n後半では、株式会
 社Geolocation Technologyの榊美代奈氏がGoogleアナリティクス
 にIPアドレスデータを連携することで企業名単位での
 可視化を行い、BtoBのリード獲得に繋がる施策をお伝え
 します。\nGoogleアナリティクスを見ているけど、活用
 できていない、もっとGoogleアナリティクスを活用した
 い方向けのセミナーとなっています。\n質問などがあ
 る方は、お申込み時に書いていただくとセミナー時に
 取り上げることが可能です。\n当日のセッション内容
 について\n\nGoogleアナリティクス(UA)の活用方法\nGoogleア
 ナリティクス(UA)の分析するポイント\nGoogleアナリティ
 クスのアクセス企業名解析について\n\n※当日、トーク
 の流れにより一部内容が変更になる可能性がございま
 す。※聞けなかった内容、聞きたかった内容等ござい
 ましたら、是非質疑応答にてお気軽にご質問ください
 ませ。\n\n登壇者紹介\n榊 美代奈（株式会社Geolocation Tec
 hnology）\n株式会社Geolocation Technology 営業部第2課榊 美代
 奈（さかき　みよな）\n大学を卒業後、株式会社Geolocat
 ion Technologyに入社、営業部に配属。\n企業や自治体様の
 サイト解析やインターネット広告を活用した「差別化
 」のマーケティング支援に携わる。\nWACA認定ウェブ解
 析士、Googleアナリティクス認定資格、Google広告認定資
 格ホルダー。\n株式会社Geolocation Technologyについて\n株
 式会社Geolocation Technologyは、インターネットユーザーの
 位置情報を活用した、効果的なウェブマーケティング
 を実現するサービスや、不正アクセスを防止するサー
 ビスの開発・提供を行っています。\nIPアドレスを活用
 したデータベース「SURFPOINT™」を構築し、その運営及
 び利用による各種サービスの提供を行うIP Geolocation事
 業と、IPアドレスの売買の仲介を行うIPアドレス移転事
 業を運営しています。\nまた、「地域社会の活性化」
 を目指す当社では、自治体と連携した移住支援や観光
 促進のためのスタンプラリーツールの開発、提供を行
 っています。\n「株式会社Geolocation Technology」のサイト
 を見る\n上野山光雄 (株式会社 バリューエージェント)\
 n株式会社バリューエージェント　代表取締役Webマーケ
 ッター/Webコンサルタント上野山 光雄（うえのやま　
 みつお）\n専門学校を卒業後、店頭公開のITシステム会
 社にSEとして就職。その後建築会社の営業で活躍し売
 上げ100億円超の企業で取締役を3年間経験。2005年に株
 式会社バリューエージェント設立。マーケティングシ
 ステム、店舗集客、Webマーケティング事業で中小企業
 を中心に500社を超える集客サービスの導入実績あり。\
 n得意分野は、戦略作り、サイト改善、SEO。\nセミナー
 概要・お申込み\nセミナー名Googleアナリティクスの次
 の一歩　分析のポイントと企業名解析【Geolocation Technol
 ogy共催】（オンライン開催）\n対象\n\nBtoBサービス事業
 者\nGoogleアナリティクスを見ているだけの方\nGoogleアナ
 リティクス分析のポイントを知りたい方\nどんな企業
 からサイトに訪問されているかを知りたい方\n\n日時202
 2年11月16日(水)　14:00～15:00（13:50　受付開始）\n場所オ
 ンライン開催※メールにて参加用のZOOMのURLをお送りし
 ます。※出席の確認もございますので、10分前にはご
 入室頂きますようお願いいたします。\n参加料無料\n定
 員50名
LOCATION:オンライン
URL:https://techplay.jp/event/880200?utm_medium=referral&utm_source=ics&utm
 _campaign=ics
END:VEVENT
END:VCALENDAR
