BEGIN:VCALENDAR
VERSION:2.0
PRODID:-//https://techplay.jp//JP
CALSCALE:GREGORIAN
METHOD:PUBLISH
X-WR-CALDESC:AI-OCRとRPAの活用方法！ ~DX推進の第一歩~
X-WR-CALNAME:AI-OCRとRPAの活用方法！ ~DX推進の第一歩~
X-WR-TIMEZONE:Asia/Tokyo
BEGIN:VTIMEZONE
TZID:Asia/Tokyo
BEGIN:STANDARD
DTSTART:19700101T000000
TZOFFSETFROM:+0900
TZOFFSETTO:+0900
TZNAME:JST
END:STANDARD
END:VTIMEZONE
BEGIN:VEVENT
UID:880252@techplay.jp
SUMMARY:AI-OCRとRPAの活用方法！ ~DX推進の第一歩~
DTSTART;TZID=Asia/Tokyo:20221118T140000
DTEND;TZID=Asia/Tokyo:20221118T153000
DTSTAMP:20260426T004918Z
CREATED:20221104T020341Z
DESCRIPTION:イベント詳細はこちら\nhttps://techplay.jp/event/88025
 2?utm_medium=referral&utm_source=ics&utm_campaign=ics\n\nこんな方に
 オススメ\n\nDXを推進したい方\nAI-OCRについて知りたい
 方\nRPAについて知りたい方\n\nこのセミナーでわかるこ
 と\n\nAI-OCRの具体的な活用事例がわかる\nRPAとAI-OCRが連
 携した事例がわかる\n\nセミナー概要\nDX推進というと
 「何から始めていいかわからない」「いきなり担当を
 任されたけど何がDXなのかわからない」など抽象的な
 イメージを持っている方が多いのではないでしょうか
 。\n本ウェビナーでは、AI-OCR「DX Suite」とRPAツール「Rob
 oTANGO」を組み合わせたDX推進の具体例をお伝えいたし
 ます。\nセミナーに参加頂いた方限定で、資料のプレ
 ゼントと無料帳票診断を希望者全員にプレゼントいた
 します。第一歩を踏み出すための情報収集や具体策の
 検討にぜひご参加ください。\n講師紹介\nスターティア
 レイズ株式会社業務自動化ソリューション部 部長鈴木
  健太■経歴2003年スターティアに営業として入社。2005
 年ネットワークエンジニアに転身し、エンジニア部隊
 を立ち上げ。セキュリティ製品、NW機器選定やサービ
 ス企画等を行いつつ、NWの設計から構築まで携わり、NW
 セキュリティ関連のエバンジェリストとしても活躍。
 現在は業務自動化ソリューション部にてRPAコンサルタ
 ントに従事する傍ら、新サービスの企画を行っている
 。\nAI inside 株式会社Sales Growth Unit河瀬平雅 氏■経歴2017
 年 電子測定器メーカーに入社し法人営業に従事。2020
 年 AI inside に入社し、その後は一貫してDX Suite の直販
 担当営業として、業界を問わず幅広く顧客課題の解決
 を実現してきた。現在は直販営業と販売代理店様支援
 を兼任。\nセミナー詳細\n\n\n\n\n\n\n\n\n\nタイトル\nAI-OCR
 とRPAの活用方法！ ~DX推進の第一歩~\n\n\n日時\n2022年11月
 18日(金)14:00~15:30\n\n\n定員\n30名\n\n\n受講料\n無料\n\n\n主
 催\nスターティアレイズ株式会社/AI inside 株式会社\n\n\n
 \n・お申込みいただいた際に、Zoom登録用URLをご登録い
 ただいたメールアドレスに送付致します。・セミナー
 当日のご参加も可能です。・プログラムは、都合によ
 り予告無く変更する場合がございます。・ユーザー企
 業様向けのセミナーの為、同業者様のご参加はお断り
 させていただく場合がございます。\nセミナープログ
 ラム\n\n\n\n\n\n\n\n\n\n14:00\n開始\n\n\n14:00~14:45\nAI-OCRとRPAの
 活用方法！ ~DX推進の第一歩~\n\n\n14:45~15:30\n〜DX推進の
 第一歩〜 AI-OCR 活用の基本から応用まで！\n\n\n15:30\nア
 ンケート、終了\n\n\n
LOCATION:オンライン
URL:https://techplay.jp/event/880252?utm_medium=referral&utm_source=ics&utm
 _campaign=ics
END:VEVENT
END:VCALENDAR
