BEGIN:VCALENDAR
VERSION:2.0
PRODID:-//https://techplay.jp//JP
CALSCALE:GREGORIAN
METHOD:PUBLISH
X-WR-CALDESC:【フォーム営業×メディア×SEO対策】低予算で
 質の高いリードを獲得する方法とは？マーケティング
 のプロ3社が徹底議論！ 11月17日（木）13時開催
X-WR-CALNAME:【フォーム営業×メディア×SEO対策】低予算で
 質の高いリードを獲得する方法とは？マーケティング
 のプロ3社が徹底議論！ 11月17日（木）13時開催
X-WR-TIMEZONE:Asia/Tokyo
BEGIN:VTIMEZONE
TZID:Asia/Tokyo
BEGIN:STANDARD
DTSTART:19700101T000000
TZOFFSETFROM:+0900
TZOFFSETTO:+0900
TZNAME:JST
END:STANDARD
END:VTIMEZONE
BEGIN:VEVENT
UID:881052@techplay.jp
SUMMARY:【フォーム営業×メディア×SEO対策】低予算で質の
 高いリードを獲得する方法とは？マーケティングのプ
 ロ3社が徹底議論！ 11月17日（木）13時開催
DTSTART;TZID=Asia/Tokyo:20221117T130000
DTEND;TZID=Asia/Tokyo:20221117T140000
DTSTAMP:20260420T121532Z
CREATED:20221110T045133Z
DESCRIPTION:イベント詳細はこちら\nhttps://techplay.jp/event/88105
 2?utm_medium=referral&utm_source=ics&utm_campaign=ics\n\n共催ウェビ
 ナーの概要\n本ウェビナーでは、お問合せ数をさらに
 獲得させたい企業のマーケティング担当者の方や、新
 しいチャネルで集客を行いたい方に向けて「フォーム
 営業・メディア・SEO対策」の観点から共催ウェビナー
 を開催します。\nフォームマーケティングでは、人力
 では難しい大量の営業リストに自動でアプローチする
 ことで、人件費や営業工数を抑えて売上UPに貢献 可能
 であり、「フォーム営業」はキーマン（決裁者）の開
 封率が高く、テレアポや飛込営業に比べて、キーマン
 の目に留まる確率が高いことが利点です。\nメディア
 の活用では、掲載料や記事制作費をかけずに完全成果
 報酬型で情報掲載が可能な媒体についてご紹介します
 。BtoB企業の比較検討に役立つコンテンツを掲載し、納
 得した読者のみが成果に至るため、一括資料請求など
 に比べてステップアップの可能性が高いなどの特徴が
 あります。\nSEO対策では、昨今競合性が高くなってい
 る傾向のあるなかで、教科書的な内容だけでなく「現
 場視点のSEO対策」を知ることが重要です。特にSEO対策
 の内製化需要が高まっているなかで、SEO対策の本音と
 建前をお話しします。\n本ウェビナーでは、上記のよ
 うな「リード獲得を低予算で効果的に実施したい方」
 に向けて効果的なマーケティング施策をディスカッシ
 ョンします。\nこんな方におすすめ\n・新規商談数が足
 りず困っている方・オンラインでのリード獲得を増や
 したい方・アウトバウンド施策とインバウンド施策を
 効果的に運用したい方\n開催日時・場所\n2022年 11月17日
 （木）13：00~14：00オンライン＠Zoomウェビナー\n参加費
 用\n無料\n登壇者情報\nエッジテクノロジー株式会社AI
 プロダクト事業部　エヴァンジェリスト五十嵐 政貴\n
 ベンチャー企業にて人事全般を経験後、HRtech新規事業
 の企画・運営に携わり、現在は人工知能関連人材のソ
 リューション企業エッジテクノロジー株式会社にて、 
 自社サービスの営業支援AIツール「GeAIne」の販売、エ
 ヴァンジェリストを担当。2019年法人営業デジタル化協
 会（通称＝HED）を立ち上げ、代表理事をしている。そ
 の他、認知科学のプロコーチとしても活動中。\n\n株式
 会社ジャックアンドビーンズメディアDiv松本翔太郎\n20
 14年より同社にてデジタルマーケティングを軸とする
 コンサルティング事業に携わり、Web広告やコンテンツ
 制作などを通じてさまざまな企業の課題解決に取り組
 む。その後2019年より自社メディア「SaaSサーチ」を立
 ち上げ運営中。\n\n合同会社楽々EditSEOコンサルタント
 ・代表山本 伸弥\n前職は京都のインターネット広告事
 業会社にてSEOコンサルタントとして従事。100社以上のS
 EO相談や分析を行い、「テレアポ」「パーソナルトレ
 ーナー」などビックキーワードで多数上位表示。現在
 は企業のSEO内製化支援を中心に、SEOに関する情報を日
 々発信している。\n\n注意事項\n今回ご提供いただく個
 人情報は、合同会社楽々Editが本セミナーの共催企業に
 提供し、各社の個人情報保護方針に基づき管理いたし
 ます。共催企業への個人情報目的は以下の通りです。\
 n・合同会社楽々Editのプライバシーポリシー\n・エッジ
 テクノロジー株式会社のプライバシーポリシー\n・ 株
 式会社ジャックアンドビーンズのプライバシーポリシ
 ー
LOCATION:オンライン
URL:https://techplay.jp/event/881052?utm_medium=referral&utm_source=ics&utm
 _campaign=ics
END:VEVENT
END:VCALENDAR
