BEGIN:VCALENDAR
VERSION:2.0
PRODID:-//https://techplay.jp//JP
CALSCALE:GREGORIAN
METHOD:PUBLISH
X-WR-CALDESC:【HiPro×eiicon共催セミナー】新規事業を戦略的
 に進めるオープンイノベーション・外部プロ人材の活
 用のポイント
X-WR-CALNAME:【HiPro×eiicon共催セミナー】新規事業を戦略的
 に進めるオープンイノベーション・外部プロ人材の活
 用のポイント
X-WR-TIMEZONE:Asia/Tokyo
BEGIN:VTIMEZONE
TZID:Asia/Tokyo
BEGIN:STANDARD
DTSTART:19700101T000000
TZOFFSETFROM:+0900
TZOFFSETTO:+0900
TZNAME:JST
END:STANDARD
END:VTIMEZONE
BEGIN:VEVENT
UID:881105@techplay.jp
SUMMARY:【HiPro×eiicon共催セミナー】新規事業を戦略的に進
 めるオープンイノベーション・外部プロ人材の活用の
 ポイント
DTSTART;TZID=Asia/Tokyo:20221214T190000
DTEND;TZID=Asia/Tokyo:20221214T210000
DTSTAMP:20260419T153426Z
CREATED:20221110T064854Z
DESCRIPTION:イベント詳細はこちら\nhttps://techplay.jp/event/88110
 5?utm_medium=referral&utm_source=ics&utm_campaign=ics\n\n【HiPro×eiicon
  共催セミナー】新規事業を戦略的に進めるオープンイ
 ノベーション・外部プロ人材の活用のポイント\n■開
 催概要\n本セミナーでは、様々な業界の新規事業開発
 や外部人材活用に精通するHiPro 事業責任者 鏑木とeiicon
  company 代表 中村による、**『新規事業を生み出す方法
 論』**について、トークセッションを行います！\n>>>>>>
 >>>>>>>>>>>>>>>>>>>>>>>>>>>>>>>>>>>>>>>>>>>>>>>>>>>>>\n　企業を取り
 巻く環境は、価値観の多様化によるニーズの変化や消
 費者行動の変化、　技術革新による製品ライフサイク
 ルの短縮化など、急速に変化を遂げています。\n　企
 業が持続的な成長をするためには、時代の変化に柔軟
 に対応し、　積極的に新たな市場の開拓や新たな事業
 の展開に取り組んでいくことが重要です。\n　オープ
 ンイノベーションの実践や外部人材活用など、ビジネ
 スパートナーとの共創で、　新しいものを生み出そう
 とする企業活動が活発化する一方、　新規事業の創出
 に必要な経験、ノウハウ、人材の不足から、　新規事
 業がなかなか生み出せないという課題をお持ちの方も
 多くいらっしゃいます。\n　累計12\,000件のプロフェッ
 ショナル人材活用支援実績を持つ「HiPro」。　累計登
 録25\,000社、累計共創事例数1\,700社、　日本最大級のオ
 ープンイノベーションプラットフォームを運営する「e
 iicon company」。\n　2022年10月17日（月）に両社が業務提
 携をしたことで、　包括的にイノベーション創出活動
 における知見を共有・発信ができるようになりました
 。\n>>>>>>>>>>>>>>>>>>>>>>>>>>>>>>>>>>>>>>>>>>>>>>>>>>>>>>>>>>>\n\n新
 規事業創出において外部人材の活用や企業間連携を模
 索している方\n自社の新規事業創出戦略において外部
 活用で成功するポイントを知りたい方、\n多様な人材
 の登用や、スピーディーに事業開発を進めたいと考え
 る方におすすめです。\n\n■タイムスケジュール\n18:30~
 　受付開始19:00～19:15　オープニング（HiPro、eiicon 各社
 ）19:15～20:00　パネルディスカッション（Q&A含む）20:00
 ～21:00　交流会※ 当日予告なく時間配分・内容が変更
 になる可能性がございます。\n■登壇者\n\n鏑木 陽二朗
 \nHiPro ／ パーソルキャリア株式会社\n執行役員 兼 タレ
 ントシェアリング事業部 事業責任者　\n2001年株式会社
 インテリジェンス(現パーソルキャリア)入社。\n2011年
 に、プロ人材による経営支援サービス「i-common(アイコ
 モン)」(現「HiPro Biz(ハイプロビズ)」)を立ち上げ、事
 業責任者として組織を牽引。2021年10月に執行役員就任
 。\n2022年5月、業界初となるプロフェッショナル人材の
 総合活用支援ブランド「HiPro(ハイプロ)」を立ち上げる
 。\n\n\n\n中村 亜由子\neiicon company ／ パーソルイノベー
 ション株式会社\n代表／Founder\n2015年「eiicon」事業を単
 独で起案創業し、パーソルグループ内新規事業として
 リリースを果たし、2018年よりcompany化。\n現在はeiicon co
 mpanyの代表として、25\,000社を超える全国各地の法人が
 登録する日本最大級の企業検索・マッチングプラット
 フォーム「AUBA」、会員2万人を超える事業活性化メデ
 ィア「TOMORUBA」等を運営。\n年間60本以上のイベントに
 おいて講演・コメンテーターなども務め、多くのアク
 セラレータープログラムのメンター・審査員としても
 幅広く活動。また、エンジェル投資家として複数のス
 タートアップに投資・支援をしている。\n\n■モデレー
 ター\n\n村田 宗一郎\neiicon company ／ パーソルイノベー
 ション株式会社\nEnterprise事業部 事業部長\n2008年株式会
 社インテリジェンス（現パーソルキャリア）に入社。
 製薬、食品、飲料、総合商社、不動産、など幅広い領
 域の採用支援を担当。その後、仙台支店の支社長とし
 て東北6県の採用支援や各種アライアンス締結を推進。
 30名以上のマネジメントを経て、eiiconに参画。\n現在は
 Enterprise事業部の責任者として、日本最大級のオープン
 イノベーションプラットフォーム「AUBA」を推進しなが
 ら、多数の法人企業へのオープンイノベーション支援
 に従事。\n\n■参加対象\n\n新規事業開発に取り組むマ
 ネジメント層の方\n企業間連携や外部人材を活用した
 新規事業開発手法に関心のある方\nHiProに関心のある方
 \neiicon companyに関心のある方\n\n■開催場所\n大手町ビル
 5F（パーソルキャリア Client Space）〒100-0004 東京都千代
 田区大手町１丁目６−１ 大手町ビル 5F（Google Map：https
 ://goo.gl/maps/iaRZKDb3xkPW3VpJ9）\n≪アクセスガイド≫地下鉄
 各線「大手町駅」地上出口E2・C7地下道より直結東京メ
 トロ丸の内線・千代田線より徒歩0分東京メトロ半蔵門
 線より徒歩2分東京メトロ東西線より徒歩2分都営三田
 線より徒歩10分\n※5Fエレベーターホールにて案内係か
 ら会場案内をさせていただきます。※開催方法を「オ
 ンライン」に変更する場合には、お申込者の方へご案
 内をさせていただきます。\n■主催\n※本セミナーはパ
 ーソルキャリア株式会社との共催セミナーです。\n●
 プロフェッショナル人材の総合活用支援ブランド「HiPr
 o」（https://hipro-job.jp/）\n　人生100年時代への突入、コ
 ロナ禍でリモートワークが普及・浸透したことなどに
 より、はたらき方や雇用のあり方が大きく変わってき
 ています。企業を取り巻く環境も劇的に変化し、産業
 構造も変わりつつあります。こうした中、複雑なビジ
 ネス課題を解決するためには、企業と従業員の雇用契
 約だけでは対応しきれない状況も生まれています。こ
 うした現状を変え、新しい人材活用（タレントシェア
 リング）を当たり前にするために誕生したのが、サー
 ビスブランド「HiPro（ハイプロ）」です。「HiPro」は「
 スキルを解放し、社会を多様にする。」をブランドパ
 ーパスに、企業は課題解決に必要な人材と出会うこと
 ができ、個人は自分のスキルにあったプロジェクトを
 探すことができる、業界初のプロフェッショナル人材
 の総合活用支援ブランドです。「HiPro」の展開により
 、これまでの経験とスキルを生かしながら自身の可能
 性を広げたい個人と、複雑化する課題に対応したい企
 業に選択肢を増やし、社会を多様にしていきます。\n
 ●パーソルキャリア株式会社について（ https://www.perso
 l-career.co.jp/ ）\n　パーソルキャリア株式会社は、－人
 々に「はたらく」を自分のものにする力を－をミッシ
 ョンとし、転職サービス「doda」やハイクラス転職サー
 ビス「doda X」を通じて人材紹介、求人広告、新卒採用
 支援などを提供しています。2022年5月にはプロフェッ
 ショナル人材の総合活用支援ブランド「HiPro」を立ち
 上げ、副業・フリーランス領域にも本格参入。グルー
 プの総力をあげて、これまで以上に個人の「はたらく
 」にフォーカスした社会価値の創出に努め、社会課題
 に正面から向き合い、すべての「はたらく」が笑顔に
 つながる社会の実現を目指します。当社のミッション
 について：https://www.persol-career.co.jp/mission_value/detail/\n●
 eiicon company（https://corp.eiicon.net/）\n「オープンイノベー
 ション」にチャレンジするすべての企業に対し、その
 取り組みを加速させる支援を実施しています。１）「A
 UBA」：　https://auba.eiicon.net/　「価値ある出会いが未来
 を創る」をテーマに、オープンイノベーションのパー
 トナーを探すことができる、ビジネスマッチングプラ
 ットフォーム。登録数25\,000社。課題・事業成長に必要
 なリソースなど自社情報を登録、相互に発信し、企業
 の新たなつながりを実現します。２）「TOMORUBA」：　ht
 tps://tomoruba.eiicon.net/　事業を創るビジネスパーソンの
 ための“事業を活性化するメディア”。全国各地あら
 ゆる業界のスタートアップ・中小企業・大手企業から
 地方自治体・大学まで、資金調達・資金提供・共同研
 究などの様々な情報や事業を創るためのノウハウ情報
 などを配信しています。３）「SHABERUBA」：　「AUBA」が
 提供する、会員専用コミュニティ。バーチャルコワー
 キングスペースで会員同士の会話や商談、各種イベン
 ト参加やコミュニティ支援実施まで、オフラインでの
 活動をオンライン上で実現しています。４）「event」
 ：ビジネスパートナー企業との出会いの場をリアルに
 創出します。５）「Sourcing Support」：専門コンサルタン
 トがオープンイノベーションチャレンジを支援します
 。以上5つの軸で、日本に新規事業創出手法「オープン
 イノベーション」を根付かせるサービスを提供してい
 ます。\n■参加費\n無料\n■注意事項\n※営業、勧誘目
 的でのイベント参加はお断りいたします。※執拗な勧
 誘行為、セールスおよび宗教などに関する勧誘を禁止
 します。※交流会後の個人間のトラブルにつきまして
 は責任を負いかねますのでご了承下さい。※参加を辞
 退する場合は、詳細ページより申込のキャンセルをお
 願いします。※複数名でご参加される場合でも、お名
 前ごとに、それぞれご入力をお願いします。\n■HiPro×e
 iicon 業務提携について\nパーソルグループで転職サー
 ビス「doda」を運営するパーソルキャリア株式会社が展
 開する、プロフェッショナル総合活用支援ブランド「H
 iPro（ハイプロ）」と、パーソルグループのパーソルイ
 ノベーション株式会社が運営する「eiicon company」は、20
 22年10月17日（月）に業務提携をしました。（プレスリ
 リース：https://prtimes.jp/main/html/rd/p/000000566.000022215.html）
 \n累計12\,000件のプロフェッショナル人材活用支援実績
 を持つ「HiPro」。累計登録25\,000社、累計共創事例数1\,7
 00社、日本最大級のオープンイノベーションプラット
 フォームを運営する「eiicon company」。両者のサービス
 を包括的に連携することで、両者の知見やノウハウを
 集約したセミナーの開催や、プロフェッショナル人材
 ・ビジネスパートナー企業の紹介における営業連携、
 企業の新規事業促進に必要となるサービス開発に至る
 まで、幅広く企業のニーズに応えることができるよう
 になりました。
LOCATION:大手町ビル5F（パーソルキャリア Client Space） 〒10
 0-0004 東京都千代田区大手町１丁目６−１ 大手町ビル 5
 F入力する
URL:https://techplay.jp/event/881105?utm_medium=referral&utm_source=ics&utm
 _campaign=ics
END:VEVENT
END:VCALENDAR
