BEGIN:VCALENDAR
VERSION:2.0
PRODID:-//https://techplay.jp//JP
CALSCALE:GREGORIAN
METHOD:PUBLISH
X-WR-CALDESC:Java開発でのシフトレフトはじめの一歩 CIと自
 動化をはじめよう
X-WR-CALNAME:Java開発でのシフトレフトはじめの一歩 CIと自
 動化をはじめよう
X-WR-TIMEZONE:Asia/Tokyo
BEGIN:VTIMEZONE
TZID:Asia/Tokyo
BEGIN:STANDARD
DTSTART:19700101T000000
TZOFFSETFROM:+0900
TZOFFSETTO:+0900
TZNAME:JST
END:STANDARD
END:VTIMEZONE
BEGIN:VEVENT
UID:881658@techplay.jp
SUMMARY:Java開発でのシフトレフトはじめの一歩 CIと自動化
 をはじめよう
DTSTART;TZID=Asia/Tokyo:20221124T110000
DTEND;TZID=Asia/Tokyo:20221124T120000
DTSTAMP:20260420T045005Z
CREATED:20221115T025854Z
DESCRIPTION:イベント詳細はこちら\nhttps://techplay.jp/event/88165
 8?utm_medium=referral&utm_source=ics&utm_campaign=ics\n\nJava開発での
 シフトレフトはじめの一歩 CIと自動化をはじめよう\n
 概要\nソフトウェアのリリーススピードと品質を両立
 させるにはどうしたら良いでしょうか？従来型の後半
 に品質を作り込むやり方では世の中のニーズに追いつ
 けなくなってきており、アプローチを変える必要があ
 ります。この課題に対する回答のひとつが、早い段階
 から繰り返しテストを行い品質を高めていくシフトレ
 フトです。（早い段階から繰り返しテストを行い品質
 を高めていきます。）本セミナーでは、シフトレフト
 の最初の一歩どこから始めるべきか？そして、そこに
 隠されたハマるポイントとその解決方法をご紹介しま
 す。また、商用Java開発ツールであるParasoft Jtestを使っ
 た効率的な導入方法もご紹介します。\nアジェンダ\n\n
 ソフトウェア開発とシフトレフト\nJava開発で始める最
 初のCI環境-選択肢の増えたCIツール-まずは導入しやす
 い静的解析-やりたいけれど出来ない単体テスト\nCI環
 境でコンテナを使う\nまとめ\n\n※ 当日予告なく時間配
 分・内容が変更になる可能性がございます。\n参加方
 法\n\nお申し込みいただきますと「参加者へのお知らせ
 」に申し込みURLが表示されます。\n申し込みURLへアク
 セスし、Zoomへご登録ください。(募集期間中にZoomへの
 ご登録までお済ませください)\nご登録後、Zoomから通知
 メール（Webinarへの参加方法）が届きます。\nセミナー
 当日に、登録完了通知メールに記載されている「ここ
 をクリックして参加」URLからご参加ください。\n\n想定
 受講者\n\nCI環境、自動化をご検討の方\nJava開発の効率
 化に興味がある方\n単体テスト、静的解析に興味があ
 る方\nJtestを検討中の方\n\nお問い合わせ\nテクマトリッ
 クス株式会社　ソフトウェアエンジニアリング事業部
 「Jtest」公式サイトJavaは、Oracle Corporation 及びその子会
 社，関連会社の米国 及びその他の国における登録商標
 または商標です。
LOCATION:オンライン
URL:https://techplay.jp/event/881658?utm_medium=referral&utm_source=ics&utm
 _campaign=ics
END:VEVENT
END:VCALENDAR
