BEGIN:VCALENDAR
VERSION:2.0
PRODID:-//https://techplay.jp//JP
CALSCALE:GREGORIAN
METHOD:PUBLISH
X-WR-CALDESC:【ミラティブ×Gaudiy】CxO対談｜コミュニティマ
 ネジメントをエンジニア組織で体現する方法
X-WR-CALNAME:【ミラティブ×Gaudiy】CxO対談｜コミュニティマ
 ネジメントをエンジニア組織で体現する方法
X-WR-TIMEZONE:Asia/Tokyo
BEGIN:VTIMEZONE
TZID:Asia/Tokyo
BEGIN:STANDARD
DTSTART:19700101T000000
TZOFFSETFROM:+0900
TZOFFSETTO:+0900
TZNAME:JST
END:STANDARD
END:VTIMEZONE
BEGIN:VEVENT
UID:882048@techplay.jp
SUMMARY:【ミラティブ×Gaudiy】CxO対談｜コミュニティマネ
 ジメントをエンジニア組織で体現する方法
DTSTART;TZID=Asia/Tokyo:20221125T193000
DTEND;TZID=Asia/Tokyo:20221125T210000
DTSTAMP:20260422T101445Z
CREATED:20221117T140034Z
DESCRIPTION:イベント詳細はこちら\nhttps://techplay.jp/event/88204
 8?utm_medium=referral&utm_source=ics&utm_campaign=ics\n\n申し込み・
 視聴方法\n\nTECH PLAY画面「イベントに申し込む」よりご
 登録ください\n当イベントは、Zoom にて配信予定です\n
 開催当日の朝、メールにて視聴URLをお送りしますので
 必ずご確認ください\n\nエンジニア組織でコミュニティ
 マネジメントを体現するとは\n「コミュニティマネジ
 メント」とは、サービス内外においてサービスの提供
 価値を中心にファンの創出・維持・活性化させていく
 手法や技術を意味します。\n組織マネジメントや会社
 経営における「コミュニティマネジメント」とは、社
 員や部署を「コミュニティ」として捉え運用していき
 ます。事業の根幹となる価値観を社内でも体現し続け
 ることが重要であり、その価値観に共鳴・共感する社
 員とその熱量の総量を増やしていくことで、自律的に
 成長しつづける組織を創ることができます。\n今回は
 、DAO的な組織作りのために徹底的な民主主義で経営を
 行うGaudiy CEO石川様をお呼びし、エンジニア組織を中心
 に、「組織とコミュニティ」や「自律するエンジニア
 組織の作り方」についてお話しします。\nこんな人に
 おすすめ\n\n大型資金調達を経て大幅成長中のスタート
 アップの組織体制に興味のある方\nエンジニア組織の
 マネジメントに関わる方\nエンジニア組織をこれから
 作ろうとしている方\nエンジニア組織の作り方やマネ
 ジメントに悩んでいる方\nコミュニティマネジメント
 に興味がある方\nミラティブ、Gaudiyに興味がある方\n\n
 開催概要\n\n日程：2022年11月25日（金）19:30〜20:30　※5
 分前から入室可能です\n開催場所：オンライン（Zoom・
 申し込み後にURLを後日ご案内します）\n参加費：無料\n
 申し込み方法：TECH PLAY画面「イベントに申し込む」よ
 りご登録ください\n\nタイムテーブル\n※時刻は目安で
 す。当日の進行により前後する可能性があります。\n\n
 \n\n時刻\n内容\n\n\n\n\n19:25\n開場\n\n\n19:30-19:35\nオープニ
 ング\n\n\n19:35-19:45\n登壇者・各社紹介\n\n\n19:45-20:30\nト
 ークセッション　- 各社のエンジニア組織の概要- コミ
 ュニティと組織マネジメント- エンジニア組織の作り
 方\n\n\n20:30-20:45\n質疑応答\n\n\n20:45-20:50\nアンケート\n\n\
 n20:50-21:00\nクロージング\n\n\n\n登壇者プロフィール\n株
 式会社ミラティブ CTO 横手 良太\n大学院修了後、機械
 学習の分野で博士号取得。助手として研究活動、論文
 執筆を行う。2014年に株式会社DONUTSに入社し、スマート
 フォンゲーム開発に従事。2017年より技術部部長。2018
 年7月ミラティブ参画し、ミラティブのアバター機能「
 エモモ」の開発をリード。2021年4月にCTOに就任。\nnote
 ：Ryota Yokote @ミラティブ\nTwitter：@n0mimono\n株式会社Gaudiy
  代表取締役CEO 石川 裕也\n1994年東京生まれ。19歳でAI関
 連企業を創業のち売却。2017年にブロックチェーンに出
 会い、その翌年、Gaudiyを創業。個人ではガンダムメタ
 バースやLINE Pay、毎日新聞などでブロックチェーン関
 連の技術顧問なども兼任。2022年5月と8月に実施したシ
 リーズBで総額34億円を調達。\nnote：Yuya Ishikawa /Gaudiy CEO
 \nTwitter：@yuya_gaudiy\n株式会社ミラティブ 執行役員 プロ
 ダクトマネージャー 坂本 登史文（モデレーター）\n201
 0年京都大学理学研究科修了。大手メーカー系IT企業でS
 APコンサルタントとして会計システムの開発に従事。
 その後、データサイエンティストとしてDeNAで活躍。201
 4年3月freee株式会社に参画、データ分析チーム・グロー
 スチームの立ち上げ、freeeの人工知能エンジンの発明
 などを行う。2015年からプロダクト企画の執行役員。 
 現在はミラティブにて、執行役員プロダクトマネージ
 ャー。\nTwitter：@sakamoto_mirra\n登壇企業の概要\n###株式会
 社ミラティブミラティブは「わかりあう願いをつなご
 う」をミッションにゲーム配信プラットフォーム「Mirr
 ativ（ミラティブ）」を運営しています。ビジョン「好
 きでつながり、自分の物語（ナラティブ）が生まれる
 居場所」を掲げ、ユーザーにとってオンライン上の居
 心地の良い空間を提供できるようプロダクト開発に取
 り組んでいます。\n\n\nミラティブ会社紹介資料\n\n\nエ
 ンジニア向け会社紹介資料\n\n\nテックブログ\n\n\nエン
 ジニア向け情報ポータルサイト\n\n\n株式会社Gaudiy\nGaudi
 yは「ファンと共に、時代を進める。」をミッションに
 、ファンの熱量を最大化するWeb3時代のファンプラット
 フォーム「Gaudiy Fanlink」を開発・提供しています。2018
 年の創業から、ブロックチェーンを中心とする先進技
 術を活用したコミュニティサービスを展開し、大手エ
 ンタメ企業にサービスを提供しています。\n\n\nエンジ
 ニア向け採用サイト\n\n\nGaudiy Tech Blog\n\n\nコーポレート
 サイト\n\n\nアンチハラスメントポリシー\n全ての参加
 者が技術共有/交流に集中できる様、以下のようなハラ
 スメント行為はご遠慮ください。該当する行為が発覚
 した場合、NGユーザーの登録などを行う可能性があり
 ます。\n\n性差、性同一性の表現、性的指向、障害、外
 見や身体的特徴、人種、宗教、公共な場での性的な画
 像や類する表現\n脅迫、つきまとい、望まない写真撮
 影や録音・録画、不適切な接触、およびそれらに関連
 した不快な言動\n
LOCATION:オンライン(Zoom)
URL:https://techplay.jp/event/882048?utm_medium=referral&utm_source=ics&utm
 _campaign=ics
END:VEVENT
END:VCALENDAR
