BEGIN:VCALENDAR
VERSION:2.0
PRODID:-//https://techplay.jp//JP
CALSCALE:GREGORIAN
METHOD:PUBLISH
X-WR-CALDESC:KDDI AGILE DEVELOPER CHALLENGE 2023 高専生向けアジャ
 イル開発体験会
X-WR-CALNAME:KDDI AGILE DEVELOPER CHALLENGE 2023 高専生向けアジャ
 イル開発体験会
X-WR-TIMEZONE:Asia/Tokyo
BEGIN:VTIMEZONE
TZID:Asia/Tokyo
BEGIN:STANDARD
DTSTART:19700101T000000
TZOFFSETFROM:+0900
TZOFFSETTO:+0900
TZNAME:JST
END:STANDARD
END:VTIMEZONE
BEGIN:VEVENT
UID:882647@techplay.jp
SUMMARY:KDDI AGILE DEVELOPER CHALLENGE 2023 高専生向けアジャイル
 開発体験会
DTSTART;TZID=Asia/Tokyo:20230114T090000
DTEND;TZID=Asia/Tokyo:20230114T180000
DTSTAMP:20260420T111624Z
CREATED:20221122T061418Z
DESCRIPTION:イベント詳細はこちら\nhttps://techplay.jp/event/88264
 7?utm_medium=referral&utm_source=ics&utm_campaign=ics\n\n実際にサー
 ビスを開発しているエンジニア＆デザイナーがチュー
 ターとして対応しますので、開発経験がゼロの方でも
 開発はもちろん、チーム開発についても学ぶことが出
 来ます。\n今回はオンライン開催となりますが、イベ
 ントの雰囲気はこちらをご確認ください。\n概要\n本イ
 ベントは、KDDIアジャイル開発センター株式会社が主催
 する高専生向けの1Dayアジャイル開発体験会です。KDDI
 グループでは、ユーザーの目線に立ち価値ある物を素
 早く提供できるように、アイデアや仮説の具体化から
 検証・改善までのプロセスを繰り返す「リーンスター
 トアップ、アジャイル開発」を導入しております。皆
 さんには、KDDIグループで実際に行っているサービス開
 発プロセスを通して、アイディアの創出から実装、そ
 してデモンストレーションまで体験していただきます
 。実際にサービス開発しているメンバーがチューター
 としてフォローしますので、プログラミングが好き、
 自身のスキルを試したい方はもちろんのこと、KDDIグル
 ープで行われているサービス開発に興味のある皆さん
 からの応募もお待ちしております。また、プログラミ
 ングなどの経験値がゼロの方でも、しっかりフォロー
 しグループワークを体験いただけます。ぜひこの機会
 の多くのことを経験していただければと思います。 \n
 \n開催日時/形式●日時：2023年1月14日(土) 9:00 - 18:00●形
 式：オンライン開催（参加当選者にアクセス方法をご
 案内します）●応募者多数の場合は抽選となります。
 当選者の方には「1月6日」にご連絡いたします。\n賞金
 ／賞品\n\n\n最優秀賞：ギフト券 8万円/チーム、表彰盾\
 n\n\n優秀賞　：ギフト券 4万円/チーム、表彰盾\n\n\n参
 加賞：各種ノベルティ※本内容は予定となります。\n
 タイムスケジュール\n2023年1月14日（土）\n\n\n\n時間\n内
 容\n\n\n\n\n9:00〜\nオープニング、チームビルディング\n\
 n\n9:20〜\nサービスデザインワークショップ\n\n\n11:20〜\n
 アジャイル開発、ランチ\n\n\n16:45〜\nデモ・プレゼン、
 クロージング\n\n\n18:00\n解散\n\n\n\n※ 当日予告なく時間
 配分・内容が変更になる可能性がございます。\n参加
 対象\n\n高専生\n\n参加費\n無料\n注意事項\n\n\nオンライ
 ン形式での開催となりますので、安定したインターネ
 ットへの接続が必須となります。事前に通信環境をご
 確認ください。なお、データ通信料（パケット通信料
 ）は自己負担でお願いします。\n\n\n抽選結果の通知は1
 月6日に通知いたします。\n\nキャンセル待ち・補欠・
 落選の方はご参加いただくことが出来ませんのでご了
 承ください。\n欠席される場合は、お手数ですが速や
 かにキャンセル処理をお願い致します。\n無断キャン
 セルや欠席が続く場合、次回以降の参加をお断りさせ
 ていただく場合がございます。\n
LOCATION:オンライン
URL:https://techplay.jp/event/882647?utm_medium=referral&utm_source=ics&utm
 _campaign=ics
END:VEVENT
END:VCALENDAR
