BEGIN:VCALENDAR
VERSION:2.0
PRODID:-//https://techplay.jp//JP
CALSCALE:GREGORIAN
METHOD:PUBLISH
X-WR-CALDESC:ナイトケアビューティーブランド「YOLU」のマ
 ーケティング手法公開！〜BOTANIST（ボタニスト）など
 のブランドを展開するI-neのSNS施策をベースとした実店
 舗購買最大化の秘訣に迫る〜
X-WR-CALNAME:ナイトケアビューティーブランド「YOLU」のマ
 ーケティング手法公開！〜BOTANIST（ボタニスト）など
 のブランドを展開するI-neのSNS施策をベースとした実店
 舗購買最大化の秘訣に迫る〜
X-WR-TIMEZONE:Asia/Tokyo
BEGIN:VTIMEZONE
TZID:Asia/Tokyo
BEGIN:STANDARD
DTSTART:19700101T000000
TZOFFSETFROM:+0900
TZOFFSETTO:+0900
TZNAME:JST
END:STANDARD
END:VTIMEZONE
BEGIN:VEVENT
UID:882742@techplay.jp
SUMMARY:ナイトケアビューティーブランド「YOLU」のマーケ
 ティング手法公開！〜BOTANIST（ボタニスト）などのブ
 ランドを展開するI-neのSNS施策をベースとした実店舗購
 買最大化の秘訣に迫る〜
DTSTART;TZID=Asia/Tokyo:20221207T130000
DTEND;TZID=Asia/Tokyo:20221207T140000
DTSTAMP:20260421T014945Z
CREATED:20221123T040328Z
DESCRIPTION:イベント詳細はこちら\nhttps://techplay.jp/event/88274
 2?utm_medium=referral&utm_source=ics&utm_campaign=ics\n\nナイトケア
 ビューティーブランド「YOLU」のマーケティング手法公
 開！\n〜BOTANIST（ボタニスト）などのブランドを展開す
 るI-neのSNS施策をベースとした実店舗購買最大化の秘訣
 に迫る〜\nTikTokやInstagramなどのSNSを利用するユーザー
 が増加し続け、SNSマーケティングは一般的なブランド
 認知〜集客の手段となっています。\n本ウェビナーで
 は、実際にSNSマーケティングが店舗の売上にどう影響
 しているのか、また売上を最大化させるには店舗でど
 のような広告を展開することが望ましいのか。株式会
 社Ｉ－ｎｅ（アイエヌイー）の展開するナイトケアビ
 ューティーブランド「YOLU」の事例をもとにご紹介しま
 す。\nこのような方におすすめ\n小売メーカーのマーケ
 ティング、広告宣伝、販売促進担当SNSマーケティング
 に関わる方SNSと店頭メディアの掛け合わせによるプロ
 モーションに興味のある企業担当者\nプログラム\n◯両
 社の紹介◯YOLUのSNSマーケティングの実態◯YOLUがドラ
 ッグストアサイネージへ広告出稿した理由◯YOLUの実施
 概要の説明◯出稿効果の分析結果　└アンケート調査
 （認知と購入意向の向上）　└POSデータ（実売上デー
 タへの影響）◯SNSとサイネージの相乗効果（広告効果
 から見えた結論）◯質疑応答\nセミナー概要\n【日時】
 2022年12月7日（水） 13:00-14:00 （受付開始 12:50）【参加
 費用】無料【視聴方法】Zoomにて配信（PC、スマホ、タ
 ブレットより視聴いただけます）\n注意事項\n◯ご登録
 いただいたメールアドレス宛に、開催の3日前までにウ
 ェビナー閲覧用URLを送付いたします。　◯開催日より3
 日以内にお申込いただいた場合は、前日までにウェビ
 ナー閲覧用URL、パスワードを送付いたします。※パソ
 コンのブラウザや、スマートフォン・タブレットのア
 プリからでも接続が可能です◯視聴に際し、以下の事
 項に同意ください。・視聴URLはセミナーに参加する方
 のみ利用可能とし、転送などの再配布を禁止します。
 ・システムトラブル、またはお客様のネットワークト
 ラブルなどにより、画像・音声に乱れが生じる場合も
 ございます。予めご了承ください。\n主催\n社名 　　
 株式会社マイクロアドデジタルサイネージ所在地 　　
 東京都渋谷区桜丘町20-1渋谷インフォスタワー13階設立 
 　　2013年8月1日代表者 　　代表取締役社長 穴原　誠
 一郎事業内容　　デジタルサイネージソリューション
 事業
LOCATION:オンライン
URL:https://techplay.jp/event/882742?utm_medium=referral&utm_source=ics&utm
 _campaign=ics
END:VEVENT
END:VCALENDAR
