BEGIN:VCALENDAR
VERSION:2.0
PRODID:-//https://techplay.jp//JP
CALSCALE:GREGORIAN
METHOD:PUBLISH
X-WR-CALDESC:【広報・マーケティング担当必見！】50人の記
 者に聞く、2023年の時流・トレンド
X-WR-CALNAME:【広報・マーケティング担当必見！】50人の記
 者に聞く、2023年の時流・トレンド
X-WR-TIMEZONE:Asia/Tokyo
BEGIN:VTIMEZONE
TZID:Asia/Tokyo
BEGIN:STANDARD
DTSTART:19700101T000000
TZOFFSETFROM:+0900
TZOFFSETTO:+0900
TZNAME:JST
END:STANDARD
END:VTIMEZONE
BEGIN:VEVENT
UID:882796@techplay.jp
SUMMARY:【広報・マーケティング担当必見！】50人の記者
 に聞く、2023年の時流・トレンド
DTSTART;TZID=Asia/Tokyo:20221206T110000
DTEND;TZID=Asia/Tokyo:20221206T120000
DTSTAMP:20260420T210334Z
CREATED:20221124T023958Z
DESCRIPTION:イベント詳細はこちら\nhttps://techplay.jp/event/88279
 6?utm_medium=referral&utm_source=ics&utm_campaign=ics\n\n【広報・マ
 ーケティング担当必見！】50人の記者に聞く、2023年の
 時流・トレンド\n概要\n好評につき2回目の開催！\n広報
 ・マーケティング担当のみなさま必見、時流解説セミ
 ナーを今年も開催いたします！\nメディアの記者がど
 んな時流に注目しているのか？2023年、どんな内容に注
 力したら露出に繋がるのか？皆様の日頃の疑問に答え
 ます。\n＜ご注意＞※本セミナーは、企業の広報・PRご
 担当者さま向けのセミナーです。※弊社の競合企業（
 広告代理店、PR会社、制作会社など）様のご参加はお
 断りさせていただいております旨、ご了承くださいま
 せ。\nセミナーについて\n＜セミナーコンテンツ＞・メ
 ディアが「欲しがる」情報とは？・掲載の質を高める
 、メディアアプローチのポイントとは・2023年、50人の
 記者が注目する時流紹介\n＜こんな方におすすめ＞・
 メディア、記者が興味のある内容を知りたい・新年度
 に向けて、プロモーションや広報活動の戦略を検討し
 ている・情報発信はしているものの、なかなかニュー
 スにならず困っている\n＜セミナー参加者の声＞・な
 かなかプレスリリースから掲載に繋がらない...という
 部分に悩んでいたので、今回のセミナーに参加したの
 ですが、その理由が分かったので、とても参考になり
 ました。・あっという間の1時間でした。これから新商
 品のリリースがあるので、本日お聞きしたことを活か
 したいです。・記事化に向けての発信すべき要素の整
 理ができ、大変良かったです。・基本的な部分を抑え
 つつ、実務に繋がる内容でした。・媒体ごとの特徴が
 たくさん掴めて助かりました。・自社商品の露出を増
 やすためにネタ探しを常々しているのですが、ここま
 で広くメディアの方の気になるワードを自分だけでは
 吸い上げられなかったのでとてもありがたかったです
 。\nタイムテーブル\n11:00-11:05　開始前のご案内11:05-11:5
 0　50人の記者に聞く、2023年の時流・トレンド11:50-12:00
 　質疑応答終了\n参加費\n無料\n参加費\nビルコム株式
 会社　セミナー運営事務局TEL:03-5413-2411　FAX:03-5413-2412
 　MAIL:mktpr@bil.jp
LOCATION:オンライン
URL:https://techplay.jp/event/882796?utm_medium=referral&utm_source=ics&utm
 _campaign=ics
END:VEVENT
END:VCALENDAR
