BEGIN:VCALENDAR
VERSION:2.0
PRODID:-//https://techplay.jp//JP
CALSCALE:GREGORIAN
METHOD:PUBLISH
X-WR-CALDESC:【IBMキャリアセミナー】デジタル変革で描く
 金融の未来
X-WR-CALNAME:【IBMキャリアセミナー】デジタル変革で描く
 金融の未来
X-WR-TIMEZONE:Asia/Tokyo
BEGIN:VTIMEZONE
TZID:Asia/Tokyo
BEGIN:STANDARD
DTSTART:19700101T000000
TZOFFSETFROM:+0900
TZOFFSETTO:+0900
TZNAME:JST
END:STANDARD
END:VTIMEZONE
BEGIN:VEVENT
UID:882804@techplay.jp
SUMMARY:【IBMキャリアセミナー】デジタル変革で描く金融
 の未来
DTSTART;TZID=Asia/Tokyo:20230201T190000
DTEND;TZID=Asia/Tokyo:20230201T203000
DTSTAMP:20260422T045133Z
CREATED:20221124T050903Z
DESCRIPTION:イベント詳細はこちら\nhttps://techplay.jp/event/88280
 4?utm_medium=referral&utm_source=ics&utm_campaign=ics\n\n【IBMキャリ
 アセミナー】デジタル変革で描く金融の未来\n大好評
 につき金融業界向けオンラインイベントを再び開催い
 たします！\n当イベントでは、IBMのビジネスや金融業
 界向けの戦略から始まり、テクノロジーに強みのあるI
 BMだからこそご提案できるソリューションを交えた事
 例をご紹介いたします。また、様々なバックグラウン
 ドを持つ社員によるざっくばらんなパネルディスカッ
 ションを通じてIBMの仕事内容、働き方、やりがい、キ
 ャリアについて知っていただければと思います。\nみ
 なさまのご予約、ご参加をお待ちしております！\n\n登
 壇者\n\n孫工 裕史\nIBMコンサルティング事業本部　金融
 サービス事業部　統括\n1998年日本 IBM 入社以来、金融
 機関担当の営業、営業部長としてお客様の経営課題解
 決を支援。2018 年よりグローバル・ビジネス・サービ
 ス事業本部にてコンサルティング、システム構築、シ
 ステム保守などのサービスビジネスをリード、金融業
 界において多数の先進事例を推進。2020年 4 月より執行
 役員として同事業本部金融サービス事業部を統括。\n\n
 \nタイムスケジュール\n\n\n\n\n時間\n内容\n\n\n\n\n18:45〜\n
 受付開始\n\n\n19:00〜19:05\nOpening\n\n\n19:05〜19:20\nIBM・金融
 ビジネス戦略紹介\n\n\n19:20〜19:40\nプロジェクト事例紹
 介\n\n\n19:40〜20:05\nパネルディスカッション\n\n\n20:05〜20
 :20\n質疑応答\n\n\n20:20〜20:30\n募集要項・人事制度説明\n
 \n\n\n※ 当日予告なく時間配分・内容が変更になる可能
 性がございます。\n参加対象\n・新しいキャリアを模索
 されている方・転職先として日本IBMに関心を抱いてい
 る方・IBMの金融・保険サービスの事業や雰囲気を知り
 たい方\nコンサルファーム、SIer、ITベンダー、金融機
 関等において、金融システムやDX戦略、業務企画など
 の職務経験のある方にフィットした内容のイベントで
 す。\n＜職種＞・システムエンジニア・プロジェクト
 マネージャー・プロジェクトリーダー・ITコンサルタ
 ント・ビジネス（業務・戦略）コンサルタント・ソリ
 ューション営業\n\n参加費\n無料\nハッシュタグ\n#techplay
 jp
LOCATION:オンライン（事前予約制 予約者に接続情報をご
 案内いたします）
URL:https://techplay.jp/event/882804?utm_medium=referral&utm_source=ics&utm
 _campaign=ics
END:VEVENT
END:VCALENDAR
