BEGIN:VCALENDAR
VERSION:2.0
PRODID:-//https://techplay.jp//JP
CALSCALE:GREGORIAN
METHOD:PUBLISH
X-WR-CALDESC:〜情報システム部主導で組織改善！〜　デー
 タを可視化し属人化を防ぐ組織づくりとは
X-WR-CALNAME:〜情報システム部主導で組織改善！〜　デー
 タを可視化し属人化を防ぐ組織づくりとは
X-WR-TIMEZONE:Asia/Tokyo
BEGIN:VTIMEZONE
TZID:Asia/Tokyo
BEGIN:STANDARD
DTSTART:19700101T000000
TZOFFSETFROM:+0900
TZOFFSETTO:+0900
TZNAME:JST
END:STANDARD
END:VTIMEZONE
BEGIN:VEVENT
UID:883019@techplay.jp
SUMMARY:〜情報システム部主導で組織改善！〜　データを
 可視化し属人化を防ぐ組織づくりとは
DTSTART;TZID=Asia/Tokyo:20221201T160000
DTEND;TZID=Asia/Tokyo:20221201T170000
DTSTAMP:20260420T012944Z
CREATED:20221125T081640Z
DESCRIPTION:イベント詳細はこちら\nhttps://techplay.jp/event/88301
 9?utm_medium=referral&utm_source=ics&utm_campaign=ics\n\nタイトル\n
 〜情報システム部主導で組織改善！〜データを可視化
 し属人化を防ぐ組織づくりとは\n概要\nいろんなDXを推
 進する必要がありタスクがどんどん溜まっていく中で
 、人員不足や費用増の懸念により営業DXを推進できず
 にいる企業も多いのではないでしょうか。営業からの
 要望があるにも関わらず手をつけることができていな
 い情報システム部門の方やひとり情シスにより手をつ
 けることができないという方も少なくはないと思いま
 す。情報システム部門主導はもちろん、ひとり情シス
 や営業部門での導入も可能になる、営業の「脱属人化
 」ができるDX手法や「kintone×Miitel」の連携活用事例を
 交えながらご紹介させて頂きます。\n▼サイボウズ社
 データの可視化で実現するチームワークあふれる組織
 構築の秘訣\n▼RevComm社脱・属人化/自走可能な営業組織
 のつくり方\n▼BizteX社セールス活動のデータ整理術/kint
 one×Miitel連携活用事例のご紹介\n3社異なる視点で、営
 業のデータ活用ノウハウや、具体的な実践方法までお
 伝えしてまいります。\nこのような方におすすめです\n
 \n営業DXの推進や運用に悩んでいる方\n従来の営業活動
 を見直したい方\n顧客へのアプローチにオンラインデ
 ータを活用したい\n\n\n参加費\n無料\n注意事項\n\nリク
 ルーティング、勧誘など、採用目的でのイベント参加
 はお断りしております。\nキャンセル待ち・補欠・落
 選の方はご参加いただくことが出来ませんのでご了承
 ください。\n欠席される場合は、お手数ですが速やか
 にキャンセル処理をお願い致します。\n無断キャンセ
 ルや欠席が続く場合、次回以降の参加をお断りさせて
 いただく場合がございます。\n
LOCATION:オンライン（zoom）
URL:https://techplay.jp/event/883019?utm_medium=referral&utm_source=ics&utm
 _campaign=ics
END:VEVENT
END:VCALENDAR
