BEGIN:VCALENDAR
VERSION:2.0
PRODID:-//https://techplay.jp//JP
CALSCALE:GREGORIAN
METHOD:PUBLISH
X-WR-CALDESC:12/21 (水) 17:00- 世界最先端テック企業NVIDIAから
 学ぶ　成果につなげる最新AI技術の活用方法～医療分
 野におけるAI活用事例を参考に～
X-WR-CALNAME:12/21 (水) 17:00- 世界最先端テック企業NVIDIAから
 学ぶ　成果につなげる最新AI技術の活用方法～医療分
 野におけるAI活用事例を参考に～
X-WR-TIMEZONE:Asia/Tokyo
BEGIN:VTIMEZONE
TZID:Asia/Tokyo
BEGIN:STANDARD
DTSTART:19700101T000000
TZOFFSETFROM:+0900
TZOFFSETTO:+0900
TZNAME:JST
END:STANDARD
END:VTIMEZONE
BEGIN:VEVENT
UID:883932@techplay.jp
SUMMARY:12/21 (水) 17:00- 世界最先端テック企業NVIDIAから学ぶ
 　成果につなげる最新AI技術の活用方法～医療分野に
 おけるAI活用事例を参考に～
DTSTART;TZID=Asia/Tokyo:20221221T170000
DTEND;TZID=Asia/Tokyo:20221221T180000
DTSTAMP:20260422T235615Z
CREATED:20221202T004138Z
DESCRIPTION:イベント詳細はこちら\nhttps://techplay.jp/event/88393
 2?utm_medium=referral&utm_source=ics&utm_campaign=ics\n\nプログラム
 概要\nAI活用の成功確率を上げるためには、最新のAI技
 術動向をキャッチアップし、他業界を含めた活用事例
 を幅広く学ぶことで、自社におけるAI活用のヒントを
 得ることが重要です。本セミナーでは、世界最先端の
 テック企業であるNVIDIAの、医療分野におけるAI導入の
 エキスパートである小野様をお迎えし、医療業界の最
 新AI技術の活用事例や成果につながるAI導入を実践する
 ために必要な人材やスキルについて詳しく解説いただ
 きます。医療業界のAI活用にご関心のある方はもちろ
 ん、他業界でのAI活用にご関心のある方にも参考にい
 ただける内容となっておりますので、ぜひご参加くだ
 さい。\n\nタイムスケジュール\n17:00-17:05　冒頭挨拶\n17:
 05-17:35　講演\n17:35-17:45　パネルディスカッション\n17:45
 -17:55　質疑応答\n17:55-18:00　告知、アンケート\n\nスピ
 ーカー\nメインスピーカー：エヌビディア合同会社  
 エンタープライズ事業本部 シニアマネージャー ヘル
 スケア ビジネス デベロップメント / 小野 誠氏\n慶応
 義塾大学経済学部卒、詫間電波高専（現、香川高専）
 卒。20年以上、外資系ITベンダーに在籍し、大学病院や
 医療機器メーカーを中心とした医療業界向けの営業や
 ビジネス開発、プロダクトマーケティングなどに従事
 。　2020年にNVIDIAに入社し、エンタープライズ事業本部
 にてヘルスケア業界向けのビジネス開発を担当、　医
 療情報技師や業界での経験・知識を活かし、AIやGPUを
 活用した医療業界の発展を目指して東奔西走の日々。\
 n　モデレーター：スキルアップAI株式会社代表取締役 
 / 田原 眞一\n東京大学大学院新領域創成科学研究科修
 了。新卒でエンジニアとプロジェクトマネジャーを経
 験後、リクルートにて数多くのAI案件に携わる。2017年
 に『スキルアップAI』を開始し、企業へのAI教育サービ
 スの提供、コンサルティングを実施。著書に「徹底攻
 略 ディープラーニングG検定 ジェネラリスト問題集」
 。JDLAの人材育成委員も務める。\n日時\n2022年12月21日 (
 水)　17:00-18:00 ( 参加費：無料 )\n開催場所\nZoom※ご参加
 者には開催前日に、参加URLをご連絡します。※開催前
 日にZoomURLをお申込みいただきましたメールアドレスへ
 ご連絡させていただきます。メールが届かない方は、
 当日12時迄に info@skillupai.com へお問い合わせください
 。\n注意事項\n※本セミナーは企業様限定のセミナーと
 なります。※本セミナーの途中入退室は自由です。※
 一部プログラムに変更が生じる場合がございます。※
 競合他社様からのお申込み、匿名や会社名非公開での
 お申込みの場合は、ご参加をお断りさせていただく場
 合がございます。予めご了承ください。\n　【ご協力
 のお願い】・申込後のキャンセルについては、前日ま
 でにご連絡ください。\n個人情報の取扱いについて\n申
 し込み時にご提供いただいた情報は、イベント受付管
 理や各種ご案内（サービス・イベント等）に利用させ
 ていただきます。スキルアップAI株式会社 プライバシ
 ーポリシーhttps://www.skillupai.com/privacy/\nご入力いただい
 た個人情報等を当社が業務提携・業務委託するNVIDIA（
 エヌビディア合同会社）に開示し、これを共同利用す
 る場合があります。共同利用する場合の個人情報等の
 利用目的は、当該提携業務・委託業務を円滑に遂行す
 るためであり、同利用に際して当該第三者に提供する
 個人情報等の範囲は、同業務遂行に必要な範囲とさせ
 ていただきます。共同利用される個人情報等に関しま
 しても、弊社プライバシーポリシー第14条1項に規定さ
 れる個人情報管理責任者において責任を持って管理さ
 せていただくのと共に、お問い合わせにつきましては
 、同条第2項に規定する 連絡先宛にいただきますよう
 お願い致します。\nNVIDIA（エヌビディア合同会社）　
 プライバシーポリシーhttps://www.nvidia.com/ja-jp/about-nvidia/p
 rivacy-policy/\n運営団体\nスキルアップAI株式会社https://www
 .skillupai.com/
LOCATION:Zoom
URL:https://techplay.jp/event/883932?utm_medium=referral&utm_source=ics&utm
 _campaign=ics
END:VEVENT
END:VCALENDAR
