BEGIN:VCALENDAR
VERSION:2.0
PRODID:-//https://techplay.jp//JP
CALSCALE:GREGORIAN
METHOD:PUBLISH
X-WR-CALDESC:リード獲得だけで終わらせない！少人数マー
 ケ組織でも非連続な成長を生み出す、集客×ナーチャ
 リングの考え方
X-WR-CALNAME:リード獲得だけで終わらせない！少人数マー
 ケ組織でも非連続な成長を生み出す、集客×ナーチャ
 リングの考え方
X-WR-TIMEZONE:Asia/Tokyo
BEGIN:VTIMEZONE
TZID:Asia/Tokyo
BEGIN:STANDARD
DTSTART:19700101T000000
TZOFFSETFROM:+0900
TZOFFSETTO:+0900
TZNAME:JST
END:STANDARD
END:VTIMEZONE
BEGIN:VEVENT
UID:884418@techplay.jp
SUMMARY:リード獲得だけで終わらせない！少人数マーケ組
 織でも非連続な成長を生み出す、集客×ナーチャリン
 グの考え方
DTSTART;TZID=Asia/Tokyo:20230117T120000
DTEND;TZID=Asia/Tokyo:20230117T130000
DTSTAMP:20260421T080202Z
CREATED:20221206T054835Z
DESCRIPTION:イベント詳細はこちら\nhttps://techplay.jp/event/88441
 8?utm_medium=referral&utm_source=ics&utm_campaign=ics\n\nリード獲得
 だけで終わらせない！少人数マーケ組織でも非連続な
 成長を生み出す、集客×ナーチャリングの考え方\n概要
 \n少人数マーケ組織でも非連続な成長を生み出す、集
 客×ナーチャリングの考え方をお伝えします\nテレワー
 クが加速するアフターコロナ時代、BtoBマーケティング
 においては、新規でのリード獲得と並行して顧客を育
 成して行くことがますます重要性を高めています。し
 かし、マーケティングに関わる業務が増える一方で、
 社内リソースも限られている企業様も多くいらっしゃ
 るのではないでしょうか。本ウェビナーでは、少人数
 組織でも非連続な成長を生み出すための、リード獲得
 率を倍増させる効果的な具体施策と、顧客視点に立っ
 たリードナーチャリングの考え方をお伝えします。リ
 ード獲得・育成の効率をあげていかれたい企業の方は
 奮ってご参加ください。\nタイムスケジュール\n\n\n\n時
 間\n内容\n\n\n\n\n12:00〜\n登壇者・会社紹介\n\n\n12:10〜\n
 第一部　リード獲得効率を2倍にする、ウェビナー設計
 の考え\n\n\n12:25〜\n第二部　顧客起点で考える、ナーチ
 ャリングに最適な広告クリエイティブの考え方とは？\
 n\n\n12:40〜\n第三部　パネルディスカッション\n\n\n12:55
 〜\n質疑応答\n\n\n\n※ 当日予告なく時間配分・内容が
 変更になる可能性がございます。\n登壇者\n\n大熊 勇樹
 \nエキサイト株式会社 執行役員\n1983年1月生まれ。デザ
 イン会社、ベンチャー企業での管理職を経て大手ITグ
 ループ企業の統括マネージャーを経験。\n2017年株式会
 社ギブリーに社長室付入社。執行役員として新規事業
 開発、商材開発に携わり、WEB接客ツール「SYNALIO（シナ
 リオ）」開発の指揮を取る。2021年4月、当社に入社し
 、執行役員就任。経営管理SaaS 「KUROTEN.（クロテン）」
 、ファクタリングサービス「セゾンインボイス」を中
 心としたSaaS事業部を管掌。同年10月にはグループ企業i
 XITの取締役兼執行役員も兼任。\n\n\n\n達川 幸弘\n株式
 会社ガラパゴス AIR Design for Marketing 事業部 MSチームマ
 ーケ・U\nBtoC向け大規模ECサイトを運営するベンチャー
 でマザーズ上場を経験。マーケティング部のリーダー
 として様々な施策を実施。その後BtoC向けベンチャーの
 CMO、BtoBのSaaSベンチャーでのマーケティング責任者な
 ど、BtoC・BtoC・オンライン・オフラインの幅広い現場
 の知見を持つ。現在株式会社ガラパゴスにて、AIを活
 用したマーケター向けクリエイティブデザイン提供サ
 ービス「AIR Design for Marketing」のマーケティングを担当
 。\n\n参加対象\n\nWebマーケティングでお悩みの事業会
 社の方\nリードナーチャリングにお悩みの事業会社の
 方\n\n\n参加費\n無料
LOCATION:オンラインZoom
URL:https://techplay.jp/event/884418?utm_medium=referral&utm_source=ics&utm
 _campaign=ics
END:VEVENT
END:VCALENDAR
