BEGIN:VCALENDAR
VERSION:2.0
PRODID:-//https://techplay.jp//JP
CALSCALE:GREGORIAN
METHOD:PUBLISH
X-WR-CALDESC:【入門編】Web制作会社直伝！ 売れるLPの作り
 方～成果につながる構成のポイントとは？～
X-WR-CALNAME:【入門編】Web制作会社直伝！ 売れるLPの作り
 方～成果につながる構成のポイントとは？～
X-WR-TIMEZONE:Asia/Tokyo
BEGIN:VTIMEZONE
TZID:Asia/Tokyo
BEGIN:STANDARD
DTSTART:19700101T000000
TZOFFSETFROM:+0900
TZOFFSETTO:+0900
TZNAME:JST
END:STANDARD
END:VTIMEZONE
BEGIN:VEVENT
UID:884556@techplay.jp
SUMMARY:【入門編】Web制作会社直伝！ 売れるLPの作り方～
 成果につながる構成のポイントとは？～
DTSTART;TZID=Asia/Tokyo:20221219T100000
DTEND;TZID=Asia/Tokyo:20221223T180000
DTSTAMP:20260421T125353Z
CREATED:20221207T054116Z
DESCRIPTION:イベント詳細はこちら\nhttps://techplay.jp/event/88455
 6?utm_medium=referral&utm_source=ics&utm_campaign=ics\n\n-12/19(月)10:00
 ～12/23(金)18:00まで！期間内なら、いつでもどこでも視
 聴可能！-※2022年2月に公開されたオンライン配信のア
 ーカイブ動画となります。※好評の声を受け再配信！\
 n概要\n「ランディングページ（LP）を作りたいけど、
 成果につながるLPの作り方が分からない。」「LPを作っ
 てみたものの、成果につながらず苦戦している。」「L
 Pの基礎を1から振り返ってみたい。」そんなお悩みあ
 りませんか？\n成果の出るLPは、売上を向上させ、ビジ
 ネスを大きく成長させることにつながります。しかし
 、構成や文言一つで成果が変わるLP運用を難しいと感
 じる人は増えており、自身の課題と捉える方が多くい
 らっしゃるのが現状です。\nそこで本動画では…20年間
 、Web業界に従事。成果の出やすいサイト制作を得意と
 するWeb制作のプロが、\n・そもそもLPとは何なのか？・
 どういう手順でLPを作っていくのがいいのか？・売れ
 るLPに必要な構成づくりとはなにか？・LP制作を外部へ
 依頼する際の注意点・確認ポイントは何か？・LP公開
 後の運用で必要なこととは？　など\n売れるLP作りに必
 要なノウハウをご紹介させていただきます。\n本動画
 を視聴すると、LPについての基礎知識から、LPを作るた
 めの能力、LP制作を外注するコツを身に着けることが
 可能です。\n期間内いつでも視聴可能な無料オンライ
 ン配信セミナーです。この機会にぜひ、ご視聴くださ
 いませ！\nこんな方におすすめです\n\nランディングペ
 ージ（LP）制作に携わっている方\nLP制作に関する入門
 的な知識を習得したい方\n売れるLPに必要なポイントを
 知りたい方\nLP制作を外注する予定のある方\n\n視聴動
 画内容\n・はじめに・LP制作ってどうやるの？～LPの基
 礎から、売れる構成づくり編～・LP制作を外注したい
 ！発注者が押さえておくべき注意点とは？～デザイン
 ・コーディング編～・公開してからが本番！LP公開後
 の運用方法とは？※約30分～50分ほどの講演内容となり
 ます。・おわりに\n登壇者\n株式会社トラム　代表取締
 役＆プロデューサー田中一彦\nWeb業界に20年従事してお
 り、ビジネスを踏まえて企画から参加することでより
 成果の出やすいサイト制作を得意としています。新し
 いものが好きなので、進歩やトレンドの移り変わりが
 早いWeb業界が天職だと考えています。\n\n開催概要\n◆
 日時：202212月19日（月）10:00～12月23日（金）18:00◆会場
 ：オンライン開催（Zoom）★【オンデマンド配信型】期
 間内ならいつでもどこでも視聴可能です★◆費用：無
 料\n注意事項\n※Zoomを使用した配信となります。※セ
 ミナー中の録音、撮影はご遠慮ください。※同業種・
 個人のお客様からのご応募はお断りする場合がござい
 ますのでご了承ください。※2022年2月に公開されたオ
 ンライン配信のアーカイブ動画となります。
LOCATION:オンラインツール＜Zoom＞
URL:https://techplay.jp/event/884556?utm_medium=referral&utm_source=ics&utm
 _campaign=ics
END:VEVENT
END:VCALENDAR
