BEGIN:VCALENDAR
VERSION:2.0
PRODID:-//https://techplay.jp//JP
CALSCALE:GREGORIAN
METHOD:PUBLISH
X-WR-CALDESC:PHPerのための「2022年アドベントカレンダー」
 を読み漁るPHP TechCafe
X-WR-CALNAME:PHPerのための「2022年アドベントカレンダー」
 を読み漁るPHP TechCafe
X-WR-TIMEZONE:Asia/Tokyo
BEGIN:VTIMEZONE
TZID:Asia/Tokyo
BEGIN:STANDARD
DTSTART:19700101T000000
TZOFFSETFROM:+0900
TZOFFSETTO:+0900
TZNAME:JST
END:STANDARD
END:VTIMEZONE
BEGIN:VEVENT
UID:885050@techplay.jp
SUMMARY:PHPerのための「2022年アドベントカレンダー」を読
 み漁るPHP TechCafe
DTSTART;TZID=Asia/Tokyo:20230124T190000
DTEND;TZID=Asia/Tokyo:20230124T203000
DTSTAMP:20260425T003911Z
CREATED:20221212T080541Z
DESCRIPTION:イベント詳細はこちら\nhttps://techplay.jp/event/88505
 0?utm_medium=referral&utm_source=ics&utm_campaign=ics\n\n今回のTechCaf
 eテーマ\nPHPer's NEWS !!\nPHPやWeb技術関連の最新情報・記
 事など、PHPerが聞きたいニュースをピックアップして
 紹介します！！\n"一緒に語り合う枠" の方はもちろん
 、"聞き専枠" の方も、チャットを使って意見交換・情
 報交換をしましょう！\n特集：「2022年アドベントカレ
 ンダー」を読み漁る\n年末のアドベントカレンダーに
 ついて、PHP関連のものを読み漁ります！来年のアドベ
 ントカレンダーに向けて、早くも準備体操をしましょ
 う！！\n（このカレンダーを読みたい！！取り上げて
 欲しい！！といった意見があれば、連絡お待ちしてい
 ます！）\nShowNote\n== 作成中 ==※内容が変更になる場合
 がありますので、ご了承ください。\n過去の議題一覧\n
 2022年度\n\n12月開催：「PHPerのための「PHP8.2のリリース
 」を祝い合う」   ShowNote\n\n11月開催：「PHPerのための「
 PHPのフレームワーク」を語り合う」   ShowNote\n\n10月開
 催：「PHPerのための「PHPのリーダブルなコード」を語
 り合う」 ShowNote\n\n9月開催：「PHPerのための「PHPカンフ
 ァレンス2022」を語り合う」 ShowNote\n\n8月開催：「PHPer
 のための「PHP8.2の新機能」を語り合う」 ShowNote\n\n7月
 開催：「PHPerのための「PHPDoc相談会」」 ShowNote\n\n6月開
 催：「PHPerのための「Composer」を語り合う」ShowNote\n\n5
 月開催：「PHPerのための「静的解析」を語り合う」 Show
 Note\n\n4月開催：「PHPer Kaigi 2022 を振り返る」 ShowNote\n\n3
 月開催：「Laravel 9 について語る」 ShowNote\n\n2月開催：
 「PHPerのための「Xdebugの活用方法」を語る」 ShowNote\n\n1
 月開催：「2021年のPHP/Laravel振り返り＋2022年」を語る」
 ShowNote\n\n\n2021年度\n\n12月開催：「PHPerのためのPHP8.1を
 もっと語り合う」 ShowNote 内容書き起こし\n\n11月開催：
 「PHP カンファレンス 2021を振り返る」 ShowNote\n\n10月開
 催：「Laravel 入門を語り合う」 ShowNote\n\n9月開催：「PHP
 Unit の始め方について語りあう」 ShowNote 内容書き起こ
 し\n\n8月開催：「PHP8.1 の新機能について語り合う」 Sho
 wNote 内容書き起こし1 内容書き起こし2\n\n7月開催：「PH
 Perの今とその先を語り合うフォーラム2021」 ShowNote 内
 容書き起こし\n\n6月開催：「PHPUnit について語り合う」
  ShowNote\n\n5月開催：「PHPDocについて語り合う」 ShowNote\n
 \n4月開催：「PHP標準コーディングルール（PSR）につい
 て語り合う」 ShowNote\n\n1月開催：「2020年のPHP/Laravel振
 り返り＋2021年」 ShowNote\n\n\n2020年度\n\n12月開催：「Larav
 el/PHP8/Dockerで開発環境作りを語り合う」 ShowNote\n\n11月
 開催：「Laravel8を中心に語り合う」 ShowNote\n\n10月開催
 ：「PHPのニュースや記事を語り合う」 ShowNote\n\n9月開
 催：「『PHP8』のニュースや記事を語り合う」 ShowNote\n\
 n8月開催：「PHPのニュースや記事を語り合う」 ShowNote\n
 \n7月開催：「PHPのニュースや記事を語り合う」 ShowNote\
 n\n6月開催：「PHPのニュースや記事を語り合う」 ShowNote
 \n\n\n◆2021年度のPHPTechCafeまとめ記事毎月開催しているP
 HPerのための学習コミュニティ、PHPTechCafe【21年度 まと
 め】\n過去のイベント風景はこちら（Facebookのアルバム
 へのリンクです）\nhttps://business.facebook.com/RAKUS.pr/photos/a
 .2704257409863130/2704257419863129/?type=3&theaterhttps://business.facebo
 ok.com/RAKUS.pr/photos/a.2704257409863130/2704257529863118/?type=3&theate
 r\n主催出演者の紹介\nY-Kanoh\n2016年新卒でラクスへ入社
 。入社後、配配メール開発チームへ参画し、現在はメ
 ールディーラーの開発チームに所属。入社と同時にPHP
 を扱い始め、趣味でLaravelやDocker、Vue.jsを触っています
 。キーボードはHHKB。参加者の皆さんとともに、自分も
 PHPerとしてレベルアップできればと思います！\nMasaKu\n2
 017年新卒でラクスへ入社。配配メールの開発を担当し
 ています。個人でWebサービスを作成したり、興味のあ
 る技術をあれこれ試すのが趣味です。PHPのように、良
 いものを取り入れ続けるエンジニアになることが目標
 です！\nTechCafeについて\n「TechCafe」は、PHPを軸として
 エンジニアと技術が交差する憩いの場（カフェ）にな
 ることを目指し、WebやPHPに関わるITエンジニアがスキ
 ルアップのために開発や勉強、LTや情報共有などを行
 うコミュニティです。普段は、弊社オフィスに来社頂
 き、特定のテーマについてディスカッションや、もく
 もく自習などを行って頂いています。\n弊社の社員も
 参加します。エンジニア同士が楽しみながら学習する
 ためのコミュニティです。お気軽にご参加ください。\
 nよろしければ弊社の 開発者ブログ もご覧ください。
 興味を持たれましたらぜひご参加ください。\n対象者\n
 PHPを入門後の初級エンジニア～シニアエンジニア\n\nエ
 ンジニア同士の学び・情報共有の場をつくり、エキス
 パートまでの自己成長を支援する\n学びの場を一緒に
 支援して頂けるエキスパート以上のかたの参加も大歓
 迎\n\n※入門者向けのスクール系の領域はコミュニティ
 としては対象外としています\n投書箱\nイベントで取り
 上げて欲しいテーマや、イベントの感想、その他ご意
 見等を募集します！お気軽に投稿してください！\n投
 稿は こちら\nSlack\n本コミュニティ用のSlackチャンネル
 にご参加頂ければ幸いです。\nこちらからご参加くだ
 さい\n開催概要\n【日時】2023/01/24(火) 19:00～20:30　※10
 分前から入室可能です！\n【会場】オンライン（Zoom）
 　※TECHPLAYのメッセージ機能、およびイベントページ
 内の「参加者へのお知らせ」欄にて開催前にURLを通知
 いたします。\n【参加費】無料\n【主催】ラクス\n一緒
 に語り合う枠\nPHPやWeb開発に関連するニュースや記事
 をピックアップしてディスカッションします。\n\n\n\n\n
 語り合う方\n\n\n\n\n1\nY-Kanohさん\n\n\n2\nMasaKuさん\n\n\n3\n
 募集中\n\n\n4\n募集中\n\n\n5\n募集中\n\n\n6\n募集中\n\n\n7\n
 募集中\n\n\n\nLT枠（5分）\n\n\n\n\n発表テーマ\n発表者\n\n\
 n\n\n1\n募集中\n募集中\n\n\n2\n募集中\n募集中\n\n\n3\n募集
 中\n募集中\n\n\n\n※確定次第、更新します\n聞き専枠\n
 文字通り、聞くのみのご参加です。マイク・カメラOFF
 でご参加ください。（ホスト側でもコントロールしま
 す）\nタイムテーブル（途中参加OK）\n\n19:00 開始・ご
 挨拶など\n19:10～ 自己紹介\n19:15～ LT会パート ※エント
 リーがあった場合、先着順で発表して頂きます\n19:30～
  ディスカッション開始（LTの数により時間は前後しま
 す）\n20:20 アンケートのお願い、締めのご挨拶\n20:30 終
 了\n\n登壇者情報 詳細\n一緒に語り合う枠\n後日更新し
 ます\nLT枠\n後日更新します\nラクスの利用技術スタッ
 ク（一部）\n\n開発\n\n使用言語：Java、PHP、Swift、Kotlin\n
 MW：PostgreSQL、Postfix、Apache\nFW・ライブラリ：Spring Boot、
 Laravel、Vue.js、jQuery\n開発ツール：eclipse、GitLab、IntelliJ 
 IDEA、Xcode、Android Studio、Flyway、Redmine\nCI・テスト：Seleni
 de、Gradle、JMeter、jUnit、Jenkins\n\n\nインフラ\n\n言語：Pyth
 on\, PHP\nプラットフォーム：オンプレミス\, AWS（EC2、ECS
 、EKS、RDS、S3、Lambda etc）\n仮想化基盤： VMWare\, Nutanix\nI
 aC： Terraform\, Ansible\n運用・監視：Zabbix、Grafana、Prometheu
 s、ElasticStack\nその他ツール：Git、Jenkins、Selenium、Rundeck
 、Serverspec\n\n\n\n\n注意事項\n\n当イベントの内容および
 スケジュールは、予告なく変更となる場合があります
 。予めご了承ください。\n他の参加者の方の妨げにな
 るような行為は禁止、運営側の判断でご退出をお願い
 する場合があります。\nブログやSNS等で当イベントに
 関する発信を行う際は、公序良俗に反する内容のない
 よう、ご協力をお願いします。\n当イベントはオンラ
 イン開催のため、通信状況によって音声や映像の乱れ
 がある場合がございます。\n配信トラブル時のアナウ
 ンスはTwitterより行います。\n当日のイベント風景を録
 画させていただいております。内容は後日レポート記
 事やSNS掲載又は、会員限定の動画配信される場合があ
 りますのでご了承ください。\n\nエンジニア中途採用サ
 イト\nラクスでは、エンジニア・デザイナーの中途採
 用を積極的に行っております！ご興味ありましたら是
 非ご確認をお願いします。https://career-recruit.rakus.co.jp/ca
 reer_engineer/\nカジュアル面談\nどの職種に応募すれば良
 いかわからないという方は、カジュアル面談も随時行
 っております。以下フォームよりお申込みください！h
 ttps://rakus.hubspotpagebuilder.com/visit_engineer/
LOCATION:オンライン
URL:https://techplay.jp/event/885050?utm_medium=referral&utm_source=ics&utm
 _campaign=ics
END:VEVENT
END:VCALENDAR
