BEGIN:VCALENDAR
VERSION:2.0
PRODID:-//https://techplay.jp//JP
CALSCALE:GREGORIAN
METHOD:PUBLISH
X-WR-CALDESC:海外事情から見る営業トレンド予測2023
X-WR-CALNAME:海外事情から見る営業トレンド予測2023
X-WR-TIMEZONE:Asia/Tokyo
BEGIN:VTIMEZONE
TZID:Asia/Tokyo
BEGIN:STANDARD
DTSTART:19700101T000000
TZOFFSETFROM:+0900
TZOFFSETTO:+0900
TZNAME:JST
END:STANDARD
END:VTIMEZONE
BEGIN:VEVENT
UID:885197@techplay.jp
SUMMARY:海外事情から見る営業トレンド予測2023
DTSTART;TZID=Asia/Tokyo:20221220T110000
DTEND;TZID=Asia/Tokyo:20221220T120000
DTSTAMP:20260419T194753Z
CREATED:20221213T114441Z
DESCRIPTION:イベント詳細はこちら\nhttps://techplay.jp/event/88519
 7?utm_medium=referral&utm_source=ics&utm_campaign=ics\n\n今回のウェ
 ビナーでは、2022年の営業トレンド振り返りと、海外事
 情から見た2023年の営業トレンドについて、海外のBtoB
 営業事情に詳しい Magic Moment がお伝えいたします。\n202
 2年も様々なワードがトレンドになりました。オンライ
 ン営業、AI営業、データ活用、ソーシャルセリング、
 ハイブリッド営業 etc…新型コロナウィルスの影響でお
 客様の購買行動が変わり、顧客ニーズを捉えきるのが
 難しい時代を迎え、組織変革を余儀なくされた企業も
 多かったと思います。\n一方で、その変革をうまく進
 め、営業生産性を飛躍的に伸ばしている企業も出てき
 ました。営業スタイルも大きな転換期を迎えている今
 、最適な営業スタイルの在り方とはなんでしょうか。\
 n実はアメリカでは、コロナ禍になる以前から営業のオ
 ンライン化やDX化が進んでいました。元々ビジネスが
 盛んなことに加え、国土の広さから”訪問するスタイ
 ル”は非効率でどんどんオンライン化が進みました。
 そして、2010年頃からフォーブス誌でも話題になったSal
 esforceは、アメリカの営業DXを牽引し、2017年頃には飛躍
 的な成長を遂げます。\nしかしその一方で、SFAだけで
 はデータの可視化まではできても、データの活用まで
 は進まないと2018年頃からSales Engagement Platform(以下、SEP)
  と呼ばれる営業支援ツールの活用が必須となる勢いで
 広まり、現在では87％の営業組織で導入されるように
 なってきました。\nでは日本は一体今どういう状態な
 のか、アメリカと比べて10年遅れていると言われてい
 ますが、果たして本当にそうなのか、今のアメリカの
 営業組織ではどこまで営業DXは進んでいるのか、今回
 はそのような『海外事情から見る2023年の営業トレンド
 』の考察をお伝えさせていただきます。\nぜひ皆様の20
 23年の飛躍的な成長に繋がれば幸いでございます。\nこ
 のウェビナーでは以下のようなことが聞けます。\n\nア
 メリカの営業DXの歴史と現在\n2022年、日本の営業組織
 の実態\n海外事情から見て2023年以降の営業組織に求め
 られること\n\n概要\n\n\n\n\n\n\n\n\n\n対象\n営業責任者・
 マネージャー/事業責任者/DX担当/経営企画\n\n\n日時\n12
 月20日（火） 11:00 – 11:45\n\n\n内容\n・アメリカの営業DX
 の歴史と現在・2022年、日本の営業組織の実態・海外事
 情から見て2023年以降の営業組織に求められること\n\n\n
 会場\nオンライン（Zoom）\n\n\n費用\n無料\n\n\n参加方法\n
 お申込み後、メールにて視聴用URLが届きます。\n\n\nご
 不明点・ご質問\n弊社ホームページよりお問い合わせ
 ください。\n\n\n注意事項\n＊同業他社様のご参加はご
 遠慮いただいております。＊弊社からのメールを配信
 解除されている方は、お手数ですが、申込時に表示さ
 れる再配信設定にて再登録をよろしくお願いいたしま
 す。当日のzoomURLを送付させていただきます。【プライ
 バシーポリシーについて】今回ご提供いただく個人情
 報は、プライバシーポリシーに基づき厳重に管理いた
 します。株式会社Magic Moment 個人情報保護方針\n\n\n
LOCATION:Zoom
URL:https://techplay.jp/event/885197?utm_medium=referral&utm_source=ics&utm
 _campaign=ics
END:VEVENT
END:VCALENDAR
