BEGIN:VCALENDAR
VERSION:2.0
PRODID:-//https://techplay.jp//JP
CALSCALE:GREGORIAN
METHOD:PUBLISH
X-WR-CALDESC:2023年おさえておきたいマーケティングの鉄則
 を3社が徹底解説！SNS・SEO・サイトの最適化ノウハウ
X-WR-CALNAME:2023年おさえておきたいマーケティングの鉄則
 を3社が徹底解説！SNS・SEO・サイトの最適化ノウハウ
X-WR-TIMEZONE:Asia/Tokyo
BEGIN:VTIMEZONE
TZID:Asia/Tokyo
BEGIN:STANDARD
DTSTART:19700101T000000
TZOFFSETFROM:+0900
TZOFFSETTO:+0900
TZNAME:JST
END:STANDARD
END:VTIMEZONE
BEGIN:VEVENT
UID:885315@techplay.jp
SUMMARY:2023年おさえておきたいマーケティングの鉄則を3
 社が徹底解説！SNS・SEO・サイトの最適化ノウハウ
DTSTART;TZID=Asia/Tokyo:20230112T140000
DTEND;TZID=Asia/Tokyo:20230112T150000
DTSTAMP:20260420T154711Z
CREATED:20221214T080028Z
DESCRIPTION:イベント詳細はこちら\nhttps://techplay.jp/event/88531
 5?utm_medium=referral&utm_source=ics&utm_campaign=ics\n\n2023年おさえ
 ておきたいマーケティングの鉄則を3社が徹底解説！SNS
 ・SEO・サイトの最適化ノウハウ\n本セミナーでは、SNS
 ・SEO・サイトの流入を拡大し、最適化を図るための戦
 略や制作プロセスをお伝えします。具体的な事例をも
 とに、より集客効果を上げるためのテクニックも解説
 いたします！\n– 当日のプログラム–\n第１部（14:00~14
 :15）：株式会社BESW\nSNS経由で《新規リーチ獲得〜サイ
 ト流入》までの最大化を狙う戦略術を大公開！\n昨今
 の新型コロナウイルス感染症拡⼤の状況下で、あらた
 に「オンライン」営業活動にデジタルシフトが加速し
 、これまでWEBマーケティングに予算を投じていない企
 業もデジタルに注目が集まる時代になりました。しか
 し、WEBとはいっても何から手を付ければいいのか分か
 らない・方向性が分からない企業担当者様も多いので
 はないでしょうか。本セミナーではSEO対策でWEBサイト
 の流入を拡大する論理的で再現性のあるコンテンツ制
 作プロセスをお伝えします。また、集客や商談率UPに
 繋がった事例を基に戦略づくりの前提となる考え方を
 整理し、管理体制の整ったアカウントを運用方法も詳
 細に解説します。\n– こんな方におすすめです –・集
 客全体にお困りのマーケティング担当者・SNSマーケテ
 ィングに対しての必要性が理解できていない経営層の
 方・マーケティングに課題を持たれている中小企業の
 方・サイトからの成約率を高めたいWEBサイト運用担当
 者・顧客の集客に課題を感じている経営者層、マーケ
 ティング担当者・自社メディアの成果を伸ばす手法を
 知りたい方\n– こんなことが学べます –・SNS最新動向
 ・SNS集客におけるユーザーコミュニケーションの必要
 性・SNSの運用戦略の立て方・SNSを運用する上で役に立
 つテクニック・SNS上のSEO対策・ウェブサイトとの連携
 ・各SNSの機能とその使い分け（ Twitter / Instagram / LINE / T
 ikTok ）\n第２部（14:15~14:30）：株式会社S-fleage(エスフレ
 イジ)\n70%以上の確率でSEO検索順位が上がるコンテンツ
 記事制作方法を公開！\nSEOは何をしているかよくわか
 らないというお話しを多くの企業担当者の方から聞き
 ますが、そんなブラックボックなSEOにおいて再現性を
 持ってどんなキーワードでも上位表示させられるSEOの
 コンテンツ制作手順があります。トリッキーな話しで
 はなく、SEOの原理原則に沿った事ですので、それを知
 ればSEOの上げ方も理解できるようになります。\n– こ
 んな方におすすめです –・SEOはまだ初心者で何から始
 めたら良いのかわからないという方・SEOのためにコン
 テンツ記事を書いているが、今の制作の仕方で良いの
 かわからない方\n– こんなことが学べます –・どんな
 キーワードでも再現性を持って、上位表示させられるS
 EOの考え方・手法を学ぶことができます。\n\n第3部（14:
 30~14:45）：株式会社フリップデスク（Flipdesk Inc.）\n集
 客効果の抜本改革に！平均ROAS 1500％超え 離脱防止やCVR
 改善ができる「WEB接客」\n集客経路やクエリ―別にサ
 イトを最適化できるWEB接客ツールで、集客効果を底上
 げしませんか？本セミナーでは、1\,600サイトを超えるF
 lipdeskの支援実績から、カスタマージャーニーに寄り添
 うサイト接客ノウハウを具体例を交えてご紹介します
 。\n– こんな方におすすめです –・集客効果の低迷に
 悩んでいる・LPOを見直したい（多様な経路から集客し
 たユーザーに合わせて最適化していない）・コンバー
 ジョン率を上げたい・離脱を防止したい\n– こんなこ
 とが学べます –・集客効果が上がるポイント・具体的
 な活用例、実績・ツール選びのポイント\n\n\nー 登壇者
  ー\n株式会社BESW　株式会社代表取締役社長田中 千晶
 （Tanaka Chiaki）2009年、大学在学中に会社を設立し、1年
 半で大手企業、中小企業50社と取引をする。Webプロモ
 ーション支援を得意とし、特にSNS活用支援で多くの実
 績をもつ。2012年から全国各地でセミナーを精力的に実
 施。シリコンバレーのFacebook本社やTwitter本社へ毎年出
 向いて直接SNSの最先端情報を仕入れてきている。角川
 出版社、マイナビ社、技術評論社、翔泳社、インプレ
 ス社でマーケティング支援の書籍を6冊出版。連載も7
 社で行う。自身のラジオ番組、パーソナリティとして
 も活動し、SNSの最新情報を届けている。\n\n株式会社S-f
 leage(エスフレイジ) 代表取締役社長永井 雄一（Nagai Yuic
 hi）前職は株式会社サイバーエージェントのアカウン
 トプランナーとして国内大手企業様のwebマーケティン
 グ戦略の支援に携わっておりました。2016年に現在の株
 式会社S-fleaegを起業し、S-fleageでは国内企業様のSEO領域
 に強みを持って支援を行っております。京都大学大学
 院では経営学（MBA）を専攻し、その中でもマーケティ
 ングが専門。現在日本マーケティング学会会員。これ
 からマーケティングを強化されていく企業様のリード
 ジェネレーションをSEO領域から支援をしております。\
 n\n株式会社フリップデスク（Flipdesk Inc.）マーケティン
 グチーム山下 美里（Yamashita Misato）総合代理店での広
 告制作や、金融業界でのマーケティング経験を経てフ
 リップデスクへ入社。 マーケティングチームの一員と
 して、新規顧客開拓及びナーチャリングの他、コンテ
 ンツ制作にも従事。顧客体験（CX）の向上やDX推進に勤
 しむあらゆる企業・団体に向けて、フリップデスクは
 何ができるのかを発信。\n– 詳細 –\n【イベント名】
 　2023年おさえておきたいマーケティングの鉄則を3社
 が徹底解説！SNS・SEO・サイトの最適化ノウハウ\n【日
 程】2023年1月12日(木)14:00~15:00\n【タイムスケジュール】
 ・14:00~14:15 株式会社BESW・14:15~14:30 株式会社S-fleage(エス
 フレイジ)・14:30~14:45 株式会社フリップデスク（Flipdesk 
 Inc.）・14:45~15:00 質疑応答、アンケート案内\n【定員】
 　100名\n【開催場所】　オンライン配信（Zoom）\n【視
 聴方法】　セミナー開始前に送られるZoomウェビナーに
 ご登録ください。\n【参加費】　無料\n【共催】　株式
 会社BESW／株式会社S-fleage(エスフレイジ)／株式会社フ
 リップデスク（Flipdesk Inc.）\n注意事項\n・WEBのみの開
 催となりますので、ご了承ください。エントリーいた
 だいた方に、前日までに参加用のURLをお送りします。
 ※WEBツール：Zoomウェビナー・競合、同業社様のご参加
 はお断りいたします。
LOCATION:オンライン
URL:https://techplay.jp/event/885315?utm_medium=referral&utm_source=ics&utm
 _campaign=ics
END:VEVENT
END:VCALENDAR
