BEGIN:VCALENDAR
VERSION:2.0
PRODID:-//https://techplay.jp//JP
CALSCALE:GREGORIAN
METHOD:PUBLISH
X-WR-CALDESC:【AIエンジニアへの第一歩】E資格を学習・取
 得するメリットとは？ 全人類がわかるE資格講座ご紹
 介セミナー
X-WR-CALNAME:【AIエンジニアへの第一歩】E資格を学習・取
 得するメリットとは？ 全人類がわかるE資格講座ご紹
 介セミナー
X-WR-TIMEZONE:Asia/Tokyo
BEGIN:VTIMEZONE
TZID:Asia/Tokyo
BEGIN:STANDARD
DTSTART:19700101T000000
TZOFFSETFROM:+0900
TZOFFSETTO:+0900
TZNAME:JST
END:STANDARD
END:VTIMEZONE
BEGIN:VEVENT
UID:885632@techplay.jp
SUMMARY:【AIエンジニアへの第一歩】E資格を学習・取得す
 るメリットとは？ 全人類がわかるE資格講座ご紹介セ
 ミナー
DTSTART;TZID=Asia/Tokyo:20230118T190000
DTEND;TZID=Asia/Tokyo:20230118T200000
DTSTAMP:20260426T033253Z
CREATED:20221218T070847Z
DESCRIPTION:イベント詳細はこちら\nhttps://techplay.jp/event/88563
 2?utm_medium=referral&utm_source=ics&utm_campaign=ics\n\n概要\n本セ
 ミナーは、AIエンジニア資格「E資格」の対策講座ご紹
 介セミナーです。\n 各AIエンジニアリングを学びたい
 が、どこから始めたらよいか分からないという方に最
 適な「E資格」について、概要やメリット、対策方法の
 Tipsなどをお話しいたします。\n AIエンジニアリングを
 学びたい方、E資格に興味がある方は、ぜひ本セミナー
 にご参加ください。\n開催情報\n\n日程：2023年1月18日（
 水）19:00〜 20:00\n会場：Zoomウェビナー（オンライン）\n
 参加費：無料\n主催：株式会社AVILEN\n\n注意事項\n\n競合
 製品をお取り扱いされている企業様はご参加をお断り
 する場合がございます。\nその他、主催者の判断で参
 加に相応しくない方は、参加をお断りする場合がござ
 いますので何卒ご了承ください。\nセミナーへお申し
 込みいただいた方へは、後日参加方法を記載したメー
 ルをお送り致しますので、1社から複数名様ご参加頂く
 場合でも1名様ずつお申込みください。\n\n株式会社AVILE
 N\nAVILENは「最新のテクノロジーを、多くの人へ」をビ
 ジョンに掲げ、より多くの人々が最先端のテクノロジ
 ーを理解・活用できる豊かな社会の実現を目指すスタ
 ートアップ企業です。現在、AI人材育成事業・AI開発事
 業の2つを軸に、顧客のビジネス課題解決に向けてAIの
 トータルソリューションを提供しています。
LOCATION:オンライン
URL:https://techplay.jp/event/885632?utm_medium=referral&utm_source=ics&utm
 _campaign=ics
END:VEVENT
END:VCALENDAR
