BEGIN:VCALENDAR
VERSION:2.0
PRODID:-//https://techplay.jp//JP
CALSCALE:GREGORIAN
METHOD:PUBLISH
X-WR-CALDESC:今年一番人気セミナーを再配信！ Power Apps ア
 プリ開発セミナー ～モデル駆動型アプリを活用した営
 業管理ツールの作成～＆Microsoft AzureでApp Serviceを使っ
 てみようセミナー
X-WR-CALNAME:今年一番人気セミナーを再配信！ Power Apps ア
 プリ開発セミナー ～モデル駆動型アプリを活用した営
 業管理ツールの作成～＆Microsoft AzureでApp Serviceを使っ
 てみようセミナー
X-WR-TIMEZONE:Asia/Tokyo
BEGIN:VTIMEZONE
TZID:Asia/Tokyo
BEGIN:STANDARD
DTSTART:19700101T000000
TZOFFSETFROM:+0900
TZOFFSETTO:+0900
TZNAME:JST
END:STANDARD
END:VTIMEZONE
BEGIN:VEVENT
UID:885902@techplay.jp
SUMMARY:今年一番人気セミナーを再配信！ Power Apps アプリ
 開発セミナー ～モデル駆動型アプリを活用した営業管
 理ツールの作成～＆Microsoft AzureでApp Serviceを使ってみ
 ようセミナー
DTSTART;TZID=Asia/Tokyo:20221223T130000
DTEND;TZID=Asia/Tokyo:20221223T150000
DTSTAMP:20260421T074149Z
CREATED:20221220T062952Z
DESCRIPTION:イベント詳細はこちら\nhttps://techplay.jp/event/88590
 2?utm_medium=referral&utm_source=ics&utm_campaign=ics\n\n【オンライ
 ンセミナー】今年一番人気セミナーを再配信！Power Apps
  アプリ開発セミナー～モデル駆動型アプリを活用した
 営業管理ツールの作成～＆Microsoft AzureでApp Serviceを使
 ってみよう\nプログラム\n【前半】13:00～14:00  ローコ
 ードアプリ開発の真偽やいかに!? Power Apps アプリ開発
 セミナー  ～モデル駆動型アプリを活用した営業管理
 ツールの作成～  ・Power Appsの概要  ・Power Appsでアプ
 リを作成（実演）\n【後半】14:00～14:30  Microsoft Azureで
 App Serviceを使ってみようセミナー  ・Azureの概要  ・A
 zure App ServiceでWebサイトを作成（実演）\n概要\n先般、9
 月のイベント及び11月29日にて配信したPower Appsセミナ
 ーが大変ご好評いただきましたので、 一部撮り直し
 をした上で、再々配信が決定いたしました！年末最後
 のセミナーということで、Power AppsとAzureの二本立てで
 お送りします！前回見逃した方も、復習でもう一度ご
 覧になりたい方も、是非ご参加頂けますと幸いです。\
 n前半のセミナーではアプリ開発ツールである「Power App
 s」の初心者の方向けに、Power Appsサービスの概要から
 アプリ作成のデモをご紹介いたします。デモでは、営
 業フローの進捗管理アプリをテーマに、「モデル駆動
 型アプリ」のテーブルやビュー、入力フォームの作成
 等を実演いたします。\n後半のセミナーでは「Microsoft A
 zure」の初心者の方向けに、Azureの概要からPaaS（Platform 
 as a Service）の設定デモをご紹介します。デモでは、Azur
 e App Serviceを利用して、Webサイトを作って簡単に公開す
 る方法を実演いたします。\nそれぞれITの専門家ではな
 い文系営業マンが操作の実演を交えてご紹介させてい
 ただきますので、「市民開発者育成」や「クラウド化
 の推進」のきっかけになるセミナーとなります。DX推
 進やノーコード・ローコード、クラウド化、PaaSにご興
 味ある方はご参加ください。\n参加方法\n①ご登録後、
 事務局から当日のオンラインセミナー参加用URLが記載
 されたメールが送付されます。②セミナー当日はセミ
 ナー参加用のURLをクリックし、オンラインセミナーへ
 ご参加ください。\n参加費\n無料\n注意事項\n・セミナ
 ーお申込後の自動返信メールにオンラインセミナーへ
 の招待URLが記載されております。 当日はそちらのURL
 からセミナーへご参加くださいませ。※1社複数名様で
 ご参加ご希望の場合は、お手数ではございますが ご
 参加いただきます各皆様分のお申し込みをいただきま
 すようお願いいたします。・セミナーの品質向上のた
 め、本セミナーの内容を録画させていただきますが、
  あらかじめご了承くださいませ。・セミナー参加中
 は、カメラ・マイクをお切りになってご参加いただき
 ますようお願い いたします。※状況に応じて、運営
 よりカメラ・マイクを切らせていただく場合がござい
 ます。
LOCATION:※セミナー配信URLをお申込み時のメールアドレス
 宛に別途ご連絡させていただきます。  お申し込みの
 際、メールアドレスの入力に誤りがないようご注意く
 ださいませ。
URL:https://techplay.jp/event/885902?utm_medium=referral&utm_source=ics&utm
 _campaign=ics
END:VEVENT
END:VCALENDAR
