BEGIN:VCALENDAR
VERSION:2.0
PRODID:-//https://techplay.jp//JP
CALSCALE:GREGORIAN
METHOD:PUBLISH
X-WR-CALDESC:【Qlik Japan Live】シンガポールからライブ配信
 ！2023年のQlik最新動向を知ろう
X-WR-CALNAME:【Qlik Japan Live】シンガポールからライブ配信
 ！2023年のQlik最新動向を知ろう
X-WR-TIMEZONE:Asia/Tokyo
BEGIN:VTIMEZONE
TZID:Asia/Tokyo
BEGIN:STANDARD
DTSTART:19700101T000000
TZOFFSETFROM:+0900
TZOFFSETTO:+0900
TZNAME:JST
END:STANDARD
END:VTIMEZONE
BEGIN:VEVENT
UID:885920@techplay.jp
SUMMARY:【Qlik Japan Live】シンガポールからライブ配信！2023
 年のQlik最新動向を知ろう
DTSTART;TZID=Asia/Tokyo:20230118T130000
DTEND;TZID=Asia/Tokyo:20230118T133000
DTSTAMP:20260421T020937Z
CREATED:20221220T075317Z
DESCRIPTION:イベント詳細はこちら\nhttps://techplay.jp/event/88592
 0?utm_medium=referral&utm_source=ics&utm_campaign=ics\n\n【Qlik Japan Li
 ve】シンガポールからライブ配信！2023年のQlik最新動向
 を知ろう\n1/17追記：配信開始時刻は13:05頃となります
 。少し前後する可能性はありますがご了承ください。
 配信の閲覧URLは申込後にこのページ上段の「参加者へ
 のお知らせ」に表示されます。\nQlik Japan Liveとは？\n202
 3年最初のQlikイベントはQlik Japan Live!!!第1回目はなんと
 、シンガポールからライブ配信します。\n当日は、シ
 ンガポールでQlik社のSales Kick Off (SKO)が行われています
 。SKOでは、Qlik経営陣からパートナーや社員に向けて今
 年の方針や製品アップデートなど最新情報が共有され
 ます。そこで、このライブ配信では、SKOの会場からQlik
 の最新情報を会場の熱気とともにお届けします。\nま
 た、このライブ配信は2023年からスタートするQlikユー
 ザー会の取り組みの一部として行われるものです。今
 後のユーザー会の活動についてもこの配信のなかでア
 ナウンスがありますので、Qlikユーザーの方はぜひご覧
 ください。※Qlikユーザー以外の方もご視聴可能です！
 Qlikにご興味のある方、Qlikパートナーの皆さまも奮っ
 てご参加ください。\nアジェンダ\n\nQlik SKO最新情報\nQli
 k Japan Live配信について\nQlik Japan User Meetup (ユーザー会)
 について\n\n※アジェンダは当日予告なく変更になる可
 能性がございます。\n参加方法\nこのページからイベン
 トに申込いただき、イベントの日時になりましたら「
 参加者へのお知らせ」に記載の配信URL(Zoom)にアクセス
 してください。\n配信日時について\n配信日時は2023年1
 月18日の日本時間13時ごろから15分～30分程度を予定し
 ておりますが、海外からのライブ配信となりますので
 直前に時間が変更になる可能性がございます。当日は
 こちらのイベントページのアナウンスやTech Playからの
 メール配信などを確認してください。\n参加対象\n\nQlik
 ユーザー、Qlikにご興味のある方、Qlikパートナー、ど
 なたでもご参加いただけます。\n\n参加費\n無料
LOCATION:オンライン(Zoom)
URL:https://techplay.jp/event/885920?utm_medium=referral&utm_source=ics&utm
 _campaign=ics
END:VEVENT
END:VCALENDAR
